From mboxrd@z Thu Jan 1 00:00:00 1970 Return-Path: Received: from mails.dpdk.org (mails.dpdk.org [217.70.189.124]) by inbox.dpdk.org (Postfix) with ESMTP id B78AA4670F for ; Sat, 10 May 2025 17:05:58 +0200 (CEST) Received: from mails.dpdk.org (localhost [127.0.0.1]) by mails.dpdk.org (Postfix) with ESMTP id B0A6340270; Sat, 10 May 2025 17:05:58 +0200 (CEST) Received: from mail-qv1-f100.google.com (mail-qv1-f100.google.com [209.85.219.100]) by mails.dpdk.org (Postfix) with ESMTP id 5D43C4026C for ; Sat, 10 May 2025 17:05:57 +0200 (CEST) Received: by mail-qv1-f100.google.com with SMTP id 6a1803df08f44-6f548a4ea4dso31825696d6.1 for ; Sat, 10 May 2025 08:05:57 -0700 (PDT) DKIM-Signature: v=1; a=rsa-sha256; c=relaxed/relaxed; d=iol.unh.edu; s=unh-iol; t=1746889556; x=1747494356; darn=dpdk.org; h=references:in-reply-to:cc:to:from:subject:message-id:date:from:to :cc:subject:date:message-id:reply-to; bh=zLQW8IQIw2qiuwLFtdtFXVb+QKpTU53ywqMxd4YF27k=; b=Zmr+ONW8Wq2SLht/mCILky+0zXaqKokne8Mr2zLuYDuiVJzsBg/Fc3Vu7UN8nfEqRV uZeLU7+6d5AnY8HGAaxYtByDx8e05Z913bs5TDM5id+r/FieTUqt6IJ5+9Ckm3ohOOT4 c8DqGojt9ZK9/z3bBmn7qYeDPpsCXtktaIWkw= X-Google-DKIM-Signature: v=1; a=rsa-sha256; c=relaxed/relaxed; d=1e100.net; s=20230601; t=1746889556; x=1747494356; h=references:in-reply-to:cc:to:from:subject:message-id:date :x-gm-message-state:from:to:cc:subject:date:message-id:reply-to; bh=zLQW8IQIw2qiuwLFtdtFXVb+QKpTU53ywqMxd4YF27k=; b=AeZJtuGC3yt4CZrqLWhltNDnAtvoxh60alPZW5BmrkHAc7l6+zpwcJgeLFIV1qp7Dn ND8fdwqQPDv6z632rrJ4iwXjlcrE97jfx5XxCc+Za5C+rw6OznlRWlTn7Rpbc7FWXvyn JDiKfFagRZO7L16K9/rClfRtrblM4IDI/Ts/PcNdU8Ncj7ot2C5zXqd45E3mQ5gKIJiQ 9K862Y2B3pH00pNbTIQ+NoL0Cymc21ptPZ+AhI+6LU5NwRFQYbOAalyN8V2LtXgb3hby VSmfNtENNtTz5pffJo5aYd+NIee1kp1OzHqgIx/2Q4tCY7iYyb/hBlAe18Z1lXxBMFNf e6ag== X-Gm-Message-State: AOJu0YxIn8TEcbeJsFUa5K0ajvfy2DLGcSkYpN7qEMjgtlSknMnyOArI SNYXLvOeLC6U1YNLMmJ0cS1WOna9GEal8gZfM7ZwYVorLkC51xLuBowK9TNZO7LLBaoMLYu0+o7 ZukGfFKaoZjU+c/nn7EcCn+DJ56ZF3DdwXWL/q3Zo X-Gm-Gg: ASbGncs1u2uCenIZuOJwjD/M45nIpbvdVWUxheZ6L9O9Ces59UV503u9u8QrUXaF7/x n/46wutVdBokC5gtChT6joAyjoSrPoJYVIo8t00i/KPpXPIuZuuxg7I48yu6AxsCyWp/NKhMpFm P4BbRoz66MwvnhAcEoPCRzFCQM9mzM25Yc5f4nz2x6PuBntgzndp3fB3ylOZkdUQRb0l5zYHYxJ e9Rl7zj6v2I/uYR6IMpo0a5Ud4MV54gaTEJ/0Ga2gyxiA3ayYutW8UnxCyPDK/93UwgvKrh/45H F5rOZZ4EkBpzIbTfEMzegEVtWSKkJwiZywhlBbjBhRUXtC/5cCM9SxoGcmU= X-Google-Smtp-Source: AGHT+IHsUuezrxyC4+G7WuINDkGn7Xf3ZU61qFDqAgtrBxBVUWu5hcD6did+QmpnZMQKBsGNB7Dv70CJQA+b X-Received: by 2002:a05:6214:242e:b0:6f2:c94f:8cfe with SMTP id 6a1803df08f44-6f6e47c9815mr124060846d6.23.1746889556672; Sat, 10 May 2025 08:05:56 -0700 (PDT) Received: from postal.iol.unh.edu (postal.iol.unh.edu. [132.177.123.84]) by smtp-relay.gmail.com with ESMTPS id 6a1803df08f44-6f6e39f87b4sm2433416d6.25.2025.05.10.08.05.56 (version=TLS1_2 cipher=ECDHE-ECDSA-AES128-GCM-SHA256 bits=128/128); Sat, 10 May 2025 08:05:56 -0700 (PDT) X-Relaying-Domain: iol.unh.edu Date: Sat, 10 May 2025 08:05:56 -0700 (PDT) Message-ID: <681f6b54.050a0220.205fae.d609SMTPIN_ADDED_MISSING@mx.google.com> Received: from [172.17.0.3] (unknown [172.18.0.74]) by postal.iol.unh.edu (Postfix) with ESMTP id 634306052471; Sat, 10 May 2025 11:05:56 -0400 (EDT) Subject: |SUCCESS| pw153391 [PATCH] crypto/virtio: fix DER encoding of RSA pu From: dpdklab@iol.unh.edu To: Test Report Cc: dpdk-test-reports@iol.unh.edu In-Reply-To: <20250510104103.2081-1-gmuthukrishn@marvell.com> References: <20250510104103.2081-1-gmuthukrishn@marvell.com> Content-Type: text/plain X-BeenThere: test-report@dpdk.org X-Mailman-Version: 2.1.29 Precedence: list List-Id: automatic DPDK test reports List-Unsubscribe: , List-Archive: List-Post: List-Help: List-Subscribe: , Errors-To: test-report-bounces@dpdk.org Test-Label: iol-abi-testing Test-Status: SUCCESS http://dpdk.org/patch/153391 _Testing PASS_ Submitter: Gowrishankar Muthukrishnan Date: Saturday, May 10 2025 10:40:58 DPDK git baseline: Repo:dpdk Branch: master CommitID:ca1690ebd224f148268285b15b97441ccdbdd07e 153391 --> testing pass Upstream job id: Generic-DPDK-Compile-ABI#126012 Test environment and result as below: +-------------------+----------+ | Environment | abi_test | +===================+==========+ | CentOS Stream 9 | PASS | +-------------------+----------+ | CentOS Stream 10 | PASS | +-------------------+----------+ | Debian 12 | PASS | +-------------------+----------+ | Fedora 40 (Clang) | PASS | +-------------------+----------+ | Fedora 40 | PASS | +-------------------+----------+ | Fedora 41 (Clang) | PASS | +-------------------+----------+ | Fedora 41 | PASS | +-------------------+----------+ | openSUSE Leap 15 | PASS | +-------------------+----------+ | RHEL8 | PASS | +-------------------+----------+ | Ubuntu 24.04 | PASS | +-------------------+----------+ | RHEL9 | PASS | +-------------------+----------+ | Ubuntu 22.04 | PASS | +-------------------+----------+ CentOS Stream 9 Kernel: Depends on container host Compiler: gcc 11.5.0 20240719 (Red Hat 11.5.0-2) CentOS Stream 10 Kernel: Depends on container host Compiler: gcc 14.2.1 20241104 (Red Hat 14.2.1-6) Debian 12 Kernel: Depends on container host Compiler: gcc (Debian 12.2.0-14) 12.2.0 Fedora 40 (Clang) Kernel: Depends on container host Compiler: clang 18.1.8 (Fedora 18.1.8-1.fc40) Fedora 40 Kernel: Depends on container host Compiler: gcc 14.2.1 20240912 (Red Hat 14.2.1-3) Fedora 41 (Clang) Kernel: Depends on container host Compiler: clang 19.1.5 (Fedora 19.1.5-1.fc41) Fedora 41 Kernel: Depends on container host Compiler: gcc 14.2.1 20240912 (Red Hat 14.2.1-3) openSUSE Leap 15 Kernel: Depends on container host Compiler: gcc (SUSE Linux) 7.5.0 RHEL8 Kernel: Depends on container host Compiler: gcc 8.5.0 20210514 (Red Hat 8.5.0-22) Ubuntu 24.04 Kernel: Depends on container host Compiler: gcc (Ubuntu 13.3.0-6ubuntu2~24.04) 13.3.0 RHEL9 Kernel: Depends on container host Compiler: gcc 11.5.0 20240719 (Red Hat 11.5.0-2) Ubuntu 22.04 Kernel: Depends on container host Compiler: gcc (Ubuntu 11.4.0-1ubuntu1~22.04) 11.4.0 To view detailed results, visit: https://lab.dpdk.org/results/dashboard/patchsets/33151/ UNH-IOL DPDK Community Lab To manage your email subscriptions, visit: https://lab.dpdk.org/results/dashboard/preferences/subscriptions/