From mboxrd@z Thu Jan 1 00:00:00 1970 Return-Path: Received: from mails.dpdk.org (mails.dpdk.org [217.70.189.124]) by inbox.dpdk.org (Postfix) with ESMTP id 1C2894670F for ; Sat, 10 May 2025 17:08:18 +0200 (CEST) Received: from mails.dpdk.org (localhost [127.0.0.1]) by mails.dpdk.org (Postfix) with ESMTP id E7AF440270; Sat, 10 May 2025 17:08:17 +0200 (CEST) Received: from mail-pl1-f227.google.com (mail-pl1-f227.google.com [209.85.214.227]) by mails.dpdk.org (Postfix) with ESMTP id 1B2074026C for ; Sat, 10 May 2025 17:08:17 +0200 (CEST) Received: by mail-pl1-f227.google.com with SMTP id d9443c01a7336-22fa28c761dso22317765ad.2 for ; Sat, 10 May 2025 08:08:16 -0700 (PDT) DKIM-Signature: v=1; a=rsa-sha256; c=relaxed/relaxed; d=iol.unh.edu; s=unh-iol; t=1746889696; x=1747494496; darn=dpdk.org; h=references:in-reply-to:cc:to:from:subject:message-id:date:from:to :cc:subject:date:message-id:reply-to; bh=QZSID7n9UhjwPATuQXpnFIGFc04Hb55gvnfAdnvX0aw=; b=I7QnvHGAK+bd37xTYhFwmZw0EEn17fVZQwR/Dd8rc2YVwVprRWEJWtrgulOvwCQFPp ExpQL08vWkInr1QtnjXy9eX9C/rYzHzn95V0LDKMv03LWlOSiRWUgoeDjmRW3UX3Hiwe B5yt2b2V72xN21C+ay44apDImEMPV+ZUtRDgA= X-Google-DKIM-Signature: v=1; a=rsa-sha256; c=relaxed/relaxed; d=1e100.net; s=20230601; t=1746889696; x=1747494496; h=references:in-reply-to:cc:to:from:subject:message-id:date :x-gm-message-state:from:to:cc:subject:date:message-id:reply-to; bh=QZSID7n9UhjwPATuQXpnFIGFc04Hb55gvnfAdnvX0aw=; b=AOpp3QhXw8TR13viKLSBmWFkxguOHX/uNbs4wavcDuruiM88jyI7BS0o2LuWZ2pXr0 8CCRGKdDhCzk2ZO2oEdXHNxsj8dVZjcYp0JXSeebvvDTn50j+0B8uF0QyPZQcI5sArjA gcTHYFRCVdegxE8sE19knk6YwUX+rZGETVtv3TCO1A0zqAg+XU6saZGKNnZMzHYS9XYw y8nRDCbDSNIvD55E0chZyw92ISfG/439RyufpKYrBm8l+9Ey/pBh2Wwm9iwDYx3HFXBH kU5eGMCL9kiFGvmrgWawqi+dBcYpUBwL4H5gkpurOihI6BEpViXeMXjuaB/CILVrPrR3 Jveg== X-Gm-Message-State: AOJu0YyFf2PUj95P+QpS59ZuJ8B2u/hBnbo8Hk7Y5w7xAPBwyjZV5mAr 0ETtZGXlmMgzHv99tk0nTHrrGIgx1V+zKUNTX/QDHLCjUHBK8KVDu3EraIp5jXJVjPEiER+GpFg nfpWavIflhRiP1KTpdMdz+5GK/eLIY0y3260RvXeG X-Gm-Gg: ASbGncvXQ7oni7MFQRpAmc/I+71aSuFoLVZlr3eVs1NQeSU9x0pDeNzW1uviiEHZOHs m0mMp/r1VBlcHnIk73VRBaZlvG42rFZlB6uozA6BMzBZOD2ZUBUh17Kr/d64Y18+1VHZzmkrmAs OisPpgKz79I8k7s5DnHJUyCC9AK0mguODSrJlZh473GtqiF7nYPSCb1pGgeD5GXIZquNbaYVMZo DCWD1PAjJexcFQp6RHuZVZvjMTWZ3Z77f5AwyLaMQ5fbwx0Xcsw1kD5NCLllmkQnDBo1tlbe8ia DHhFnoOLQJ7q7ft7+4G67xTugsc9vvHvV8kn30hUAG99++QiByRiXXdyl2c= X-Google-Smtp-Source: AGHT+IG7ME7g/wNjjfPS+YvTHieZZpVsrbDfxpC9nwJVyUPt4HFmddDicJMOYsSWsfDgxfXCyhyWOp3KIPaa X-Received: by 2002:a17:902:d491:b0:220:c4e8:3b9f with SMTP id d9443c01a7336-22fc895bd69mr113501605ad.0.1746889695822; Sat, 10 May 2025 08:08:15 -0700 (PDT) Received: from postal.iol.unh.edu (postal.iol.unh.edu. [132.177.123.84]) by smtp-relay.gmail.com with ESMTPS id d9443c01a7336-22fc6f0f9e0sm2450965ad.86.2025.05.10.08.08.15 (version=TLS1_2 cipher=ECDHE-ECDSA-AES128-GCM-SHA256 bits=128/128); Sat, 10 May 2025 08:08:15 -0700 (PDT) X-Relaying-Domain: iol.unh.edu Date: Sat, 10 May 2025 08:08:15 -0700 (PDT) Message-ID: <681f6bdf.170a0220.f9d31.d930SMTPIN_ADDED_MISSING@mx.google.com> Received: from [172.17.0.4] (unknown [172.18.0.74]) by postal.iol.unh.edu (Postfix) with ESMTP id C42B06052471; Sat, 10 May 2025 11:08:14 -0400 (EDT) Subject: |SUCCESS| pw153391 [PATCH] crypto/virtio: fix DER encoding of RSA pu From: dpdklab@iol.unh.edu To: Test Report Cc: dpdk-test-reports@iol.unh.edu In-Reply-To: <20250510104103.2081-1-gmuthukrishn@marvell.com> References: <20250510104103.2081-1-gmuthukrishn@marvell.com> Content-Type: text/plain X-BeenThere: test-report@dpdk.org X-Mailman-Version: 2.1.29 Precedence: list List-Id: automatic DPDK test reports List-Unsubscribe: , List-Archive: List-Post: List-Help: List-Subscribe: , Errors-To: test-report-bounces@dpdk.org Test-Label: iol-unit-amd64-testing Test-Status: SUCCESS http://dpdk.org/patch/153391 _Testing PASS_ Submitter: Gowrishankar Muthukrishnan Date: Saturday, May 10 2025 10:40:58 DPDK git baseline: Repo:dpdk Branch: master CommitID:ca1690ebd224f148268285b15b97441ccdbdd07e 153391 --> testing pass Upstream job id: Generic-Unit-Test-DPDK#337025 Test environment and result as below: +-------------------+----------------+ | Environment | dpdk_unit_test | +===================+================+ | CentOS Stream 9 | PASS | +-------------------+----------------+ | CentOS Stream 10 | PASS | +-------------------+----------------+ | Fedora 40 | PASS | +-------------------+----------------+ | Debian 12 | PASS | +-------------------+----------------+ | Fedora 40 (Clang) | PASS | +-------------------+----------------+ | Fedora 41 | PASS | +-------------------+----------------+ | Fedora 41 (Clang) | PASS | +-------------------+----------------+ | Ubuntu 20.04 | PASS | +-------------------+----------------+ | RHEL8 | PASS | +-------------------+----------------+ | RHEL9 | PASS | +-------------------+----------------+ | Ubuntu 22.04 | PASS | +-------------------+----------------+ | Ubuntu 24.04 | PASS | +-------------------+----------------+ CentOS Stream 9 Kernel: Depends on container host Compiler: gcc 11.5.0 20240719 (Red Hat 11.5.0-2) CentOS Stream 10 Kernel: Depends on container host Compiler: gcc 14.2.1 20241104 (Red Hat 14.2.1-6) Fedora 40 Kernel: Depends on container host Compiler: gcc 14.2.1 20240912 (Red Hat 14.2.1-3) Debian 12 Kernel: Depends on container host Compiler: gcc (Debian 12.2.0-14) 12.2.0 Fedora 40 (Clang) Kernel: Depends on container host Compiler: clang 18.1.8 (Fedora 18.1.8-1.fc40) Fedora 41 Kernel: Depends on container host Compiler: gcc 14.2.1 20240912 (Red Hat 14.2.1-3) Fedora 41 (Clang) Kernel: Depends on container host Compiler: clang 19.1.5 (Fedora 19.1.5-1.fc41) Ubuntu 20.04 Kernel: Depends on container host Compiler: gcc (Ubuntu 9.4.0-1ubuntu1~20.04.2) 9.4.0 RHEL8 Kernel: Depends on container host Compiler: gcc 8.5.0 20210514 (Red Hat 8.5.0-22) RHEL9 Kernel: Depends on container host Compiler: gcc 11.5.0 20240719 (Red Hat 11.5.0-2) Ubuntu 22.04 Kernel: Depends on container host Compiler: gcc (Ubuntu 11.4.0-1ubuntu1~22.04) 11.4.0 Ubuntu 24.04 Kernel: Depends on container host Compiler: gcc (Ubuntu 13.3.0-6ubuntu2~24.04) 13.3.0 To view detailed results, visit: https://lab.dpdk.org/results/dashboard/patchsets/33151/ UNH-IOL DPDK Community Lab To manage your email subscriptions, visit: https://lab.dpdk.org/results/dashboard/preferences/subscriptions/