From mboxrd@z Thu Jan 1 00:00:00 1970 Return-Path: Received: from mails.dpdk.org (mails.dpdk.org [217.70.189.124]) by inbox.dpdk.org (Postfix) with ESMTP id 968144670F for ; Sat, 10 May 2025 17:13:09 +0200 (CEST) Received: from mails.dpdk.org (localhost [127.0.0.1]) by mails.dpdk.org (Postfix) with ESMTP id 7198940270; Sat, 10 May 2025 17:13:09 +0200 (CEST) Received: from mail-pj1-f99.google.com (mail-pj1-f99.google.com [209.85.216.99]) by mails.dpdk.org (Postfix) with ESMTP id C8C4A4026C for ; Sat, 10 May 2025 17:13:07 +0200 (CEST) Received: by mail-pj1-f99.google.com with SMTP id 98e67ed59e1d1-30820167b47so2624611a91.0 for ; Sat, 10 May 2025 08:13:07 -0700 (PDT) DKIM-Signature: v=1; a=rsa-sha256; c=relaxed/relaxed; d=iol.unh.edu; s=unh-iol; t=1746889987; x=1747494787; darn=dpdk.org; h=references:in-reply-to:cc:to:from:subject:message-id:date:from:to :cc:subject:date:message-id:reply-to; bh=9xlHhF3aNsN6vgf3Fl3D39KClEDHn1lNsymuMKLE0yQ=; b=OhYKKThK8Ww/h8U7Aa0tyWGhANIN2VkS5r9D/rEAoHCUmwmgwqd8LIQlQoKEuT/uFq 2AwY83ekaYQDGaa0CajkNLqAtP+pOzf1iZBG99RBiiXQjCVxkPfONCB8wLsLdKO88MVX hSGLMpU4pJYf9Br4rcizE/HbDRIlTH/H+IdPg= X-Google-DKIM-Signature: v=1; a=rsa-sha256; c=relaxed/relaxed; d=1e100.net; s=20230601; t=1746889987; x=1747494787; h=references:in-reply-to:cc:to:from:subject:message-id:date :x-gm-message-state:from:to:cc:subject:date:message-id:reply-to; bh=9xlHhF3aNsN6vgf3Fl3D39KClEDHn1lNsymuMKLE0yQ=; b=HlwiBa4MvWdSEhrUyQ1FY3QhETDLcP4HUbQFyLhFeNg2SCK5bvw01gmqDXMhQ2HFgI XL1rau0aqdHVIlUyacsmb/11DIH2zsFIBAdQLdejpK76sPjIZdoC8c+iiTxxHIH8weBf ffgQXmS31gAGZqK4melQLAtH2kptAphVd8ZjGWPZXKKUr/CNiD58gwF9q8xoYiYPVrv8 UryzbAt18FbK6D4UOtMNvKR+4Evr0bxo6UDzYv6srQA5X6YcgEkUVPYe4WBcCmwobYol klWV7HTTo15yk0qXmVShZazaehQVzwhL7QKFPL9ipPkCbiYxcjJ0A6AVhacKs4e7lY3m LVFw== X-Gm-Message-State: AOJu0YygJ7uN0+H38UzZ6Cd+ku6NJXmirHQzUnReJ/+gkzKZIuCeJ4tR 3O5fXSkKm1Zcnx79Uud/+jqR0MVw6g2rE/1l0Uxf0IWkUQlAG8KecIhBp4nEXyMEU2sXZ0VHfHA Xt9vHqPrWLNFw/Z4yM4lYj0yam05IRFT1rPr/TH4w X-Gm-Gg: ASbGncvBYLiCLvj1n2320EZkIC6jiecfCO0ddEl4vtrIepVepMWHn0phrtWF8ngVpi0 8FT/nAKV4UVB9UxfMzsTV5Df01rsX3dbJn0bQqAFm9+Nj9qFBZcjF/kidDoj/hXlOsT+RFMCUwh K43BUP86K94ZuvJ7lLXsKg6fypoAvrvY8XXGjv8FK++Pv6MXqAA310Emcos31lrGT4Ay7Tv9smY sHDcHD/L3QvfhbBILgtFc5ftE8sSean3pc0x1NoNyH9Qq0WAIsDJUvSkWclG+XB79433YKRhpY6 1vASKZNCB46nte+Z2J3dd1ZvtYCnd47GdGWZUTxAiY5MveaIzp5t2H17MsA= X-Google-Smtp-Source: AGHT+IGp4hn66E7Nhk60hrsdcw4C/FJDWlx1bX9f7d8ZfP8wxNAmbyPQuXyW4zhQZNkZispGyMl3EWmCG3zM X-Received: by 2002:a17:90b:112:b0:2fa:3b6b:3370 with SMTP id 98e67ed59e1d1-30adbf6d02amr12915733a91.16.1746889986699; Sat, 10 May 2025 08:13:06 -0700 (PDT) Received: from postal.iol.unh.edu (postal.iol.unh.edu. [132.177.123.84]) by smtp-relay.gmail.com with ESMTPS id 98e67ed59e1d1-30c39d93ee0sm257063a91.1.2025.05.10.08.13.06 (version=TLS1_2 cipher=ECDHE-ECDSA-AES128-GCM-SHA256 bits=128/128); Sat, 10 May 2025 08:13:06 -0700 (PDT) X-Relaying-Domain: iol.unh.edu Date: Sat, 10 May 2025 08:13:06 -0700 (PDT) Message-ID: <681f6d02.170a0220.2c4beb.e28aSMTPIN_ADDED_MISSING@mx.google.com> Received: from [172.17.0.2] (unknown [172.18.0.74]) by postal.iol.unh.edu (Postfix) with ESMTP id 1E3616052471; Sat, 10 May 2025 11:13:06 -0400 (EDT) Subject: |SUCCESS| pw153392 [PATCH] crypto/virtio: fix DER encoding for posit From: dpdklab@iol.unh.edu To: Test Report Cc: dpdk-test-reports@iol.unh.edu In-Reply-To: <20250510104412.2154-1-gmuthukrishn@marvell.com> References: <20250510104412.2154-1-gmuthukrishn@marvell.com> Content-Type: text/plain X-BeenThere: test-report@dpdk.org X-Mailman-Version: 2.1.29 Precedence: list List-Id: automatic DPDK test reports List-Unsubscribe: , List-Archive: List-Post: List-Help: List-Subscribe: , Errors-To: test-report-bounces@dpdk.org Test-Label: iol-unit-amd64-testing Test-Status: SUCCESS http://dpdk.org/patch/153392 _Testing PASS_ Submitter: Gowrishankar Muthukrishnan Date: Saturday, May 10 2025 10:44:07 DPDK git baseline: Repo:dpdk Branch: master CommitID:ca1690ebd224f148268285b15b97441ccdbdd07e 153392 --> testing pass Upstream job id: Generic-VM-Unit-Test-DPDK#28454 Test environment and result as below: +---------------------+----------------+ | Environment | dpdk_unit_test | +=====================+================+ | Debian 12 | PASS | +---------------------+----------------+ | CentOS Stream 10 | PASS | +---------------------+----------------+ | CentOS Stream 9 | PASS | +---------------------+----------------+ | Fedora 40 | PASS | +---------------------+----------------+ | RHEL8 | PASS | +---------------------+----------------+ | Fedora 40 (Clang) | PASS | +---------------------+----------------+ | RHEL9 | PASS | +---------------------+----------------+ | Fedora 41 | PASS | +---------------------+----------------+ | Fedora 41 (Clang) | PASS | +---------------------+----------------+ | Ubuntu 22.04 | PASS | +---------------------+----------------+ | Ubuntu 20.04 | PASS | +---------------------+----------------+ | Ubuntu 24.04 | PASS | +---------------------+----------------+ | Windows Server 2022 | PASS | +---------------------+----------------+ Debian 12 Kernel: Depends on container host Compiler: gcc (Debian 12.2.0-14) 12.2.0 CentOS Stream 10 Kernel: Depends on container host Compiler: gcc 14.2.1 20241104 (Red Hat 14.2.1-6) CentOS Stream 9 Kernel: Depends on container host Compiler: gcc 11.5.0 20240719 (Red Hat 11.5.0-2) Fedora 40 Kernel: Depends on container host Compiler: gcc 14.2.1 20240912 (Red Hat 14.2.1-3) RHEL8 Kernel: Depends on container host Compiler: gcc 8.5.0 20210514 (Red Hat 8.5.0-22) Fedora 40 (Clang) Kernel: Depends on container host Compiler: clang 18.1.8 (Fedora 18.1.8-1.fc40) RHEL9 Kernel: Depends on container host Compiler: gcc 11.5.0 20240719 (Red Hat 11.5.0-2) Fedora 41 Kernel: Depends on container host Compiler: gcc 14.2.1 20240912 (Red Hat 14.2.1-3) Fedora 41 (Clang) Kernel: Depends on container host Compiler: clang 19.1.5 (Fedora 19.1.5-1.fc41) Ubuntu 22.04 Kernel: Depends on container host Compiler: gcc (Ubuntu 11.4.0-1ubuntu1~22.04) 11.4.0 Ubuntu 20.04 Kernel: Depends on container host Compiler: gcc (Ubuntu 9.4.0-1ubuntu1~20.04.2) 9.4.0 Ubuntu 24.04 Kernel: Depends on container host Compiler: gcc (Ubuntu 13.3.0-6ubuntu2~24.04) 13.3.0 Windows Server 2022 Kernel: 10.0.20348.2031 Compiler: clang 15.0.7, gcc 14.1.0 (MinGW), and MSVC VS 19.39.33521 To view detailed results, visit: https://lab.dpdk.org/results/dashboard/patchsets/33152/ UNH-IOL DPDK Community Lab To manage your email subscriptions, visit: https://lab.dpdk.org/results/dashboard/preferences/subscriptions/