From mboxrd@z Thu Jan 1 00:00:00 1970 Return-Path: Received: from mails.dpdk.org (mails.dpdk.org [217.70.189.124]) by inbox.dpdk.org (Postfix) with ESMTP id 93B644670F for ; Sat, 10 May 2025 17:13:31 +0200 (CEST) Received: from mails.dpdk.org (localhost [127.0.0.1]) by mails.dpdk.org (Postfix) with ESMTP id 8DD2740270; Sat, 10 May 2025 17:13:31 +0200 (CEST) Received: from mail-oo1-f97.google.com (mail-oo1-f97.google.com [209.85.161.97]) by mails.dpdk.org (Postfix) with ESMTP id 99C1D4026C for ; Sat, 10 May 2025 17:13:30 +0200 (CEST) Received: by mail-oo1-f97.google.com with SMTP id 006d021491bc7-6021e3daeabso1493157eaf.3 for ; Sat, 10 May 2025 08:13:30 -0700 (PDT) DKIM-Signature: v=1; a=rsa-sha256; c=relaxed/relaxed; d=iol.unh.edu; s=unh-iol; t=1746890009; x=1747494809; darn=dpdk.org; h=references:in-reply-to:cc:to:from:subject:message-id:date:from:to :cc:subject:date:message-id:reply-to; bh=i9Y/7HZWdsZt/0Q/s5stqBJUL9lOIQTA1UZ58lFK9G8=; b=iNBZAqV4CaCFfXigj/cRCOSrnpK+sPPriWSIv7kRE8W/12LvMlYx2688Tk9iBaJoPM U9JtlH+IV/l93Uh1/aObLMF56RpVOz/1OJd5VJRBvHnt1GZTEKiAyouZtuuUKvHk0RHw Q6JxGAxdOyoXHbKcGJvoMd1lF/smuoCr5XUtk= X-Google-DKIM-Signature: v=1; a=rsa-sha256; c=relaxed/relaxed; d=1e100.net; s=20230601; t=1746890009; x=1747494809; h=references:in-reply-to:cc:to:from:subject:message-id:date :x-gm-message-state:from:to:cc:subject:date:message-id:reply-to; bh=i9Y/7HZWdsZt/0Q/s5stqBJUL9lOIQTA1UZ58lFK9G8=; b=Quo8ypLuAmZZTpla2JGvz231J88vuLHFyKs04VZrl1L8zSavCuj4I84MAQ2NrLOy6I oKz/eFQ2h0J5Jq/nU/ytJKyDMrO36zUpbuc7mAgul+9h9bolPD8v6rZ2LvZNWQ7O7Aed Q9M3OaiEM/bEd5xMjSDGBW8QZ1er1UBDA1hURCaf1ZYePHABMk/bKpO//ZU2qDwDJI8W RRoyWLzq4Cg2XoXoe54lthLNzGZf6bLn9K36pV3wgjC+kd8zaqNbLIPlA/z1zFiDgiMv SXj7d3+hwLcmF5SZQfFErREgeK1M5i0omABft4+0K5ZYBoIlze9/kcO2yMHkmRU4jv27 1TSA== X-Gm-Message-State: AOJu0Yyai4fuYxnJ0v12KY4QUVpe4zht3n7766NHnCfZq4TKtX0/EaPj Ul5hOm7uYNkdE8P8zOduu1/rotH1Y0LoNP1l7MiddSi2nhzrtbVt/kXxzDG7ayrgKXsl8hcd62z YT7FRH66TfsIO+ROIguc/B4WowXYMfno/hRkB5U6U X-Gm-Gg: ASbGnct70q+620B1LRH9DuM08bDx2m1JjpRDRo6C9dhspGqfOR+tSChO1HycrHTpZAR KunwJAku1lcAUa+GrHldA8emp/5T1YCaT/gt5E4D5gdgrYhKZo8b632Eso91ixc6TD5fpg31id9 2cl+Z/bKUU7AKkIJknNuSSFtsOwBxd8XBiMBMrQrdRuJMwdNMP0WVroi+KPNoxynrkqDY9wfuQq TYrKF7amzVJqaQpl1OOeueOJVaw+FN9JFfozT5UCIs9PoHjtTPPXIftn3QWETnYzg1OulXqYcpm xdfM1kc5Nb/WYUhUEBjv//fl2cpAza5EIiTg3/oZM3By0HCb4It2ewl6MPs= X-Google-Smtp-Source: AGHT+IFj9fMMABmdC39pfIPHpiWvauSw6M4pij3s0oUQtXAMdNBpB+nz9UxfmjKcM8/ZZhRtRNX7QknJDUyn X-Received: by 2002:a05:6871:3326:b0:2c1:e9a3:3ab3 with SMTP id 586e51a60fabf-2dba45c6337mr4470113fac.33.1746890009513; Sat, 10 May 2025 08:13:29 -0700 (PDT) Received: from postal.iol.unh.edu (postal.iol.unh.edu. [132.177.123.84]) by smtp-relay.gmail.com with ESMTPS id 586e51a60fabf-2dba0ae99e0sm184263fac.26.2025.05.10.08.13.29 (version=TLS1_2 cipher=ECDHE-ECDSA-AES128-GCM-SHA256 bits=128/128); Sat, 10 May 2025 08:13:29 -0700 (PDT) X-Relaying-Domain: iol.unh.edu Date: Sat, 10 May 2025 08:13:29 -0700 (PDT) Message-ID: <681f6d19.050a0220.253e7e.a1a1SMTPIN_ADDED_MISSING@mx.google.com> Received: from [172.17.0.2] (unknown [172.18.0.74]) by postal.iol.unh.edu (Postfix) with ESMTP id EA6F96052471; Sat, 10 May 2025 11:13:28 -0400 (EDT) Subject: |SUCCESS| pw153392 [PATCH] crypto/virtio: fix DER encoding for posit From: dpdklab@iol.unh.edu To: Test Report Cc: dpdk-test-reports@iol.unh.edu In-Reply-To: <20250510104412.2154-1-gmuthukrishn@marvell.com> References: <20250510104412.2154-1-gmuthukrishn@marvell.com> Content-Type: text/plain X-BeenThere: test-report@dpdk.org X-Mailman-Version: 2.1.29 Precedence: list List-Id: automatic DPDK test reports List-Unsubscribe: , List-Archive: List-Post: List-Help: List-Subscribe: , Errors-To: test-report-bounces@dpdk.org Test-Label: iol-unit-arm64-testing Test-Status: SUCCESS http://dpdk.org/patch/153392 _Testing PASS_ Submitter: Gowrishankar Muthukrishnan Date: Saturday, May 10 2025 10:44:07 DPDK git baseline: Repo:dpdk Branch: master CommitID:ca1690ebd224f148268285b15b97441ccdbdd07e 153392 --> testing pass Upstream job id: Generic-Unit-Test-DPDK#336991 Test environment and result as below: +------------------------+----------------+ | Environment | dpdk_unit_test | +========================+================+ | CentOS Stream 9 (ARM) | PASS | +------------------------+----------------+ | Debian 12 (arm) | PASS | +------------------------+----------------+ | CentOS Stream 10 (ARM) | PASS | +------------------------+----------------+ | Fedora 40 (ARM) | PASS | +------------------------+----------------+ | RHEL9 (ARM) | PASS | +------------------------+----------------+ | Fedora 41 (ARM) | PASS | +------------------------+----------------+ | Fedora 40 (ARM Clang) | PASS | +------------------------+----------------+ | Fedora 41 (ARM Clang) | PASS | +------------------------+----------------+ | Ubuntu 20.04 (ARM) | PASS | +------------------------+----------------+ | Ubuntu 22.04 (ARM) | PASS | +------------------------+----------------+ | Ubuntu 24.04 (ARM) | PASS | +------------------------+----------------+ CentOS Stream 9 (ARM) Kernel: Depends on container host Compiler: gcc 11.5.0 20240719 (Red Hat 11.5.0-2) Debian 12 (arm) Kernel: Depends on container host Compiler: gcc (Debian 12.2.0-14) 12.2.0 CentOS Stream 10 (ARM) Kernel: Depends on container host Compiler: gcc 14.2.1 20241104 (Red Hat 14.2.1-6) Fedora 40 (ARM) Kernel: Depends on container host Compiler: gcc 14.2.1 20240912 (Red Hat 14.2.1-3) RHEL9 (ARM) Kernel: Depends on container host Compiler: gcc 11.5.0 20240719 (Red Hat 11.5.0-2) Fedora 41 (ARM) Kernel: Depends on container host Compiler: gcc 14.2.1 20240912 (Red Hat 14.2.1-3) Fedora 40 (ARM Clang) Kernel: Depends on container host Compiler: clang 18.1.8 (Fedora 18.1.8-1.fc40) Fedora 41 (ARM Clang) Kernel: Depends on container host Compiler: clang 19.1.5 (Fedora 19.1.5-1.fc41) Ubuntu 20.04 (ARM) Kernel: Depends on container host Compiler: gcc (Ubuntu 9.4.0-1ubuntu1~20.04.2) 9.4.0 Ubuntu 22.04 (ARM) Kernel: Depends on container host Compiler: gcc (Ubuntu 11.4.0-1ubuntu1~22.04) 11.4.0 Ubuntu 24.04 (ARM) Kernel: Depends on container host Compiler: gcc (Ubuntu 13.3.0-6ubuntu2~24.04) 13.3.0 To view detailed results, visit: https://lab.dpdk.org/results/dashboard/patchsets/33152/ UNH-IOL DPDK Community Lab To manage your email subscriptions, visit: https://lab.dpdk.org/results/dashboard/preferences/subscriptions/