From mboxrd@z Thu Jan 1 00:00:00 1970 Return-Path: Received: from mails.dpdk.org (mails.dpdk.org [217.70.189.124]) by inbox.dpdk.org (Postfix) with ESMTP id 676874670F for ; Sat, 10 May 2025 17:21:40 +0200 (CEST) Received: from mails.dpdk.org (localhost [127.0.0.1]) by mails.dpdk.org (Postfix) with ESMTP id 4142E40270; Sat, 10 May 2025 17:21:40 +0200 (CEST) Received: from mail-pg1-f228.google.com (mail-pg1-f228.google.com [209.85.215.228]) by mails.dpdk.org (Postfix) with ESMTP id 383484026C for ; Sat, 10 May 2025 17:21:39 +0200 (CEST) Received: by mail-pg1-f228.google.com with SMTP id 41be03b00d2f7-7fd35b301bdso3465873a12.2 for ; Sat, 10 May 2025 08:21:39 -0700 (PDT) DKIM-Signature: v=1; a=rsa-sha256; c=relaxed/relaxed; d=iol.unh.edu; s=unh-iol; t=1746890498; x=1747495298; darn=dpdk.org; h=references:in-reply-to:cc:to:from:subject:message-id:date:from:to :cc:subject:date:message-id:reply-to; bh=XQerWxXz2eHn9+zGyM29BW62Qy9ULBmbqnK73WkCp4g=; b=Gv1Yqv7/SkXc0Hbf+4AR5W0HZ0C8akzfeQtzY+srDn0334IkbUZHaKjOQRrfM1CUdl DmXDOEC3K8VIsKAQniEFj0+rG6dzhmT6aq+cJWP4cX2LncNfwYWYWgS3aZWzpgyeY/p6 KKjNpY6ym5KZf1sQIbubrmQ+KDimUi1WstqRY= X-Google-DKIM-Signature: v=1; a=rsa-sha256; c=relaxed/relaxed; d=1e100.net; s=20230601; t=1746890498; x=1747495298; h=references:in-reply-to:cc:to:from:subject:message-id:date :x-gm-message-state:from:to:cc:subject:date:message-id:reply-to; bh=XQerWxXz2eHn9+zGyM29BW62Qy9ULBmbqnK73WkCp4g=; b=BkZh9yTF4y4FuVdKFXIFHqy7P77O9oqSeisr0ZxW/4rnSimvm6ESrKKkG45Unsf7D6 cFaKCVkv4ordLA5N3+2tm1Vy6VhoSIqvqTm11kuykB0AjktvFpZgKlhep/QFOkHg1dOc Mk87PWa9BlX9PyKQp9iGMqguj1sP7ZqbTGxB13WA+rc8m1vHWNoNGuDSjL0baPpRVPFu jLWvd5WS0PEb7iRTShGs2oBJFVWRelfOlZxpCPgdhX/FytRE68SCF48oc1C22iA5+LrZ DdL2xkV/mKabxVSrBTSWAN+K7/C+WDaA86TOEWU2lW+ZJik9PQRmzX4c2E+YcVsuctBC ky4Q== X-Gm-Message-State: AOJu0Yyu93gqCk8gYP8gTdY/qRX3cfBNlEAX2CKI2OO0PbJ3430oXPJH NjxuIyCIw1Ml5MtryWRKKQDTLjSJzDMpteDaFoy6lAlpQcfr8GciI8PlznAgMRdCajjB2bMTz3w PS+fJLlhkc24qDZNZiC1tZ4WC+VQXkPSK52kkuqTjqf8ZHwOKiS8iMY5O X-Gm-Gg: ASbGncvLGmYnbKWCOlMp+lfQKEEFY3P0ufQA/UezRt2NAuThA30Dbeqx4ZzYWU9Zeeu QUQcZNhReuh0i5kPhQECX7GMFod8abLqEE22m6/7vffRc7fx0PW7UMKyVqsYytFlMdc+u4/5ycE OG8TdWUa4bm/+7BFUuAFvLq1c/ZV9+bRtnA4aTg+T+bStyeGChEG9Pdq+5YmwShbmgH6oAGCqiH 5mWDyyQ3+GXVcnA1Iee3zmc25v/A2yHISptp76aS56Mt7yln4AIk+1z0eVhu/3qKrykOSxVcCol cbDkZXELR7EQ+ayR+h+HbzmUIfzw/0HHOcLh X-Google-Smtp-Source: AGHT+IGcUHqLTi08NtZxPwuyHx+qP5Pu6/Y+1Mg8AihgyNl2ecUnezrUYDqKwQ39S4g5V5/VoLYLkRms7eeO X-Received: by 2002:a17:903:2286:b0:220:c86d:d7eb with SMTP id d9443c01a7336-22fc9185e38mr119780335ad.36.1746890497906; Sat, 10 May 2025 08:21:37 -0700 (PDT) Received: from postal.iol.unh.edu (postal.iol.unh.edu. [2606:4100:3880:1234::84]) by smtp-relay.gmail.com with ESMTPS id d9443c01a7336-22fc6f11192sm2203365ad.83.2025.05.10.08.21.37 (version=TLS1_2 cipher=ECDHE-ECDSA-AES128-GCM-SHA256 bits=128/128); Sat, 10 May 2025 08:21:37 -0700 (PDT) X-Relaying-Domain: iol.unh.edu Date: Sat, 10 May 2025 08:21:37 -0700 (PDT) Message-ID: <681f6f01.170a0220.1f814b.bf8dSMTPIN_ADDED_MISSING@mx.google.com> Received: from [172.17.0.2] (unknown [172.18.0.74]) by postal.iol.unh.edu (Postfix) with ESMTP id 0C40B6052471; Sat, 10 May 2025 11:21:37 -0400 (EDT) Subject: |SUCCESS| pw153392 [PATCH] crypto/virtio: fix DER encoding for posit From: dpdklab@iol.unh.edu To: Test Report Cc: dpdk-test-reports@iol.unh.edu In-Reply-To: <20250510104412.2154-1-gmuthukrishn@marvell.com> References: <20250510104412.2154-1-gmuthukrishn@marvell.com> Content-Type: text/plain X-BeenThere: test-report@dpdk.org X-Mailman-Version: 2.1.29 Precedence: list List-Id: automatic DPDK test reports List-Unsubscribe: , List-Archive: List-Post: List-Help: List-Subscribe: , Errors-To: test-report-bounces@dpdk.org Test-Label: iol-sample-apps-testing Test-Status: SUCCESS http://dpdk.org/patch/153392 _Testing PASS_ Submitter: Gowrishankar Muthukrishnan Date: Saturday, May 10 2025 10:44:07 DPDK git baseline: Repo:dpdk Branch: master CommitID:ca1690ebd224f148268285b15b97441ccdbdd07e 153392 --> testing pass Upstream job id: ACVP-FIPS-testing#9777 Test environment and result as below: +--------------------+----------------------+----------------------+ | Environment | compressdev_zlib_pmd | dpdk_fips_validation | +====================+======================+======================+ | Ubuntu 22.04 (ARM) | PASS | SKIPPED | +--------------------+----------------------+----------------------+ | Ubuntu 22.04 | PASS | SKIPPED | +--------------------+----------------------+----------------------+ | Ubuntu 20.04 | SKIPPED | PASS | +--------------------+----------------------+----------------------+ Ubuntu 22.04 (ARM) Kernel: 5.15.0-97-generic Compiler: gcc gcc (Ubuntu 11.4.0-1ubuntu1~22.04) 11.4.0 Ubuntu 22.04 Kernel: 5.15.0-100-generic Compiler: gcc gcc (Ubuntu 11.4.0-1ubuntu1~22.04) 11.4.0 Ubuntu 20.04 Kernel: Depends on container host Compiler: gcc (Ubuntu 9.4.0-1ubuntu1~20.04.2) 9.4.0 To view detailed results, visit: https://lab.dpdk.org/results/dashboard/patchsets/33152/ UNH-IOL DPDK Community Lab To manage your email subscriptions, visit: https://lab.dpdk.org/results/dashboard/preferences/subscriptions/