From mboxrd@z Thu Jan 1 00:00:00 1970 Return-Path: Received: from mails.dpdk.org (mails.dpdk.org [217.70.189.124]) by inbox.dpdk.org (Postfix) with ESMTP id 9FAEF4670F for ; Sat, 10 May 2025 17:23:58 +0200 (CEST) Received: from mails.dpdk.org (localhost [127.0.0.1]) by mails.dpdk.org (Postfix) with ESMTP id 7BDEC40270; Sat, 10 May 2025 17:23:58 +0200 (CEST) Received: from mail-pl1-f227.google.com (mail-pl1-f227.google.com [209.85.214.227]) by mails.dpdk.org (Postfix) with ESMTP id 6A9184026C for ; Sat, 10 May 2025 17:23:57 +0200 (CEST) Received: by mail-pl1-f227.google.com with SMTP id d9443c01a7336-22fa414c565so21850865ad.2 for ; Sat, 10 May 2025 08:23:57 -0700 (PDT) DKIM-Signature: v=1; a=rsa-sha256; c=relaxed/relaxed; d=iol.unh.edu; s=unh-iol; t=1746890636; x=1747495436; darn=dpdk.org; h=references:in-reply-to:cc:to:from:subject:message-id:date:from:to :cc:subject:date:message-id:reply-to; bh=NVguokq3lfOYZ5GD0Sdpv0TuUSP7SMgN0A/jyyp5zgs=; b=X2BFP080AZUGKhaztnMuwK0jari9O0r236V0qH6AhXluaGP39hTFwYQxjZqdKjxT3z 26WRqxUBB9WaAUtlQwg9toSZUxsImYUd2IrY2c9w7dtRougkEaLeOjGvP3zxv9cvg0xZ 72K4XH8vA5QIYcby9oxsXWa41F/8foI+nV+eI= X-Google-DKIM-Signature: v=1; a=rsa-sha256; c=relaxed/relaxed; d=1e100.net; s=20230601; t=1746890636; x=1747495436; h=references:in-reply-to:cc:to:from:subject:message-id:date :x-gm-message-state:from:to:cc:subject:date:message-id:reply-to; bh=NVguokq3lfOYZ5GD0Sdpv0TuUSP7SMgN0A/jyyp5zgs=; b=UX3A9tDcPlGCQ7KVq39enE0P4KfGdS86QHxP2N0JqkftDmnjNLaLo/dnptFdBr6aw4 bl8OdBmy79MzFwpXTtQZGB7WTYUXPzjWA2YfhjK59pwnidZ3uU/Mg9v0RLENAJu+fX08 6DYrxxm/6/fFLuNZljlJQLYpbcdIhEjJJFauhnLdv4IPfJ8yR+ZAPXppRffVDlVcTye1 3Zo74GuRIguRElshj7dIQ6bfJfh9aG3FnB5XqSzjr4vcMhj4HLl6D108fH9Gr9RQK2sZ RSCf7nOIeoa9tuCkUcW5g5LN+AUEsxozCbhmiRZWQcxCzEbUy5ZjCs+JGPensujtlsTR hj/g== X-Gm-Message-State: AOJu0Yx6teOj8D4gRyt/b4RK1fdIO10hcyIw2WBKuVqk3s5jz4//Z14T UWNCBEnUKLcsp1tJWSb5zxlGH/tSggRibGdetWpsSsKLHdfP/zcofUih4Z4TFGqn4BPE/sRoe0l G+JDOvPjsJ48c/ub1esgwyISD1xW5UCxcFtFC4ezN X-Gm-Gg: ASbGncsCE5QP6itglwy4JyO4lE8wMgzZ00rMITKB2Moo8ly7Q4V/tfLa1UOX24UDGVw hqbCfNR4Vnd/KYjSkSF3UEAe52Atz2oe4hjhy2ej0V278REOTNdq+cwvgualDI1kPD2NNG/h+4L ttXj26l+8g4KTtS5mPNCqrT60StSGeKVVriDOnm4j1acHYLAX/6mYe4LBNLc4dZHs+/UprR6EOw TWEO2nlAzNB1HgArhW75eD0hIio5vZhr6/Lep/RSzN+jivSq9wgpUVZXB2Z5gFD7Gprxpb6nsdg 7FTG2KYUWYKtRDoHXRNXE8pJQJkt6dd2swFdIY87N1g6B22Rheplx8rT7f0= X-Google-Smtp-Source: AGHT+IH/keSiO0C1a/zNpK4AoFjKajieKS7Z3troTA1Fe/6ogtVkaYI5NN0TYGrhTSfNEFdOyipiyhRXO973 X-Received: by 2002:a17:903:1b6d:b0:225:adf8:8634 with SMTP id d9443c01a7336-22fc91a72b9mr102843785ad.51.1746890636493; Sat, 10 May 2025 08:23:56 -0700 (PDT) Received: from postal.iol.unh.edu (postal.iol.unh.edu. [132.177.123.84]) by smtp-relay.gmail.com with ESMTPS id d9443c01a7336-22fc5a44812sm2175865ad.64.2025.05.10.08.23.56 (version=TLS1_2 cipher=ECDHE-ECDSA-AES128-GCM-SHA256 bits=128/128); Sat, 10 May 2025 08:23:56 -0700 (PDT) X-Relaying-Domain: iol.unh.edu Date: Sat, 10 May 2025 08:23:56 -0700 (PDT) Message-ID: <681f6f8c.170a0220.152677.c2a9SMTPIN_ADDED_MISSING@mx.google.com> Received: from [172.17.0.2] (unknown [172.18.0.74]) by postal.iol.unh.edu (Postfix) with ESMTP id A25876052471; Sat, 10 May 2025 11:23:55 -0400 (EDT) Subject: |SUCCESS| pw153391 [PATCH] crypto/virtio: fix DER encoding of RSA pu From: dpdklab@iol.unh.edu To: Test Report Cc: dpdk-test-reports@iol.unh.edu In-Reply-To: <20250510104103.2081-1-gmuthukrishn@marvell.com> References: <20250510104103.2081-1-gmuthukrishn@marvell.com> Content-Type: text/plain X-BeenThere: test-report@dpdk.org X-Mailman-Version: 2.1.29 Precedence: list List-Id: automatic DPDK test reports List-Unsubscribe: , List-Archive: List-Post: List-Help: List-Subscribe: , Errors-To: test-report-bounces@dpdk.org Test-Label: iol-unit-amd64-testing Test-Status: SUCCESS http://dpdk.org/patch/153391 _Testing PASS_ Submitter: Gowrishankar Muthukrishnan Date: Saturday, May 10 2025 10:40:58 DPDK git baseline: Repo:dpdk Branch: master CommitID:ca1690ebd224f148268285b15b97441ccdbdd07e 153391 --> testing pass Upstream job id: Generic-VM-Unit-Test-DPDK#28455 Test environment and result as below: +---------------------+----------------+ | Environment | dpdk_unit_test | +=====================+================+ | CentOS Stream 9 | PASS | +---------------------+----------------+ | CentOS Stream 10 | PASS | +---------------------+----------------+ | Fedora 40 | PASS | +---------------------+----------------+ | Debian 12 | PASS | +---------------------+----------------+ | Fedora 40 (Clang) | PASS | +---------------------+----------------+ | Fedora 41 | PASS | +---------------------+----------------+ | Fedora 41 (Clang) | PASS | +---------------------+----------------+ | Ubuntu 20.04 | PASS | +---------------------+----------------+ | RHEL8 | PASS | +---------------------+----------------+ | RHEL9 | PASS | +---------------------+----------------+ | Ubuntu 22.04 | PASS | +---------------------+----------------+ | Ubuntu 24.04 | PASS | +---------------------+----------------+ | Windows Server 2022 | PASS | +---------------------+----------------+ CentOS Stream 9 Kernel: Depends on container host Compiler: gcc 11.5.0 20240719 (Red Hat 11.5.0-2) CentOS Stream 10 Kernel: Depends on container host Compiler: gcc 14.2.1 20241104 (Red Hat 14.2.1-6) Fedora 40 Kernel: Depends on container host Compiler: gcc 14.2.1 20240912 (Red Hat 14.2.1-3) Debian 12 Kernel: Depends on container host Compiler: gcc (Debian 12.2.0-14) 12.2.0 Fedora 40 (Clang) Kernel: Depends on container host Compiler: clang 18.1.8 (Fedora 18.1.8-1.fc40) Fedora 41 Kernel: Depends on container host Compiler: gcc 14.2.1 20240912 (Red Hat 14.2.1-3) Fedora 41 (Clang) Kernel: Depends on container host Compiler: clang 19.1.5 (Fedora 19.1.5-1.fc41) Ubuntu 20.04 Kernel: Depends on container host Compiler: gcc (Ubuntu 9.4.0-1ubuntu1~20.04.2) 9.4.0 RHEL8 Kernel: Depends on container host Compiler: gcc 8.5.0 20210514 (Red Hat 8.5.0-22) RHEL9 Kernel: Depends on container host Compiler: gcc 11.5.0 20240719 (Red Hat 11.5.0-2) Ubuntu 22.04 Kernel: Depends on container host Compiler: gcc (Ubuntu 11.4.0-1ubuntu1~22.04) 11.4.0 Ubuntu 24.04 Kernel: Depends on container host Compiler: gcc (Ubuntu 13.3.0-6ubuntu2~24.04) 13.3.0 Windows Server 2022 Kernel: 10.0.20348.2031 Compiler: clang 15.0.7, gcc 14.1.0 (MinGW), and MSVC VS 19.39.33521 To view detailed results, visit: https://lab.dpdk.org/results/dashboard/patchsets/33151/ UNH-IOL DPDK Community Lab To manage your email subscriptions, visit: https://lab.dpdk.org/results/dashboard/preferences/subscriptions/