From mboxrd@z Thu Jan 1 00:00:00 1970 Return-Path: Received: from mails.dpdk.org (mails.dpdk.org [217.70.189.124]) by inbox.dpdk.org (Postfix) with ESMTP id 12D9D4670F for ; Sat, 10 May 2025 17:28:32 +0200 (CEST) Received: from mails.dpdk.org (localhost [127.0.0.1]) by mails.dpdk.org (Postfix) with ESMTP id E2A3340270; Sat, 10 May 2025 17:28:31 +0200 (CEST) Received: from mail-io1-f99.google.com (mail-io1-f99.google.com [209.85.166.99]) by mails.dpdk.org (Postfix) with ESMTP id 937454026C for ; Sat, 10 May 2025 17:28:30 +0200 (CEST) Received: by mail-io1-f99.google.com with SMTP id ca18e2360f4ac-85b4170f1f5so107592939f.3 for ; Sat, 10 May 2025 08:28:30 -0700 (PDT) DKIM-Signature: v=1; a=rsa-sha256; c=relaxed/relaxed; d=iol.unh.edu; s=unh-iol; t=1746890910; x=1747495710; darn=dpdk.org; h=references:in-reply-to:cc:to:from:subject:message-id:date:from:to :cc:subject:date:message-id:reply-to; bh=AOuFhAsFMEjY49TDszGXJh62WV2Cy5sJY8vNfvQr05I=; b=hseZkEHxyEzk+PQci+ge7mOurVj9+mQJGxkbPbUHVgNI80ZmUIWt4ZfDNLC03nNObc Ze43SFSOBx5WyAzix4WhBf9aTMFKsF8qHSw8HAF4Eteu7mDknH1eDzJT3yqL506V4D6B yB4x0h5RKQ1qdLzMfdBGqQcK7riqlmjSbq458= X-Google-DKIM-Signature: v=1; a=rsa-sha256; c=relaxed/relaxed; d=1e100.net; s=20230601; t=1746890910; x=1747495710; h=references:in-reply-to:cc:to:from:subject:message-id:date :x-gm-message-state:from:to:cc:subject:date:message-id:reply-to; bh=AOuFhAsFMEjY49TDszGXJh62WV2Cy5sJY8vNfvQr05I=; b=L4fTaynpeOHtTqju22W5UohiBmIX1RbcviioVkaC2kxA7mBgE5y7SJ22LMpU6bjNXO R/EWaa5Pa9K5LHEdOuGeXvhG2YEEByX32myARx3EmGgtlI+BscNaUP82Yk8Pg4v4k86u UQGe70RnOxHpSBgfUdNw2x8b5ERyg8/EE86PsuYXQNPPkiGfq20rr5ABNzAX+VZOePNS op6ECwq0OHrZ25wp4hagkg0Ci4+EIpWU3WtdbvJC7yXMtSjYp/CIhZujkpLUt/c6J7lc jaHNL5lxJHtzREfxVKdYS3msnadI6bTfS2hennvuywNa0a8s2E9zadUHYNj4wVM8tEOL PDxQ== X-Gm-Message-State: AOJu0YzntIP4FC+5e13cCuG8bFfGaDN7iLnUBOdDlwSkY8X8evsljzWH Xu0Ar5peLZhJuq+Gbff6w34OKTxMnrUGETyXz972Q9Lg5Kj3gITWYeqDeAn4mmDpkId85vIK8ci TsuVzst8OJghfmqIEiqWMKqyeTPKFpzCqpZ+dVu0huk4gTAJyblQhW9Fn X-Gm-Gg: ASbGncsCDSP2w1ZtAa0VFDsIhYcOfNcw/5qv4gD7LEVdHhXA8A3SNR12kttfab1Hdyj +lOwcInXDwJVOCA3DcGj2OgFcx6mzoThoRwcHH8lopDIVVjHPEaZlwrhaFnl50MGSqkYb6DzwLQ uV+mNMlZqwr4BzVImmVPuC3s3P55gkKKzvJpDdRq7Dw/Q2pgbMhtHjivcMkBGLX3zcsohJ0kfzO zMp+hbo1fU6q3wSkTIC+9LoDtloIr16L11dutgfGKXGHRJKrF0yo46w7l2aXArZu//93Eg8Z9HK EJkV+xtaqHwp5SqORXntDbkqL+Zr++b6pa7G X-Google-Smtp-Source: AGHT+IEO7ISYLfcGgM8wGN1X9F0zKt2yGVjNb14YnBgv8EnqJtOPZ7MXASdCUasJJe7T+yE/Bttq9Skv/w2m X-Received: by 2002:a05:6602:1684:b0:861:c744:5a4a with SMTP id ca18e2360f4ac-86763575b32mr797823839f.5.1746890909798; Sat, 10 May 2025 08:28:29 -0700 (PDT) Received: from postal.iol.unh.edu (postal.iol.unh.edu. [2606:4100:3880:1234::84]) by smtp-relay.gmail.com with ESMTPS id ca18e2360f4ac-8676362063dsm20161639f.2.2025.05.10.08.28.29 (version=TLS1_2 cipher=ECDHE-ECDSA-AES128-GCM-SHA256 bits=128/128); Sat, 10 May 2025 08:28:29 -0700 (PDT) X-Relaying-Domain: iol.unh.edu Date: Sat, 10 May 2025 08:28:29 -0700 (PDT) Message-ID: <681f709d.050a0220.3079b0.b0d5SMTPIN_ADDED_MISSING@mx.google.com> Received: from [172.17.0.2] (unknown [172.18.0.74]) by postal.iol.unh.edu (Postfix) with ESMTP id 4ECE36052471; Sat, 10 May 2025 11:28:29 -0400 (EDT) Subject: |SUCCESS| pw153391 [PATCH] crypto/virtio: fix DER encoding of RSA pu From: dpdklab@iol.unh.edu To: Test Report Cc: dpdk-test-reports@iol.unh.edu In-Reply-To: <20250510104103.2081-1-gmuthukrishn@marvell.com> References: <20250510104103.2081-1-gmuthukrishn@marvell.com> Content-Type: text/plain X-BeenThere: test-report@dpdk.org X-Mailman-Version: 2.1.29 Precedence: list List-Id: automatic DPDK test reports List-Unsubscribe: , List-Archive: List-Post: List-Help: List-Subscribe: , Errors-To: test-report-bounces@dpdk.org Test-Label: iol-unit-amd64-testing Test-Status: SUCCESS http://dpdk.org/patch/153391 _Testing PASS_ Submitter: Gowrishankar Muthukrishnan Date: Saturday, May 10 2025 10:40:58 DPDK git baseline: Repo:dpdk Branch: master CommitID:ca1690ebd224f148268285b15b97441ccdbdd07e 153391 --> testing pass Upstream job id: Generic-VM-Unit-Test-DPDK#28456 Test environment and result as below: +---------------------+----------------+ | Environment | dpdk_unit_test | +=====================+================+ | CentOS Stream 9 | PASS | +---------------------+----------------+ | CentOS Stream 10 | PASS | +---------------------+----------------+ | Fedora 40 | PASS | +---------------------+----------------+ | Debian 12 | PASS | +---------------------+----------------+ | Fedora 40 (Clang) | PASS | +---------------------+----------------+ | Fedora 41 | PASS | +---------------------+----------------+ | Fedora 41 (Clang) | PASS | +---------------------+----------------+ | Ubuntu 20.04 | PASS | +---------------------+----------------+ | RHEL8 | PASS | +---------------------+----------------+ | RHEL9 | PASS | +---------------------+----------------+ | Ubuntu 22.04 | PASS | +---------------------+----------------+ | Ubuntu 24.04 | PASS | +---------------------+----------------+ | Windows Server 2022 | PASS | +---------------------+----------------+ CentOS Stream 9 Kernel: Depends on container host Compiler: gcc 11.5.0 20240719 (Red Hat 11.5.0-2) CentOS Stream 10 Kernel: Depends on container host Compiler: gcc 14.2.1 20241104 (Red Hat 14.2.1-6) Fedora 40 Kernel: Depends on container host Compiler: gcc 14.2.1 20240912 (Red Hat 14.2.1-3) Debian 12 Kernel: Depends on container host Compiler: gcc (Debian 12.2.0-14) 12.2.0 Fedora 40 (Clang) Kernel: Depends on container host Compiler: clang 18.1.8 (Fedora 18.1.8-1.fc40) Fedora 41 Kernel: Depends on container host Compiler: gcc 14.2.1 20240912 (Red Hat 14.2.1-3) Fedora 41 (Clang) Kernel: Depends on container host Compiler: clang 19.1.5 (Fedora 19.1.5-1.fc41) Ubuntu 20.04 Kernel: Depends on container host Compiler: gcc (Ubuntu 9.4.0-1ubuntu1~20.04.2) 9.4.0 RHEL8 Kernel: Depends on container host Compiler: gcc 8.5.0 20210514 (Red Hat 8.5.0-22) RHEL9 Kernel: Depends on container host Compiler: gcc 11.5.0 20240719 (Red Hat 11.5.0-2) Ubuntu 22.04 Kernel: Depends on container host Compiler: gcc (Ubuntu 11.4.0-1ubuntu1~22.04) 11.4.0 Ubuntu 24.04 Kernel: Depends on container host Compiler: gcc (Ubuntu 13.3.0-6ubuntu2~24.04) 13.3.0 Windows Server 2022 Kernel: 10.0.20348.2031 Compiler: clang 15.0.7, gcc 14.1.0 (MinGW), and MSVC VS 19.39.33521 To view detailed results, visit: https://lab.dpdk.org/results/dashboard/patchsets/33151/ UNH-IOL DPDK Community Lab To manage your email subscriptions, visit: https://lab.dpdk.org/results/dashboard/preferences/subscriptions/