From mboxrd@z Thu Jan 1 00:00:00 1970 Return-Path: Received: from mails.dpdk.org (mails.dpdk.org [217.70.189.124]) by inbox.dpdk.org (Postfix) with ESMTP id 0865A4670F for ; Sat, 10 May 2025 17:29:03 +0200 (CEST) Received: from mails.dpdk.org (localhost [127.0.0.1]) by mails.dpdk.org (Postfix) with ESMTP id 03B3940270; Sat, 10 May 2025 17:29:03 +0200 (CEST) Received: from mail-il1-f225.google.com (mail-il1-f225.google.com [209.85.166.225]) by mails.dpdk.org (Postfix) with ESMTP id D473E4026C for ; Sat, 10 May 2025 17:29:01 +0200 (CEST) Received: by mail-il1-f225.google.com with SMTP id e9e14a558f8ab-3da73e9cf17so29056165ab.2 for ; Sat, 10 May 2025 08:29:01 -0700 (PDT) DKIM-Signature: v=1; a=rsa-sha256; c=relaxed/relaxed; d=iol.unh.edu; s=unh-iol; t=1746890941; x=1747495741; darn=dpdk.org; h=references:in-reply-to:cc:to:from:subject:message-id:date:from:to :cc:subject:date:message-id:reply-to; bh=7ULQ+v78Esbp0N/MHJ29Vzqn5kn1FbsssdL9fYB2g1w=; b=aidPllljibLCakLDuu8+GRcMOQegW4UE8/afEDDE+1ED7T2DVKnymvKd3VXOItQE6Z LKXNgeT3lVwSDuIoIUcX8HUfois9W1NCABO6/awd66nnb8zwaNsF+AM8obrdWwhdKN9U /GCqCs4hKOTX4SYVZ/6ZNYuNz70lVkcZXxVRY= X-Google-DKIM-Signature: v=1; a=rsa-sha256; c=relaxed/relaxed; d=1e100.net; s=20230601; t=1746890941; x=1747495741; h=references:in-reply-to:cc:to:from:subject:message-id:date :x-gm-message-state:from:to:cc:subject:date:message-id:reply-to; bh=7ULQ+v78Esbp0N/MHJ29Vzqn5kn1FbsssdL9fYB2g1w=; b=u6Hvo6DCTZcI/H7zzXlxnLqdfz9gTMt9t/o5O3eqRxZVa03S7twETYQKAQ0SED3FHn 9+6ivPbDkgCQCc1Vpqzeb8QWm9zZsND+1fLrmGBZ2tSXiAFGE4DfOOUwRvgHexJbt6r4 ReICV/TVjCgAsdUf6SAltn6GehIYssLEIeGO1zWOWBrZ+/m+gJJzCSKOiMNzYEDmhaj6 Pc34sjD+D2fKyFq2fUTDeEpkuN16mUqZpOMKM75qoeCLk7E/zZYU358aI+LppuZMNau0 pGglq6S0eG6OVJhMfNVcHO5sgnnBhNsVTW1nTSyOxkOSjVI4uPkD6VeOfxUSysCst9oU 4KYA== X-Gm-Message-State: AOJu0Yw5tKRnt+3yrCfOlSQp91VKH/sW8Yvaxh0YpiO01rHBnOodOaYE WdzXqMZOytYzxMbAsu9hukerU2FMRBLW9R1V/WRKLA+/3bdV8nQY2LlSmcOYRgmvo/Wywo4ZvzP HBhWvGbUz+lTxUvNPDy3Bncq+RMSTUsVDFmn+g2Oe X-Gm-Gg: ASbGncsHM4oHHP8NF7TBJGbOqHsu/IhJ5WRZrlZxjG8NK2p0UWQH5Umt+nqs6kJbXvu NgBk/dGjH4Hk6fjmVcjWWCROiv9Ug8noA3/kbjuIqYIjedW6Lhur77NS2Nkctlugj6VFvLkDBZ6 SBQJZ7EgjTd1M7JlpGDN9rACTNNuRNacpz+P2vOc5t6OL8rr/N7j9KbLBa1wCT7uraQMN5IBHqr 6VtYHj2k7Odqn/KjLuzOnGdENzaCORZqvpjDkBQ2ECgCRYB8lE78mjrTgx50PQkphfNnxMpWPG+ Bh2gjv5mTLdr4rGtc3HIIlom9jk4RxAICAFaxrsAmE1geo3lB6md1QLwk9I= X-Google-Smtp-Source: AGHT+IFH8P4VFxAWo6OBUNEsqAd0WTI3cxxQexTDMzdXkB19hsCvgN+1GNfbYA+xQ8cSQF+8UjUBmHO4nQik X-Received: by 2002:a92:c244:0:b0:3da:7015:b73d with SMTP id e9e14a558f8ab-3da7e2142a4mr103091415ab.22.1746890941120; Sat, 10 May 2025 08:29:01 -0700 (PDT) Received: from postal.iol.unh.edu (postal.iol.unh.edu. [132.177.123.84]) by smtp-relay.gmail.com with ESMTPS id 8926c6da1cb9f-4fa2247fb3csm74679173.25.2025.05.10.08.29.01 (version=TLS1_2 cipher=ECDHE-ECDSA-AES128-GCM-SHA256 bits=128/128); Sat, 10 May 2025 08:29:01 -0700 (PDT) X-Relaying-Domain: iol.unh.edu Date: Sat, 10 May 2025 08:29:01 -0700 (PDT) Message-ID: <681f70bd.050a0220.bea03.4301SMTPIN_ADDED_MISSING@mx.google.com> Received: from [172.17.0.2] (unknown [172.18.0.74]) by postal.iol.unh.edu (Postfix) with ESMTP id 630CE6052471; Sat, 10 May 2025 11:29:00 -0400 (EDT) Subject: |SUCCESS| pw153391 [PATCH] crypto/virtio: fix DER encoding of RSA pu From: dpdklab@iol.unh.edu To: Test Report Cc: dpdk-test-reports@iol.unh.edu In-Reply-To: <20250510104103.2081-1-gmuthukrishn@marvell.com> References: <20250510104103.2081-1-gmuthukrishn@marvell.com> Content-Type: text/plain X-BeenThere: test-report@dpdk.org X-Mailman-Version: 2.1.29 Precedence: list List-Id: automatic DPDK test reports List-Unsubscribe: , List-Archive: List-Post: List-Help: List-Subscribe: , Errors-To: test-report-bounces@dpdk.org Test-Label: iol-compile-amd64-testing Test-Status: SUCCESS http://dpdk.org/patch/153391 _Testing PASS_ Submitter: Gowrishankar Muthukrishnan Date: Saturday, May 10 2025 10:40:58 DPDK git baseline: Repo:dpdk Branch: master CommitID:ca1690ebd224f148268285b15b97441ccdbdd07e 153391 --> testing pass Upstream job id: Generic-DPDK-Compile-Meson#387036 Test environment and result as below: +-----------------------------------+--------------------+-------------------+------------------+-------------------------+-------------------+----------------------+ | Environment | dpdk_meson_compile | dpdk_compile_spdk | dpdk_compile_ovs | dpdk_llvm_clang_compile | dpdk_msvc_compile | dpdk_mingw64_compile | +===================================+====================+===================+==================+=========================+===================+======================+ | CentOS Stream 9 | PASS | PASS | SKIPPED | SKIPPED | SKIPPED | SKIPPED | +-----------------------------------+--------------------+-------------------+------------------+-------------------------+-------------------+----------------------+ | CentOS Stream 10 | PASS | SKIPPED | SKIPPED | SKIPPED | SKIPPED | SKIPPED | +-----------------------------------+--------------------+-------------------+------------------+-------------------------+-------------------+----------------------+ | Debian 12 | PASS | PASS | SKIPPED | SKIPPED | SKIPPED | SKIPPED | +-----------------------------------+--------------------+-------------------+------------------+-------------------------+-------------------+----------------------+ | Fedora 41 (Clang) | PASS | PASS | PASS | SKIPPED | SKIPPED | SKIPPED | +-----------------------------------+--------------------+-------------------+------------------+-------------------------+-------------------+----------------------+ | Fedora 40 (Clang) | PASS | PASS | SKIPPED | SKIPPED | SKIPPED | SKIPPED | +-----------------------------------+--------------------+-------------------+------------------+-------------------------+-------------------+----------------------+ | Fedora 40 | PASS | PASS | SKIPPED | SKIPPED | SKIPPED | SKIPPED | +-----------------------------------+--------------------+-------------------+------------------+-------------------------+-------------------+----------------------+ | Fedora 41 | PASS | PASS | PASS | SKIPPED | SKIPPED | SKIPPED | +-----------------------------------+--------------------+-------------------+------------------+-------------------------+-------------------+----------------------+ | Ubuntu 22.04 | PASS | PASS | SKIPPED | SKIPPED | SKIPPED | SKIPPED | +-----------------------------------+--------------------+-------------------+------------------+-------------------------+-------------------+----------------------+ | RHEL8 | PASS | SKIPPED | SKIPPED | SKIPPED | SKIPPED | SKIPPED | +-----------------------------------+--------------------+-------------------+------------------+-------------------------+-------------------+----------------------+ | RHEL9 | PASS | SKIPPED | SKIPPED | SKIPPED | SKIPPED | SKIPPED | +-----------------------------------+--------------------+-------------------+------------------+-------------------------+-------------------+----------------------+ | Ubuntu 24.04 | PASS | PASS | PASS | SKIPPED | SKIPPED | SKIPPED | +-----------------------------------+--------------------+-------------------+------------------+-------------------------+-------------------+----------------------+ | openSUSE Leap 15 | PASS | SKIPPED | SKIPPED | SKIPPED | SKIPPED | SKIPPED | +-----------------------------------+--------------------+-------------------+------------------+-------------------------+-------------------+----------------------+ | Ubuntu 20.04 | PASS | SKIPPED | SKIPPED | SKIPPED | SKIPPED | SKIPPED | +-----------------------------------+--------------------+-------------------+------------------+-------------------------+-------------------+----------------------+ | Alpine | PASS | SKIPPED | SKIPPED | SKIPPED | SKIPPED | SKIPPED | +-----------------------------------+--------------------+-------------------+------------------+-------------------------+-------------------+----------------------+ | Ubuntu 24.04 32 Bit Cross Compile | PASS | SKIPPED | SKIPPED | SKIPPED | SKIPPED | SKIPPED | +-----------------------------------+--------------------+-------------------+------------------+-------------------------+-------------------+----------------------+ | FreeBSD 13.5 | PASS | SKIPPED | SKIPPED | SKIPPED | SKIPPED | SKIPPED | +-----------------------------------+--------------------+-------------------+------------------+-------------------------+-------------------+----------------------+ | FreeBSD 14.2 | PASS | SKIPPED | SKIPPED | SKIPPED | SKIPPED | SKIPPED | +-----------------------------------+--------------------+-------------------+------------------+-------------------------+-------------------+----------------------+ | Windows Server 2022 | SKIPPED | SKIPPED | SKIPPED | PASS | PASS | PASS | +-----------------------------------+--------------------+-------------------+------------------+-------------------------+-------------------+----------------------+ CentOS Stream 9 Kernel: Depends on container host Compiler: gcc 11.5.0 20240719 (Red Hat 11.5.0-2) CentOS Stream 10 Kernel: Depends on container host Compiler: gcc 14.2.1 20241104 (Red Hat 14.2.1-6) Debian 12 Kernel: Depends on container host Compiler: gcc (Debian 12.2.0-14) 12.2.0 Fedora 41 (Clang) Kernel: Depends on container host Compiler: clang 19.1.5 (Fedora 19.1.5-1.fc41) Fedora 40 (Clang) Kernel: Depends on container host Compiler: clang 18.1.8 (Fedora 18.1.8-1.fc40) Fedora 40 Kernel: Depends on container host Compiler: gcc 14.2.1 20240912 (Red Hat 14.2.1-3) Fedora 41 Kernel: Depends on container host Compiler: gcc 14.2.1 20240912 (Red Hat 14.2.1-3) Ubuntu 22.04 Kernel: Depends on container host Compiler: gcc (Ubuntu 11.4.0-1ubuntu1~22.04) 11.4.0 RHEL8 Kernel: Depends on container host Compiler: gcc 8.5.0 20210514 (Red Hat 8.5.0-22) RHEL9 Kernel: Depends on container host Compiler: gcc 11.5.0 20240719 (Red Hat 11.5.0-2) Ubuntu 24.04 Kernel: Depends on container host Compiler: gcc (Ubuntu 13.3.0-6ubuntu2~24.04) 13.3.0 openSUSE Leap 15 Kernel: Depends on container host Compiler: gcc (SUSE Linux) 7.5.0 Ubuntu 20.04 Kernel: Depends on container host Compiler: gcc (Ubuntu 9.4.0-1ubuntu1~20.04.2) 9.4.0 Alpine Kernel: Depends on container host Compiler: gcc (Alpine 14.2.0) 14.2.0 Ubuntu 24.04 32 Bit Cross Compile Kernel: Depends on container host Compiler: gcc (Ubuntu 13.3.0-6ubuntu2~24.04) 13.3.0 FreeBSD 13.5 Kernel: 13.5-RELEASE Compiler: clang 19.1.7 FreeBSD 14.2 Kernel: 14.2-RELEASE Compiler: clang 18.1.6 Windows Server 2022 Kernel: 10.0.20348.2031 Compiler: clang 15.0.7, gcc 14.1.0 (MinGW), and MSVC VS 19.39.33521 To view detailed results, visit: https://lab.dpdk.org/results/dashboard/patchsets/33151/ UNH-IOL DPDK Community Lab To manage your email subscriptions, visit: https://lab.dpdk.org/results/dashboard/preferences/subscriptions/