From mboxrd@z Thu Jan 1 00:00:00 1970 Return-Path: Received: from mails.dpdk.org (mails.dpdk.org [217.70.189.124]) by inbox.dpdk.org (Postfix) with ESMTP id C5D604670F for ; Sat, 10 May 2025 17:49:09 +0200 (CEST) Received: from mails.dpdk.org (localhost [127.0.0.1]) by mails.dpdk.org (Postfix) with ESMTP id 9870B40270; Sat, 10 May 2025 17:49:09 +0200 (CEST) Received: from mail-qv1-f97.google.com (mail-qv1-f97.google.com [209.85.219.97]) by mails.dpdk.org (Postfix) with ESMTP id 1FE2B4026C for ; Sat, 10 May 2025 17:49:08 +0200 (CEST) Received: by mail-qv1-f97.google.com with SMTP id 6a1803df08f44-6f0cfbe2042so41262196d6.1 for ; Sat, 10 May 2025 08:49:08 -0700 (PDT) DKIM-Signature: v=1; a=rsa-sha256; c=relaxed/relaxed; d=iol.unh.edu; s=unh-iol; t=1746892147; x=1747496947; darn=dpdk.org; h=references:in-reply-to:cc:to:from:subject:message-id:date:from:to :cc:subject:date:message-id:reply-to; bh=4NWPq3TqkB7NFEyNrYeOm9wvbW+ti2+VwnvPlE0orPk=; b=A7fZi9edzwHeyAdhzIdcLOTVmjlqkewfHOWeqSvowo6foWl1cmrGu+pu8mCYAvEnqI YeYGM4tMykwIXHNAdFcEWQ1HMmd+J7v0KyGWq5PaT0iIMKodYPdfgiy3edOJNFp5mr3p FB7oPmjVs3vmKs9p5bjHkyJEttmiwUjkmIrTw= X-Google-DKIM-Signature: v=1; a=rsa-sha256; c=relaxed/relaxed; d=1e100.net; s=20230601; t=1746892147; x=1747496947; h=references:in-reply-to:cc:to:from:subject:message-id:date :x-gm-message-state:from:to:cc:subject:date:message-id:reply-to; bh=4NWPq3TqkB7NFEyNrYeOm9wvbW+ti2+VwnvPlE0orPk=; b=gdw1IjkGO7kncpi9oc67mlM4GIQebUzDgcyImUgkuwdu7JhVD4nRXROuy7l+sBy2oX Fh21ZlFZ9eXHY5KZx1lBaYItVVFMYYsgk6epV93pLDxP6fx0/0XyjCy8LIdLVovpxVem 5LvXjxuwTs6egzLEzzXpoPQ2GZ0bsHfbhJvwPFZsRFeBRaiDjTJr+4nOkBm6QY8GoHgJ z3u08f8aGZal1VfscFKzmufmECunc+cMahpInfVvRurugricyCDfNCeMzH3pTUl/XbQp PsZaM7v6MqymBHlVVIYfe4NWpZSEAQGncPmJWsem0Ug8MZwVGZQgMUphIzP6/w2hbTOv 2vXw== X-Gm-Message-State: AOJu0Yx17DjcN3HoI6oVP0RsUwRvIRnZjcmW25JSbeVMt38gJEOn3GL2 Paq7WbG6a7lnpw16zbQWGxN+5bKenHmZ2UoCw7FN1lqcJ1Nug067L7DznwABTMaWHoDOtb51sHS bzxSH9Cczy9c4mjDkPBKBo7Mf4oBykcq7CaJSisKRGwGo2P/dR6gS1yYd X-Gm-Gg: ASbGncu1YGfFHzEBROhNhv4eZ4sWRudJNcq2bOjHIxec5jyPkTHyKv5OxU/n10krSWA g3PsWCEMUVcPUguv9zXXCsW4enizOEWRag0CRi3zbf4vkibkrC3jgW1/HN1wNWTv96s9rkBoDQQ 97QHlhJWL7jQwheYRCQQ/lMG1bW4Ggfjd8eVNs664ujy9Zm2dzKOteatyhB/O/sjO0yDFhx85GY cUJesJU55Tfd80KkOU4mWTxSDgoQhqrvEQMm4l7gHJaEjkTHQokIFzbZiV88PACytGtvnXYtgjA I45XuLixJLe/R33MOUVBT+2lj0y5hbiGjNYs X-Google-Smtp-Source: AGHT+IGnDNuTQguPCGwRN0RIh5gL8Gd85RZ8QIL6kicDCaFL+ZNPkXcLytNI/2Cdd9g65F3r7Cc3BrA8SnnF X-Received: by 2002:a05:6214:f2f:b0:6e8:f296:5f57 with SMTP id 6a1803df08f44-6f54bb27257mr182215826d6.20.1746892147297; Sat, 10 May 2025 08:49:07 -0700 (PDT) Received: from postal.iol.unh.edu (postal.iol.unh.edu. [2606:4100:3880:1234::84]) by smtp-relay.gmail.com with ESMTPS id 6a1803df08f44-6f6e3a0e7d2sm2461866d6.40.2025.05.10.08.49.07 (version=TLS1_2 cipher=ECDHE-ECDSA-AES128-GCM-SHA256 bits=128/128); Sat, 10 May 2025 08:49:07 -0700 (PDT) X-Relaying-Domain: iol.unh.edu Date: Sat, 10 May 2025 08:49:07 -0700 (PDT) Message-ID: <681f7573.050a0220.21a08b.dfb6SMTPIN_ADDED_MISSING@mx.google.com> Received: from [172.17.0.2] (unknown [172.18.0.74]) by postal.iol.unh.edu (Postfix) with ESMTP id F21726052471; Sat, 10 May 2025 11:49:06 -0400 (EDT) Subject: |SUCCESS| pw153391 [PATCH] crypto/virtio: fix DER encoding of RSA pu From: dpdklab@iol.unh.edu To: Test Report Cc: dpdk-test-reports@iol.unh.edu In-Reply-To: <20250510104103.2081-1-gmuthukrishn@marvell.com> References: <20250510104103.2081-1-gmuthukrishn@marvell.com> Content-Type: text/plain X-BeenThere: test-report@dpdk.org X-Mailman-Version: 2.1.29 Precedence: list List-Id: automatic DPDK test reports List-Unsubscribe: , List-Archive: List-Post: List-Help: List-Subscribe: , Errors-To: test-report-bounces@dpdk.org Test-Label: iol-sample-apps-testing Test-Status: SUCCESS http://dpdk.org/patch/153391 _Testing PASS_ Submitter: Gowrishankar Muthukrishnan Date: Saturday, May 10 2025 10:40:58 DPDK git baseline: Repo:dpdk Branch: master CommitID:ca1690ebd224f148268285b15b97441ccdbdd07e 153391 --> testing pass Upstream job id: ACVP-FIPS-testing#9778 Test environment and result as below: +--------------------+----------------------+----------------------+ | Environment | compressdev_zlib_pmd | dpdk_fips_validation | +====================+======================+======================+ | Ubuntu 22.04 (ARM) | PASS | SKIPPED | +--------------------+----------------------+----------------------+ | Ubuntu 22.04 | PASS | SKIPPED | +--------------------+----------------------+----------------------+ | Ubuntu 20.04 | SKIPPED | PASS | +--------------------+----------------------+----------------------+ Ubuntu 22.04 (ARM) Kernel: 5.15.0-97-generic Compiler: gcc gcc (Ubuntu 11.4.0-1ubuntu1~22.04) 11.4.0 Ubuntu 22.04 Kernel: 5.15.0-100-generic Compiler: gcc gcc (Ubuntu 11.4.0-1ubuntu1~22.04) 11.4.0 Ubuntu 20.04 Kernel: Depends on container host Compiler: gcc (Ubuntu 9.4.0-1ubuntu1~20.04.2) 9.4.0 To view detailed results, visit: https://lab.dpdk.org/results/dashboard/patchsets/33151/ UNH-IOL DPDK Community Lab To manage your email subscriptions, visit: https://lab.dpdk.org/results/dashboard/preferences/subscriptions/