From mboxrd@z Thu Jan 1 00:00:00 1970 Return-Path: Received: from mails.dpdk.org (mails.dpdk.org [217.70.189.124]) by inbox.dpdk.org (Postfix) with ESMTP id BE14046710 for ; Sat, 10 May 2025 18:46:37 +0200 (CEST) Received: from mails.dpdk.org (localhost [127.0.0.1]) by mails.dpdk.org (Postfix) with ESMTP id 965CE40270; Sat, 10 May 2025 18:46:37 +0200 (CEST) Received: from mail-qv1-f97.google.com (mail-qv1-f97.google.com [209.85.219.97]) by mails.dpdk.org (Postfix) with ESMTP id B0C6D4026C for ; Sat, 10 May 2025 18:46:36 +0200 (CEST) Received: by mail-qv1-f97.google.com with SMTP id 6a1803df08f44-6f0c30a1cf8so56014156d6.2 for ; Sat, 10 May 2025 09:46:36 -0700 (PDT) DKIM-Signature: v=1; a=rsa-sha256; c=relaxed/relaxed; d=iol.unh.edu; s=unh-iol; t=1746895596; x=1747500396; darn=dpdk.org; h=references:in-reply-to:cc:to:from:subject:message-id:date:from:to :cc:subject:date:message-id:reply-to; bh=+ACUwiEv3gqU1pt86lvFdtEH4Kb7kKyEBKQVa6delRA=; b=IciJm/qM6TQESKVkn7u4E/Hbz6tVLjOYHGg/8nKwBN0yCfYBX4/2IsjbeeqjGknT4d 15yAoWIMRq5jg5m3J5y0dfb8YSOq1CKY0ksguNgp11XxodE6yTViDAkRQcdaVXTFy3Iq VsMdIh+MTiH/NZA7NQN4L1Qe3Q9sW77yj+t2E= X-Google-DKIM-Signature: v=1; a=rsa-sha256; c=relaxed/relaxed; d=1e100.net; s=20230601; t=1746895596; x=1747500396; h=references:in-reply-to:cc:to:from:subject:message-id:date :x-gm-message-state:from:to:cc:subject:date:message-id:reply-to; bh=+ACUwiEv3gqU1pt86lvFdtEH4Kb7kKyEBKQVa6delRA=; b=Pogo4FXHmwNyElTK7vakpEbOWtKWQq1cFs+by6Jf63PJTqYjjbUqmbCQpNoP9ggF3E nUizy3Ykxi8taiYmIqAD9Ez2DLCnAAUJj3onL+QThwY2kQ9i/f4DGLLrKv3RUr0CgO2k cIrQh40f+zdq4XjQGRabFvoDyz2vEWKV/c1eDtMMeh4NW5Fcm1IQ7GbO9aOcGcgG7e28 jNGkG0NUGv1Br2grdmFTIcoyKy3XRmHfqKNjSyotZwZ9pQcdgDofeccFBAW6P6OKCRTh t7h3kq4EkKIbMMdgl+SSZeKPjOpuJ7ejBIHnetKxOaI24WGdIGLJ8YK0rhI8KyN2DIsy ssjQ== X-Gm-Message-State: AOJu0YzSNDmW3vRZFQqEl0jVeroq/pocLzwydn/+M5+aAi856QpA3z6l q74bNFcKfH5jaRC0bjXifviJXxIFIQluOy71R2cmQhxl42NThfiLLus8uQHwD1CjF4+zZbVQ/sO 6zAlYht1VXyWrLLmBkXI34jvwq3V2N4+x3TIEXcUj X-Gm-Gg: ASbGncvJvCahl9vkFRXYN9iao+S6BkoV3kiTSJ3z29YqebhzMvbgXCfB4mflvYfIw4E wT4JO4xzsoangL8fKJG29pOLDUeDivHSMpV8aJVJ91UidtJCyfQQydzXTgO4uP/316ph55FNmlc YABwQFzR6Z0HY07a8crSedC7PUsREgEl5PCwrfEL9CwV3ONzY9wbWOsK+y05tzWHawxxbfbJ522 FIkbQOefQTKkZBWJzouzKO3ZcF6tuX7WaG/cFlR31QQWkwzsxQ5t2tvWgRmy+AOlzSGKhQgaLrh at2s5FrShPkkXehdomlRJZnVR4CNQRN9p3lzV5mgUWOdLLcUXnEGKeQbUEM= X-Google-Smtp-Source: AGHT+IEYXP8Rr2VeCznsuXu5fPJRKcGs312LyhlIbARM1ItHQ3JPeeTZyJwndqEfJyQAEGeLhrWMkC4chASI X-Received: by 2002:a05:6214:cad:b0:6f2:d45c:4a35 with SMTP id 6a1803df08f44-6f6e4841cfcmr142079666d6.37.1746895595997; Sat, 10 May 2025 09:46:35 -0700 (PDT) Received: from postal.iol.unh.edu (postal.iol.unh.edu. [132.177.123.84]) by smtp-relay.gmail.com with ESMTPS id 6a1803df08f44-6f6e39f8fb6sm2433506d6.26.2025.05.10.09.46.35 (version=TLS1_2 cipher=ECDHE-ECDSA-AES128-GCM-SHA256 bits=128/128); Sat, 10 May 2025 09:46:35 -0700 (PDT) X-Relaying-Domain: iol.unh.edu Date: Sat, 10 May 2025 09:46:35 -0700 (PDT) Message-ID: <681f82eb.050a0220.25ab81.d410SMTPIN_ADDED_MISSING@mx.google.com> Received: from [172.17.0.2] (unknown [172.18.0.74]) by postal.iol.unh.edu (Postfix) with ESMTP id A33E96052471; Sat, 10 May 2025 12:46:35 -0400 (EDT) Subject: |SUCCESS| pw153393 [PATCH] test/crypto: fix RSA decrypt op validatio From: dpdklab@iol.unh.edu To: Test Report Cc: dpdk-test-reports@iol.unh.edu In-Reply-To: <20250510104452.2186-1-gmuthukrishn@marvell.com> References: <20250510104452.2186-1-gmuthukrishn@marvell.com> Content-Type: text/plain X-BeenThere: test-report@dpdk.org X-Mailman-Version: 2.1.29 Precedence: list List-Id: automatic DPDK test reports List-Unsubscribe: , List-Archive: List-Post: List-Help: List-Subscribe: , Errors-To: test-report-bounces@dpdk.org Test-Label: iol-compile-arm64-testing Test-Status: SUCCESS http://dpdk.org/patch/153393 _Testing PASS_ Submitter: Gowrishankar Muthukrishnan Date: Saturday, May 10 2025 10:44:47 DPDK git baseline: Repo:dpdk Branch: master CommitID:ca1690ebd224f148268285b15b97441ccdbdd07e 153393 --> testing pass Upstream job id: Generic-DPDK-Compile-Meson#387013 Test environment and result as below: +----------------------------------------+--------------------+ | Environment | dpdk_meson_compile | +========================================+====================+ | RHEL9 (ARM) | PASS | +----------------------------------------+--------------------+ | Debian 12 with MUSDK | PASS | +----------------------------------------+--------------------+ | Ubuntu 20.04 ARM GCC Cross Compile | PASS | +----------------------------------------+--------------------+ | Ubuntu 20.04 ARM SVE | PASS | +----------------------------------------+--------------------+ | Fedora 40 (ARM) | PASS | +----------------------------------------+--------------------+ | Ubuntu 20.04 (ARM) | PASS | +----------------------------------------+--------------------+ | Ubuntu 24.04 (ARM) | PASS | +----------------------------------------+--------------------+ | Fedora 41 (ARM) | PASS | +----------------------------------------+--------------------+ | Fedora 40 (ARM Clang) | PASS | +----------------------------------------+--------------------+ | Debian 12 (arm) | PASS | +----------------------------------------+--------------------+ | Fedora 41 (ARM Clang) | PASS | +----------------------------------------+--------------------+ | CentOS Stream 10 (ARM) | PASS | +----------------------------------------+--------------------+ | CentOS Stream 9 (ARM) | PASS | +----------------------------------------+--------------------+ | Ubuntu 22.04 (ARM) | PASS | +----------------------------------------+--------------------+ | Ubuntu 20.04 ARM Clang Cross Compile | PASS | +----------------------------------------+--------------------+ | Ubuntu 20.04 aarch32 GCC Cross Compile | PASS | +----------------------------------------+--------------------+ RHEL9 (ARM) Kernel: Depends on container host Compiler: gcc 11.5.0 20240719 (Red Hat 11.5.0-2) Debian 12 with MUSDK Kernel: Depends on container host Compiler: gcc (Debian 12.2.0-14) 12.2.0 Ubuntu 20.04 ARM GCC Cross Compile Kernel: Depends on container host Compiler: aarch64-linux-gnu-gcc (Ubuntu 9.4.0-1ubuntu1~20.04.2) 9.4.0 Ubuntu 20.04 ARM SVE Kernel: Depends on container host Compiler: gcc (Ubuntu 10.5.0-1ubuntu1~20.04) 10.5.0 Fedora 40 (ARM) Kernel: Depends on container host Compiler: gcc 14.2.1 20240912 (Red Hat 14.2.1-3) Ubuntu 20.04 (ARM) Kernel: Depends on container host Compiler: gcc (Ubuntu 9.4.0-1ubuntu1~20.04.2) 9.4.0 Ubuntu 24.04 (ARM) Kernel: Depends on container host Compiler: gcc (Ubuntu 13.3.0-6ubuntu2~24.04) 13.3.0 Fedora 41 (ARM) Kernel: Depends on container host Compiler: gcc 14.2.1 20240912 (Red Hat 14.2.1-3) Fedora 40 (ARM Clang) Kernel: Depends on container host Compiler: clang 18.1.8 (Fedora 18.1.8-1.fc40) Debian 12 (arm) Kernel: Depends on container host Compiler: gcc (Debian 12.2.0-14) 12.2.0 Fedora 41 (ARM Clang) Kernel: Depends on container host Compiler: clang 19.1.5 (Fedora 19.1.5-1.fc41) CentOS Stream 10 (ARM) Kernel: Depends on container host Compiler: gcc 14.2.1 20241104 (Red Hat 14.2.1-6) CentOS Stream 9 (ARM) Kernel: Depends on container host Compiler: gcc 11.5.0 20240719 (Red Hat 11.5.0-2) Ubuntu 22.04 (ARM) Kernel: Depends on container host Compiler: gcc (Ubuntu 11.4.0-1ubuntu1~22.04) 11.4.0 Ubuntu 20.04 ARM Clang Cross Compile Kernel: Depends on container host Compiler: clang 10.0.0-4ubuntu1 Ubuntu 20.04 aarch32 GCC Cross Compile Kernel: Depends on container host Compiler: gcc 9.4.0 To view detailed results, visit: https://lab.dpdk.org/results/dashboard/patchsets/33153/ UNH-IOL DPDK Community Lab To manage your email subscriptions, visit: https://lab.dpdk.org/results/dashboard/preferences/subscriptions/