From mboxrd@z Thu Jan 1 00:00:00 1970 Return-Path: Received: from mails.dpdk.org (mails.dpdk.org [217.70.189.124]) by inbox.dpdk.org (Postfix) with ESMTP id E190D46716 for ; Sun, 11 May 2025 07:08:09 +0200 (CEST) Received: from mails.dpdk.org (localhost [127.0.0.1]) by mails.dpdk.org (Postfix) with ESMTP id C27D54026C; Sun, 11 May 2025 07:08:09 +0200 (CEST) Received: from mail-pj1-f100.google.com (mail-pj1-f100.google.com [209.85.216.100]) by mails.dpdk.org (Postfix) with ESMTP id D05044026A for ; Sun, 11 May 2025 07:08:08 +0200 (CEST) Received: by mail-pj1-f100.google.com with SMTP id 98e67ed59e1d1-30c3a038acfso3111570a91.3 for ; Sat, 10 May 2025 22:08:08 -0700 (PDT) DKIM-Signature: v=1; a=rsa-sha256; c=relaxed/relaxed; d=iol.unh.edu; s=unh-iol; t=1746940088; x=1747544888; darn=dpdk.org; h=cc:to:from:subject:message-id:date:from:to:cc:subject:date :message-id:reply-to; bh=KLdSH72cZ9ucTDPr/qUdFHjS22JbJpNa2zlF9wVCXE0=; b=JtxHsAPnKeNUB4KQ0jrbqVigmETPxPJ1P2/waws6TrerU7ylxqQT9Ftw++sSL/Th1v rirCT0/2D6lvjPPAEnKgezFhJ2Oo+5vQhkFMEGD8v00Cij3ZsmYtdBQ3ws9f89SsYiss 6xO998t90qUu4AOjvaEsa0omP/hkyp8h+KAc4= X-Google-DKIM-Signature: v=1; a=rsa-sha256; c=relaxed/relaxed; d=1e100.net; s=20230601; t=1746940088; x=1747544888; h=cc:to:from:subject:message-id:date:x-gm-message-state:from:to:cc :subject:date:message-id:reply-to; bh=KLdSH72cZ9ucTDPr/qUdFHjS22JbJpNa2zlF9wVCXE0=; b=sMQIqjwmAMA4WupC6bVkbAmH1e39RyaazM6Gg1ByXH8sDToJRz5FON9yj8uWplUBax /IKdrhOFnecKq78KXpjYdLFv/iEDpp6HC0ec6UeXCTM0DkXzAE/AsEYVblnGkaap/6Uj 06qy94shJBaDjyIfM6sDnvKIGAxQ6bgiowgvFeshspaXXx3DReyar2BXMfoFwCf8wkEi NS8+pw4PXzvq8bw4/ZAEdCMPCtUpPr3wJHISCg7+2EajkpB2idcu4tv8qyO7BQ921wS3 xBHTAmp8rFcvdQBr4f/SLKSENu8GYE6kovleVRD9HZGn+Ik+zH+MKpmXVu0t4BABSy9F Hb2w== X-Gm-Message-State: AOJu0YxDM0onvZhqHsr8733OVodi0DFk0+QPkJit7Fr2uGV4SP8X3iyT VVXQXDt6yYtXuijAwqtvrQDxcWdd3QKY9BxfIkNaPgr78yzv2XbbXmI/TotjifZu0hX5lHQOh9r cH1pciPMDz25M0HRB+fyyh/GSV06PE1BV X-Gm-Gg: ASbGncuQFm6r9i/364IEhw4lOApOAEn+IFGQxs7gQKW25BDXDFBCInurVygW+n/OcGJ 4W7gyllJDipLbhxyJkuq4KFty/zex32XWhUbrQejh2SbsBrsOvAPN0rdPCoo+FnZ8rJ2ukrOZwP pFYOryINzRF/yDmrkmcdnpS9ii3X+h/3E1/O2NzOMB4OxApP5pdMi3bLgNoHcjpKsFmjQjs5KBa GECg9IdH4uPtJ94kP8Uffy+jT8jk20L+0kgB2aSn/vr2Fka3OAilx3/S9MOD5N/854W6cT2mMuZ trcbuBzjdCaQ6isq4127iKpzugXIdvXUWDTfxpLmJfonBCItHKCA0CiFT8s= X-Google-Smtp-Source: AGHT+IHgPodr6ZaXh9H3/d03gtpeEKGTHMqlHPX5p5W30kwxxO64bPAanZ2eqdtpLyUR4Aeq/1FcIPy5AZHE X-Received: by 2002:a17:902:c950:b0:21f:dbb:20a6 with SMTP id d9443c01a7336-22fc8e9970dmr121350035ad.33.1746940087740; Sat, 10 May 2025 22:08:07 -0700 (PDT) Received: from postal.iol.unh.edu (postal.iol.unh.edu. [132.177.123.84]) by smtp-relay.gmail.com with ESMTPS id d9443c01a7336-22fc5a26696sm2482335ad.36.2025.05.10.22.08.07 (version=TLS1_2 cipher=ECDHE-ECDSA-AES128-GCM-SHA256 bits=128/128); Sat, 10 May 2025 22:08:07 -0700 (PDT) X-Relaying-Domain: iol.unh.edu Date: Sat, 10 May 2025 22:08:07 -0700 (PDT) Message-ID: <682030b7.170a0220.18b3f.db3cSMTPIN_ADDED_MISSING@mx.google.com> Received: from [172.21.0.11] (unknown [172.18.0.240]) by postal.iol.unh.edu (Postfix) with ESMTP id E13996052471; Sun, 11 May 2025 01:08:06 -0400 (EDT) Subject: |SUCCESS| [GIT MASTER] 4c5634de9f933555bab9c64a533d3dca999071cd From: dpdklab@iol.unh.edu To: Test Report Cc: dpdk-test-reports@iol.unh.edu, Xueming Li , Christian Ehrhardt , Kevin Traynor , Luca Boccassi Content-Type: text/plain X-BeenThere: test-report@dpdk.org X-Mailman-Version: 2.1.29 Precedence: list List-Id: automatic DPDK test reports List-Unsubscribe: , List-Archive: List-Post: List-Help: List-Subscribe: , Errors-To: test-report-bounces@dpdk.org _Testing PASS_ Branch: tags/v24.11 4c5634de9f933555bab9c64a533d3dca999071cd --> testing pass Upstream job id: Generic-DPDK-Compile-ABI#126015 Test environment and result as below: +-------------------+----------+ | Environment | abi_test | +===================+==========+ | CentOS Stream 10 | PASS | +-------------------+----------+ | Debian 12 | PASS | +-------------------+----------+ | CentOS Stream 9 | PASS | +-------------------+----------+ | Fedora 40 (Clang) | PASS | +-------------------+----------+ | Fedora 40 | PASS | +-------------------+----------+ | Fedora 41 (Clang) | PASS | +-------------------+----------+ | openSUSE Leap 15 | PASS | +-------------------+----------+ | Fedora 41 | PASS | +-------------------+----------+ | RHEL8 | PASS | +-------------------+----------+ | Ubuntu 22.04 | PASS | +-------------------+----------+ | RHEL9 | PASS | +-------------------+----------+ | Ubuntu 24.04 | PASS | +-------------------+----------+ CentOS Stream 10 Kernel: Depends on container host Compiler: gcc 14.2.1 20241104 (Red Hat 14.2.1-6) Debian 12 Kernel: Depends on container host Compiler: gcc (Debian 12.2.0-14) 12.2.0 CentOS Stream 9 Kernel: Depends on container host Compiler: gcc 11.5.0 20240719 (Red Hat 11.5.0-2) Fedora 40 (Clang) Kernel: Depends on container host Compiler: clang 18.1.8 (Fedora 18.1.8-1.fc40) Fedora 40 Kernel: Depends on container host Compiler: gcc 14.2.1 20240912 (Red Hat 14.2.1-3) Fedora 41 (Clang) Kernel: Depends on container host Compiler: clang 19.1.5 (Fedora 19.1.5-1.fc41) openSUSE Leap 15 Kernel: Depends on container host Compiler: gcc (SUSE Linux) 7.5.0 Fedora 41 Kernel: Depends on container host Compiler: gcc 14.2.1 20240912 (Red Hat 14.2.1-3) RHEL8 Kernel: Depends on container host Compiler: gcc 8.5.0 20210514 (Red Hat 8.5.0-22) Ubuntu 22.04 Kernel: Depends on container host Compiler: gcc (Ubuntu 11.4.0-1ubuntu1~22.04) 11.4.0 RHEL9 Kernel: Depends on container host Compiler: gcc 11.5.0 20240719 (Red Hat 11.5.0-2) Ubuntu 24.04 Kernel: Depends on container host Compiler: gcc (Ubuntu 13.3.0-6ubuntu2~24.04) 13.3.0 To view detailed results, visit: https://lab.dpdk.org/results/dashboard/tarballs/33499/ UNH-IOL DPDK Community Lab To manage your email subscriptions, visit: https://lab.dpdk.org/results/dashboard/preferences/subscriptions/