From mboxrd@z Thu Jan 1 00:00:00 1970 Return-Path: Received: from mails.dpdk.org (mails.dpdk.org [217.70.189.124]) by inbox.dpdk.org (Postfix) with ESMTP id 2F63E46716 for ; Sun, 11 May 2025 07:43:18 +0200 (CEST) Received: from mails.dpdk.org (localhost [127.0.0.1]) by mails.dpdk.org (Postfix) with ESMTP id 277834026C; Sun, 11 May 2025 07:43:18 +0200 (CEST) Received: from mail-io1-f97.google.com (mail-io1-f97.google.com [209.85.166.97]) by mails.dpdk.org (Postfix) with ESMTP id 39DD14026A for ; Sun, 11 May 2025 07:43:17 +0200 (CEST) Received: by mail-io1-f97.google.com with SMTP id ca18e2360f4ac-86135af1045so403586439f.1 for ; Sat, 10 May 2025 22:43:17 -0700 (PDT) DKIM-Signature: v=1; a=rsa-sha256; c=relaxed/relaxed; d=iol.unh.edu; s=unh-iol; t=1746942196; x=1747546996; darn=dpdk.org; h=cc:to:from:subject:message-id:date:from:to:cc:subject:date :message-id:reply-to; bh=SNhjVJSXKhUc1oCrLFu3zj22GshLxD3X6xtaqcNWPXU=; b=PG4rrJqiXTvYDeNglhYJEL+7aiUrtQ5omPWIB8RMCe5KLj7FPNfrn9Bji3yCrgymDq WQlkoT3du6XQJxWcImjpfeG0dVhhSso1wwJdABIw9D0V0rFMshBZ0EHxRQMwfVYFSb0k 7+pKCk8bb7SKRpWpWiuy4cix4R6aPx2XBt8Es= X-Google-DKIM-Signature: v=1; a=rsa-sha256; c=relaxed/relaxed; d=1e100.net; s=20230601; t=1746942196; x=1747546996; h=cc:to:from:subject:message-id:date:x-gm-message-state:from:to:cc :subject:date:message-id:reply-to; bh=SNhjVJSXKhUc1oCrLFu3zj22GshLxD3X6xtaqcNWPXU=; b=rQZawtBi2jfbgVnEnmJubaS487vXg7fSTMhEntDjGVBk94i4VgLh73O44ITDKedQzJ 3pWPwkTr6yDLiwCBQr9IOY94nwW+18uJj/vUswg+xdRj0l3HYZza818mXWFpvNj9X7hC CGTn/DoCOVwf+inh2APvBII4f9BFgk8uh0WljXXR4b/K30+8t7/JJBvyRdnYSeg3ds0d 2nL2YZbfGCxcwGjzMEyGVQU3H/un7NQ0o58L/J78Nd37YImvtEj/g2rJZpje19pM7C8Y f59Ks9Ypy2M8IsHwKrYbu2Uxd4+tftw/NkU6U8Mdn9eFOJVSI4RJ7a9SvQeykAEQDpUg 04vQ== X-Gm-Message-State: AOJu0YzrBf8nwXtGG6PLWqIN8we+m1Vv2Ba2nTdIf/zfBr840t4oA07p PSGlYrUVdIGNiTzgamkDN6f+sSsiGG9zl2l1o1UCtX6l4gNmogrn6ohfj1+/fUOLZC5YkZRUEzO b93+5rtjyvEt1NASGwAmyvpytwAu+hLF2ERzWpvBcJYUv+z/6 X-Gm-Gg: ASbGnctomopEyKOs16Hm/CQL9rtUBX9M8Lld0Zjt0eotnTF4saDsvbm9jJoYUnOo68n 7Gz58KWQIvrIkAi30mcsm4YYCklVWDBSeMomOaiWv0+AVf1sf4isopZ606q174Vkm4O1J2mLTKm wmNCSo45Fqwf9BYS9FTNLjSJHJdgGU4ZT1oSMROvVmXo/kO4igrvQ46iRilJLPGZhUTKpmBCixq L49GWfVmUzRyUoJUsZvalIvY7Ft2KD76dQa8walam/POVO3ZezqRSQl+GAqURICsdjK7RYLGaQ2 hOfyBRgKUKeo5sP04uwhwE7WiYCrJGzHDVPt X-Google-Smtp-Source: AGHT+IHNZO1YYeyXYt6Wsr3VSTjMAoNMpQI3w0nyQHS/8KDnjcIRt7NMFm8U3/gH1S4UmCuBQDsM0BNTvc89 X-Received: by 2002:a05:6e02:219c:b0:3d3:d067:73f8 with SMTP id e9e14a558f8ab-3da7e1e77c6mr88653375ab.11.1746942185988; Sat, 10 May 2025 22:43:05 -0700 (PDT) Received: from postal.iol.unh.edu (postal.iol.unh.edu. [2606:4100:3880:1234::84]) by smtp-relay.gmail.com with ESMTPS id e9e14a558f8ab-3da7e0f9a8asm3523735ab.8.2025.05.10.22.43.05 (version=TLS1_2 cipher=ECDHE-ECDSA-AES128-GCM-SHA256 bits=128/128); Sat, 10 May 2025 22:43:05 -0700 (PDT) X-Relaying-Domain: iol.unh.edu Date: Sat, 10 May 2025 22:43:05 -0700 (PDT) Message-ID: <682038e9.920a0220.20b7cc.3778SMTPIN_ADDED_MISSING@mx.google.com> Received: from [172.21.0.13] (unknown [172.18.0.240]) by postal.iol.unh.edu (Postfix) with ESMTP id 7633C6052471; Sun, 11 May 2025 01:43:05 -0400 (EDT) Subject: |SUCCESS| [GIT MASTER] 4c5634de9f933555bab9c64a533d3dca999071cd From: dpdklab@iol.unh.edu To: Test Report Cc: dpdk-test-reports@iol.unh.edu, Xueming Li , Christian Ehrhardt , Kevin Traynor , Luca Boccassi Content-Type: text/plain X-BeenThere: test-report@dpdk.org X-Mailman-Version: 2.1.29 Precedence: list List-Id: automatic DPDK test reports List-Unsubscribe: , List-Archive: List-Post: List-Help: List-Subscribe: , Errors-To: test-report-bounces@dpdk.org _Testing PASS_ Branch: tags/v24.11 4c5634de9f933555bab9c64a533d3dca999071cd --> testing pass Upstream job id: Generic-Unit-Test-DPDK#337043 Test environment and result as below: +-----------------------------+--------------+---------------------------+------------------------------+----------------+ | Environment | lpm_autotest | cryptodev_sw_zuc_autotest | cryptodev_sw_snow3g_autotest | dpdk_unit_test | +=============================+==============+===========================+==============================+================+ | Ubuntu 20.04 ARM SVE | PASS | SKIPPED | SKIPPED | SKIPPED | +-----------------------------+--------------+---------------------------+------------------------------+----------------+ | Debian 12 (arm) | SKIPPED | PASS | PASS | PASS | +-----------------------------+--------------+---------------------------+------------------------------+----------------+ | Fedora 40 (ARM) | SKIPPED | SKIPPED | SKIPPED | PASS | +-----------------------------+--------------+---------------------------+------------------------------+----------------+ | CentOS Stream 9 (ARM) | SKIPPED | SKIPPED | SKIPPED | PASS | +-----------------------------+--------------+---------------------------+------------------------------+----------------+ | CentOS Stream 10 (ARM) | SKIPPED | SKIPPED | SKIPPED | PASS | +-----------------------------+--------------+---------------------------+------------------------------+----------------+ | Fedora 41 (ARM Clang) | SKIPPED | SKIPPED | SKIPPED | PASS | +-----------------------------+--------------+---------------------------+------------------------------+----------------+ | Fedora 40 (ARM Clang) | SKIPPED | SKIPPED | SKIPPED | PASS | +-----------------------------+--------------+---------------------------+------------------------------+----------------+ | Fedora 41 (ARM) | SKIPPED | SKIPPED | SKIPPED | PASS | +-----------------------------+--------------+---------------------------+------------------------------+----------------+ | RHEL9 (ARM) | SKIPPED | SKIPPED | SKIPPED | PASS | +-----------------------------+--------------+---------------------------+------------------------------+----------------+ | Ubuntu 20.04 (ARM) | SKIPPED | SKIPPED | SKIPPED | PASS | +-----------------------------+--------------+---------------------------+------------------------------+----------------+ | Ubuntu 22.04 (ARM) | SKIPPED | SKIPPED | SKIPPED | PASS | +-----------------------------+--------------+---------------------------+------------------------------+----------------+ | Ubuntu 24.04 (ARM) | SKIPPED | SKIPPED | SKIPPED | PASS | +-----------------------------+--------------+---------------------------+------------------------------+----------------+ | 32-bit Ubuntu 22.04.4 (ARM) | SKIPPED | SKIPPED | SKIPPED | PASS | +-----------------------------+--------------+---------------------------+------------------------------+----------------+ Ubuntu 20.04 ARM SVE Kernel: Depends on container host Compiler: gcc (Ubuntu 10.5.0-1ubuntu1~20.04) 10.5.0 Debian 12 (arm) Kernel: Depends on container host Compiler: gcc (Debian 12.2.0-14) 12.2.0 Fedora 40 (ARM) Kernel: Depends on container host Compiler: gcc 14.2.1 20240912 (Red Hat 14.2.1-3) CentOS Stream 9 (ARM) Kernel: Depends on container host Compiler: gcc 11.5.0 20240719 (Red Hat 11.5.0-2) CentOS Stream 10 (ARM) Kernel: Depends on container host Compiler: gcc 14.2.1 20241104 (Red Hat 14.2.1-6) Fedora 41 (ARM Clang) Kernel: Depends on container host Compiler: clang 19.1.5 (Fedora 19.1.5-1.fc41) Fedora 40 (ARM Clang) Kernel: Depends on container host Compiler: clang 18.1.8 (Fedora 18.1.8-1.fc40) Fedora 41 (ARM) Kernel: Depends on container host Compiler: gcc 14.2.1 20240912 (Red Hat 14.2.1-3) RHEL9 (ARM) Kernel: Depends on container host Compiler: gcc 11.5.0 20240719 (Red Hat 11.5.0-2) Ubuntu 20.04 (ARM) Kernel: Depends on container host Compiler: gcc (Ubuntu 9.4.0-1ubuntu1~20.04.2) 9.4.0 Ubuntu 22.04 (ARM) Kernel: Depends on container host Compiler: gcc (Ubuntu 11.4.0-1ubuntu1~22.04) 11.4.0 Ubuntu 24.04 (ARM) Kernel: Depends on container host Compiler: gcc (Ubuntu 13.3.0-6ubuntu2~24.04) 13.3.0 32-bit Ubuntu 22.04.4 (ARM) Kernel: 5.15.83+ aarch64 Compiler: gcc (Ubuntu 11.4.0-1ubuntu1~22.04) 11.4.0 To view detailed results, visit: https://lab.dpdk.org/results/dashboard/tarballs/33499/ UNH-IOL DPDK Community Lab To manage your email subscriptions, visit: https://lab.dpdk.org/results/dashboard/preferences/subscriptions/