From mboxrd@z Thu Jan 1 00:00:00 1970 Return-Path: Received: from mails.dpdk.org (mails.dpdk.org [217.70.189.124]) by inbox.dpdk.org (Postfix) with ESMTP id 6293446718 for ; Sun, 11 May 2025 08:29:56 +0200 (CEST) Received: from mails.dpdk.org (localhost [127.0.0.1]) by mails.dpdk.org (Postfix) with ESMTP id 3E2094026C; Sun, 11 May 2025 08:29:56 +0200 (CEST) Received: from mail-ua1-f98.google.com (mail-ua1-f98.google.com [209.85.222.98]) by mails.dpdk.org (Postfix) with ESMTP id 95CCE4026A for ; Sun, 11 May 2025 08:29:54 +0200 (CEST) Received: by mail-ua1-f98.google.com with SMTP id a1e0cc1a2514c-8792b6d756fso893423241.2 for ; Sat, 10 May 2025 23:29:54 -0700 (PDT) DKIM-Signature: v=1; a=rsa-sha256; c=relaxed/relaxed; d=iol.unh.edu; s=unh-iol; t=1746944994; x=1747549794; darn=dpdk.org; h=cc:to:from:subject:message-id:date:from:to:cc:subject:date :message-id:reply-to; bh=C4K6119Wgc0L7xD4ygNgv97sFLg5M9a50SvvIZiDe6c=; b=Ic5eG//KA7HtPXJozYNAO88tnuvKbGFqam4X74HLljDSTS/JCtnrXyGb+AvURe3vcV smvvb0U+Tjcxie8hCOSJfCFpBbCRKcPL0yLMi3D0gWEvIT4+ROBfP0CoxoXOvfcL1zZa Og5vXOaIpbXnajdhEysppYm9EBBxGivKLj3RA= X-Google-DKIM-Signature: v=1; a=rsa-sha256; c=relaxed/relaxed; d=1e100.net; s=20230601; t=1746944994; x=1747549794; h=cc:to:from:subject:message-id:date:x-gm-message-state:from:to:cc :subject:date:message-id:reply-to; bh=C4K6119Wgc0L7xD4ygNgv97sFLg5M9a50SvvIZiDe6c=; b=X32s3hFteKigQPZSiPFzXdkRuRz/PP/pCxRJ//1GX53aPPwBAPvOaE3e7qREOwxwbj a8VHGJBb2j7ldbGWEYPPHxSkbF+7LimVtu7O73lMJA8wv8AspnJ+gddBhyStR4Np8qKy TqMAJves14YtrQkeX4m0OFmDVc+4158Q9MctOd74MSM1oDZPN0XfEiRLiwc/YzPc+drR NnEcfnHr2E8s7rxmIEK26HOuX59Yqat9JlORBgd1VY+Qpt6dezYsdPRb29Dk6t6TVIep REOE/oI5QqMgoFurNdL1+l66Zs6/KeLjvKC/15u5yXC7fmXydcF7CO2sEI5RaidcWqyW P7NA== X-Gm-Message-State: AOJu0YyhBwueyVvn8vtmzzqVr1UoNJIuaPTfu4T5QAPs5U1k0bne3wfU Okg5WfAhWJX1GH0Mr3p5t9TCGunksA64Fn9qyj+JYA3Z70BMEtsLLnBN8XJpmNQizLQpQi0u0r6 5uo2BYDAp4AeajT2lGSdoj+qKVdo2CgYy X-Gm-Gg: ASbGnct5cxApIqkbb2Mkq6SnXhHKQTH78QAqXjudpasDeMtHEWK20KhZeiSCLxr+4QN MIB1s+AdniK++uUdAbOSaQs4KWMNpw4Pd+QNxTft8LBQi+tuPj4KmEyXTDz4u8WhuMKMu3/cOn/ ilodlZxNTVs9TF9udcQww7XtZSpD/PvrDd8uFNkMo+3phaQsVTruusQ16zP5+nYzqm9pgn55284 ou/iCohNgO3EO0sFxKB/G55tJkAoJqPsV7x8D5bWYy3J1MTn4D49aUNe3JbluYpDzAeDVsJYL4D oV2iKd1UgdmjG2rXqbXpQ5dm/5JfWzMCY8nQG5lMcy1L9/6orc7T20GWRAk= X-Google-Smtp-Source: AGHT+IHiVendO7QBwFf56sf9OazfRy5gbAN+9huD/ZHAA9/U8QQ//vujNlRjuLQCTDs13nqW8jx9UsSrCpqk X-Received: by 2002:a05:6102:3e16:b0:4c3:b0:46fd with SMTP id ada2fe7eead31-4deed3ec5cbmr7527310137.24.1746944993805; Sat, 10 May 2025 23:29:53 -0700 (PDT) Received: from postal.iol.unh.edu (postal.iol.unh.edu. [132.177.123.84]) by smtp-relay.gmail.com with ESMTPS id a1e0cc1a2514c-879f61d52dcsm120251241.8.2025.05.10.23.29.53 (version=TLS1_2 cipher=ECDHE-ECDSA-AES128-GCM-SHA256 bits=128/128); Sat, 10 May 2025 23:29:53 -0700 (PDT) X-Relaying-Domain: iol.unh.edu Date: Sat, 10 May 2025 23:29:53 -0700 (PDT) Message-ID: <682043e1.050a0220.1c70e2.6639SMTPIN_ADDED_MISSING@mx.google.com> Received: from [172.21.0.5] (unknown [172.18.0.240]) by postal.iol.unh.edu (Postfix) with ESMTP id 73BFD6052471; Sun, 11 May 2025 02:29:53 -0400 (EDT) Subject: |SUCCESS| [GIT MASTER] 4c5634de9f933555bab9c64a533d3dca999071cd From: dpdklab@iol.unh.edu To: Test Report Cc: dpdk-test-reports@iol.unh.edu, Xueming Li , Christian Ehrhardt , Kevin Traynor , Luca Boccassi Content-Type: text/plain X-BeenThere: test-report@dpdk.org X-Mailman-Version: 2.1.29 Precedence: list List-Id: automatic DPDK test reports List-Unsubscribe: , List-Archive: List-Post: List-Help: List-Subscribe: , Errors-To: test-report-bounces@dpdk.org _Testing PASS_ Branch: tags/v24.11 4c5634de9f933555bab9c64a533d3dca999071cd --> testing pass Upstream job id: Generic-Unit-Test-DPDK#337051 Test environment and result as below: +---------------------+----------------+ | Environment | dpdk_unit_test | +=====================+================+ | CentOS Stream 10 | PASS | +---------------------+----------------+ | Debian 12 | PASS | +---------------------+----------------+ | CentOS Stream 9 | PASS | +---------------------+----------------+ | Fedora 40 | PASS | +---------------------+----------------+ | RHEL8 | PASS | +---------------------+----------------+ | Fedora 40 (Clang) | PASS | +---------------------+----------------+ | Fedora 41 | PASS | +---------------------+----------------+ | RHEL9 | PASS | +---------------------+----------------+ | Fedora 41 (Clang) | PASS | +---------------------+----------------+ | Ubuntu 20.04 | PASS | +---------------------+----------------+ | Ubuntu 22.04 | PASS | +---------------------+----------------+ | Ubuntu 24.04 | PASS | +---------------------+----------------+ | Windows Server 2022 | PASS | +---------------------+----------------+ CentOS Stream 10 Kernel: Depends on container host Compiler: gcc 14.2.1 20241104 (Red Hat 14.2.1-6) Debian 12 Kernel: Depends on container host Compiler: gcc (Debian 12.2.0-14) 12.2.0 CentOS Stream 9 Kernel: Depends on container host Compiler: gcc 11.5.0 20240719 (Red Hat 11.5.0-2) Fedora 40 Kernel: Depends on container host Compiler: gcc 14.2.1 20240912 (Red Hat 14.2.1-3) RHEL8 Kernel: Depends on container host Compiler: gcc 8.5.0 20210514 (Red Hat 8.5.0-22) Fedora 40 (Clang) Kernel: Depends on container host Compiler: clang 18.1.8 (Fedora 18.1.8-1.fc40) Fedora 41 Kernel: Depends on container host Compiler: gcc 14.2.1 20240912 (Red Hat 14.2.1-3) RHEL9 Kernel: Depends on container host Compiler: gcc 11.5.0 20240719 (Red Hat 11.5.0-2) Fedora 41 (Clang) Kernel: Depends on container host Compiler: clang 19.1.5 (Fedora 19.1.5-1.fc41) Ubuntu 20.04 Kernel: Depends on container host Compiler: gcc (Ubuntu 9.4.0-1ubuntu1~20.04.2) 9.4.0 Ubuntu 22.04 Kernel: Depends on container host Compiler: gcc (Ubuntu 11.4.0-1ubuntu1~22.04) 11.4.0 Ubuntu 24.04 Kernel: Depends on container host Compiler: gcc (Ubuntu 13.3.0-6ubuntu2~24.04) 13.3.0 Windows Server 2022 Kernel: 10.0.20348.2031 Compiler: clang 15.0.7, gcc 14.1.0 (MinGW), and MSVC VS 19.39.33521 To view detailed results, visit: https://lab.dpdk.org/results/dashboard/tarballs/33499/ UNH-IOL DPDK Community Lab To manage your email subscriptions, visit: https://lab.dpdk.org/results/dashboard/preferences/subscriptions/