From mboxrd@z Thu Jan 1 00:00:00 1970 Return-Path: Received: from mails.dpdk.org (mails.dpdk.org [217.70.189.124]) by inbox.dpdk.org (Postfix) with ESMTP id C20A646718 for ; Sun, 11 May 2025 09:12:35 +0200 (CEST) Received: from mails.dpdk.org (localhost [127.0.0.1]) by mails.dpdk.org (Postfix) with ESMTP id 933594026C; Sun, 11 May 2025 09:12:35 +0200 (CEST) Received: from mail-ua1-f98.google.com (mail-ua1-f98.google.com [209.85.222.98]) by mails.dpdk.org (Postfix) with ESMTP id 8F7CC4026A for ; Sun, 11 May 2025 09:12:33 +0200 (CEST) Received: by mail-ua1-f98.google.com with SMTP id a1e0cc1a2514c-86fbb48fc7fso867847241.2 for ; Sun, 11 May 2025 00:12:33 -0700 (PDT) DKIM-Signature: v=1; a=rsa-sha256; c=relaxed/relaxed; d=iol.unh.edu; s=unh-iol; t=1746947553; x=1747552353; darn=dpdk.org; h=cc:to:from:subject:message-id:date:from:to:cc:subject:date :message-id:reply-to; bh=agFF+eZnsXTNAzKfag1te2Ej8jiVBLcgK+6pGfloS9c=; b=fXKQNXv3WgOIRr4HbpE3ynp+k9TcrmZkoDKs2KIEJoC9NjEEF8+4Gqye2faR9DhDZl NjF/iYTyP0NwDQLn83Ka5dOBj/ADTiKn1LK3ztcbUc+ddZQMsgMWOIsVwK5QW109QNEa kJ5VQdEOv9QRDt7PaadqYAmd8CZPJgtKEFqBM= X-Google-DKIM-Signature: v=1; a=rsa-sha256; c=relaxed/relaxed; d=1e100.net; s=20230601; t=1746947553; x=1747552353; h=cc:to:from:subject:message-id:date:x-gm-message-state:from:to:cc :subject:date:message-id:reply-to; bh=agFF+eZnsXTNAzKfag1te2Ej8jiVBLcgK+6pGfloS9c=; b=Q+Dk8YUHxKiEHGh0VuKHvpVhb1AszN6rUXpQgiYgfE4c7aydTnnuYwN+besNab/jQc 4L7KcTexMIz6nasQS7tXyTO4ZPGAJPVpQ4/hoF7N6x+5p5ck2x/hmR5YDdVUaWt6xlhd latoFCD4Yzenyk879ZZfkZ43m4JtHiKCMg+WshhH9lMDA/vsM4f9kRO+4K7CmZwlkNoF COShmzYMz13+Mc6Vv+ZgtCGrKofdbwzcvcX/mxxnxDmzpmmJNp8cbWhTI8xFCkD/eK0Q PUNcNQAC2swia3++hnyxi3av0jvwgIU2nQpuDIrcfgGE6b6VCBInaYbGL59OJN2bdOfG 4KfQ== X-Gm-Message-State: AOJu0YwYUCdXMeK46hAhIJUDKyQiVsSYNoIgAjLC3UlPjhSMiIbombgk ZT6zN8+hmbdpid1w9K6AIuee/ynA/tX5dS6Y6KdWHwuHs0DDx5iy8qsZM6IGbpUKzGoDq5WKTGL COALAjvv6Rp1FFe5XeyVKx7T3OVO2GOSd X-Gm-Gg: ASbGncuRhLuoW0O6n4+oWT2tXttgKs+wMyVw2j3cD5Icy3XAkMCFLhD+hVyCNn+Irwm pASjJ175HPz/nEIck7TvuoZKsccUJ2F5BpkiQNl1GcO0+pUNnc6cqN0Qb6FYQ4yftqOCOruCNwM RGuSQ822rZejyvFpMDURuz0tB3jQCOW9bINCavpV8MoXt8EEfaAtQBA+l9tKcT2aQB1kqp+uyDq PuZ4Fl8GrZI0L7CgaqPupYFgFDhzHzsQoaFfZdPcnxeFw9RYRQ4u9xe1ejUwl0MlNenEiODGVbv v1uILNVtK5rNGvIgYSN2WdTVlqdLNh4dp+02PNyi9xYSiubAzfzdCNAAH9g= X-Google-Smtp-Source: AGHT+IEzf+umk5kOG006DSjbdwC7Hr2B0UVX7XKM5xWv+/NbOgaENmunc9TTy4HpDrnYKpQToggOI7AhplD0 X-Received: by 2002:a05:6102:8006:b0:4bb:cdc0:5dd7 with SMTP id ada2fe7eead31-4deed3cf581mr6526569137.16.1746947552817; Sun, 11 May 2025 00:12:32 -0700 (PDT) Received: from postal.iol.unh.edu (postal.iol.unh.edu. [132.177.123.84]) by smtp-relay.gmail.com with ESMTPS id a1e0cc1a2514c-879f61969a7sm137228241.4.2025.05.11.00.12.32 (version=TLS1_2 cipher=ECDHE-ECDSA-AES128-GCM-SHA256 bits=128/128); Sun, 11 May 2025 00:12:32 -0700 (PDT) X-Relaying-Domain: iol.unh.edu Date: Sun, 11 May 2025 00:12:32 -0700 (PDT) Message-ID: <68204de0.b00a0220.3a4b81.7379SMTPIN_ADDED_MISSING@mx.google.com> Received: from [172.21.0.11] (unknown [172.18.0.240]) by postal.iol.unh.edu (Postfix) with ESMTP id 7E7F06052471; Sun, 11 May 2025 03:12:32 -0400 (EDT) Subject: |SUCCESS| [GIT MASTER] 83a7a648344674c0269fcaeb71d8d16468421a0e From: dpdklab@iol.unh.edu To: Test Report Cc: dpdk-test-reports@iol.unh.edu, Xueming Li , Christian Ehrhardt , Kevin Traynor , Luca Boccassi Content-Type: text/plain X-BeenThere: test-report@dpdk.org X-Mailman-Version: 2.1.29 Precedence: list List-Id: automatic DPDK test reports List-Unsubscribe: , List-Archive: List-Post: List-Help: List-Subscribe: , Errors-To: test-report-bounces@dpdk.org _Testing PASS_ Branch: tags/v23.11 83a7a648344674c0269fcaeb71d8d16468421a0e --> testing pass Upstream job id: Generic-Unit-Test-DPDK#337068 Test environment and result as below: +---------------------+----------------+ | Environment | dpdk_unit_test | +=====================+================+ | CentOS Stream 9 | PASS | +---------------------+----------------+ | CentOS Stream 10 | PASS | +---------------------+----------------+ | Fedora 41 (Clang) | PASS | +---------------------+----------------+ | Fedora 40 | PASS | +---------------------+----------------+ | Fedora 41 | PASS | +---------------------+----------------+ | RHEL8 | PASS | +---------------------+----------------+ | Ubuntu 22.04 | PASS | +---------------------+----------------+ | Debian 12 | PASS | +---------------------+----------------+ | Fedora 40 (Clang) | PASS | +---------------------+----------------+ | Ubuntu 20.04 | PASS | +---------------------+----------------+ | Ubuntu 24.04 | PASS | +---------------------+----------------+ | RHEL9 | PASS | +---------------------+----------------+ | Windows Server 2022 | PASS | +---------------------+----------------+ CentOS Stream 9 Kernel: Depends on container host Compiler: gcc 11.5.0 20240719 (Red Hat 11.5.0-2) CentOS Stream 10 Kernel: Depends on container host Compiler: gcc 14.2.1 20241104 (Red Hat 14.2.1-6) Fedora 41 (Clang) Kernel: Depends on container host Compiler: clang 19.1.5 (Fedora 19.1.5-1.fc41) Fedora 40 Kernel: Depends on container host Compiler: gcc 14.2.1 20240912 (Red Hat 14.2.1-3) Fedora 41 Kernel: Depends on container host Compiler: gcc 14.2.1 20240912 (Red Hat 14.2.1-3) RHEL8 Kernel: Depends on container host Compiler: gcc 8.5.0 20210514 (Red Hat 8.5.0-22) Ubuntu 22.04 Kernel: Depends on container host Compiler: gcc (Ubuntu 11.4.0-1ubuntu1~22.04) 11.4.0 Debian 12 Kernel: Depends on container host Compiler: gcc (Debian 12.2.0-14) 12.2.0 Fedora 40 (Clang) Kernel: Depends on container host Compiler: clang 18.1.8 (Fedora 18.1.8-1.fc40) Ubuntu 20.04 Kernel: Depends on container host Compiler: gcc (Ubuntu 9.4.0-1ubuntu1~20.04.2) 9.4.0 Ubuntu 24.04 Kernel: Depends on container host Compiler: gcc (Ubuntu 13.3.0-6ubuntu2~24.04) 13.3.0 RHEL9 Kernel: Depends on container host Compiler: gcc 11.5.0 20240719 (Red Hat 11.5.0-2) Windows Server 2022 Kernel: 10.0.20348.2031 Compiler: clang 15.0.7, gcc 14.1.0 (MinGW), and MSVC VS 19.39.33521 To view detailed results, visit: https://lab.dpdk.org/results/dashboard/tarballs/33501/ UNH-IOL DPDK Community Lab To manage your email subscriptions, visit: https://lab.dpdk.org/results/dashboard/preferences/subscriptions/