From mboxrd@z Thu Jan 1 00:00:00 1970 Return-Path: Received: from mails.dpdk.org (mails.dpdk.org [217.70.189.124]) by inbox.dpdk.org (Postfix) with ESMTP id D24DC46718 for ; Sun, 11 May 2025 09:37:15 +0200 (CEST) Received: from mails.dpdk.org (localhost [127.0.0.1]) by mails.dpdk.org (Postfix) with ESMTP id AF14C4026C; Sun, 11 May 2025 09:37:15 +0200 (CEST) Received: from mail-yb1-f227.google.com (mail-yb1-f227.google.com [209.85.219.227]) by mails.dpdk.org (Postfix) with ESMTP id BDF794026A for ; Sun, 11 May 2025 09:37:14 +0200 (CEST) Received: by mail-yb1-f227.google.com with SMTP id 3f1490d57ef6-e731a56e111so3363118276.1 for ; Sun, 11 May 2025 00:37:14 -0700 (PDT) DKIM-Signature: v=1; a=rsa-sha256; c=relaxed/relaxed; d=iol.unh.edu; s=unh-iol; t=1746949034; x=1747553834; darn=dpdk.org; h=cc:to:from:subject:message-id:date:from:to:cc:subject:date :message-id:reply-to; bh=1ExTB/TIQG3OuDqk4DdqW6R1InYcuygbHuK5zuBAA/Q=; b=N+qGa363AtZHmvFwMc8kZV6QoMnvLDE7F4WN2tVNBlWVRlvedylcQKhPJbAHzsnOa1 LB++/F21ATYEbIuh6B+C6GJQG03WQ3KJv4siIvSqGNLT/pklwZkOqB3/GjzwGMHEejHk Vgj46xhKbO2HVGAlOFPD6E/lagLrN0pJC+RCw= X-Google-DKIM-Signature: v=1; a=rsa-sha256; c=relaxed/relaxed; d=1e100.net; s=20230601; t=1746949034; x=1747553834; h=cc:to:from:subject:message-id:date:x-gm-message-state:from:to:cc :subject:date:message-id:reply-to; bh=1ExTB/TIQG3OuDqk4DdqW6R1InYcuygbHuK5zuBAA/Q=; b=aqwy4Cgsxz8C92xCUnuaGduPjtNa2NvYbRPg3ix4KgdDXO4k3NRqu8XKUdmEh4zzDm nXDV3uOG+H6fENMoZqZs7l4XzVZ5RdSM8UDt01B822lRAYq0MN9p/WXC7n7yX9nA36Sf 7FiFIJ+n9iFlQsjI+JfDgT3ll8cR59W0XRYjzkBjcA6zyn0/VwXl16CUx8m1Jim+Xcct /iz0YoV0as2XQyzrpImx7lQoaZarzBDoOFttPVP21NKr+j2E1IJgqCzV7mibOVSE2eHv yZV8SyekkjnO5QPsHLB+vuS1asAo8i4qJJJvZ9gU9pHG9zlZHEkFtaYCdBV49KPAalki LdRg== X-Gm-Message-State: AOJu0YxX45kbfJwsscg5AVY5QEsRt4p2352KgspfqPfvGLt6Ch0ADXrM wwzgs/tUyFQ/dJXINdNi1OR2soXQlDzE5vBMQ4p1VeLETyFK9rYN6vYvfjTC0FxlUQyLlfq5O2s KTdVuJFtuk2YvvM/Psd+TqXRDhQ3ltwSG X-Gm-Gg: ASbGncu6FYV/+/Gp8Y6kZypjM7iCFDL6wJwJf0Ai55oCsc02O4jZgymSTnjMtJ/uIW5 IL00p6rWgynJYHqGz5mns7A7g5KhzJPvBAC7abMHlYP2vF1NMLn2mXoqATW295TqqLG3yfTsPc4 vxeh6yjEMuJEaOvsd0z1exMcL3W9pOGxjZggOiXK+QT0ASKHhp4b5hgf24nARp/4adGSSczfI/s JRYsZciHCIFjQVzatkb7wRWHJe3oa8FEVwyQOBorqBhL4zzsgtZQIBG6udTE7fnpcbXsdgu40xk HqT+IDRfMa2bho5V1d0DD5FeMFNwAy41zFaBFv+e07IvpHsmju2WHgCsYao= X-Google-Smtp-Source: AGHT+IGvpFZPmqwBv9pp9U/QqlmbBFBH81ZhxEbVGGYRvM8SXpUA3aPMigry1WmlHO25lFJvqY4Yt6ZnQI7b X-Received: by 2002:a05:6902:158f:b0:e76:6a5d:c92a with SMTP id 3f1490d57ef6-e78fdd3f044mr12259457276.37.1746949033814; Sun, 11 May 2025 00:37:13 -0700 (PDT) Received: from postal.iol.unh.edu (postal.iol.unh.edu. [132.177.123.84]) by smtp-relay.gmail.com with ESMTPS id 3f1490d57ef6-e78fd454701sm123607276.1.2025.05.11.00.37.13 (version=TLS1_2 cipher=ECDHE-ECDSA-AES128-GCM-SHA256 bits=128/128); Sun, 11 May 2025 00:37:13 -0700 (PDT) X-Relaying-Domain: iol.unh.edu Date: Sun, 11 May 2025 00:37:13 -0700 (PDT) Message-ID: <682053a9.050a0220.2889f6.6360SMTPIN_ADDED_MISSING@mx.google.com> Received: from [172.17.0.3] (unknown [172.18.0.74]) by postal.iol.unh.edu (Postfix) with ESMTP id 655D66052471; Sun, 11 May 2025 03:37:13 -0400 (EDT) Subject: |SUCCESS| [GIT MASTER] 83a7a648344674c0269fcaeb71d8d16468421a0e From: dpdklab@iol.unh.edu To: Test Report Cc: dpdk-test-reports@iol.unh.edu, Xueming Li , Christian Ehrhardt , Kevin Traynor , Luca Boccassi Content-Type: text/plain X-BeenThere: test-report@dpdk.org X-Mailman-Version: 2.1.29 Precedence: list List-Id: automatic DPDK test reports List-Unsubscribe: , List-Archive: List-Post: List-Help: List-Subscribe: , Errors-To: test-report-bounces@dpdk.org _Testing PASS_ Branch: tags/v23.11 83a7a648344674c0269fcaeb71d8d16468421a0e --> testing pass Upstream job id: Generic-DPDK-Compile-Meson#387085 Test environment and result as below: +------------------------------------+--------------------+ | Environment | dpdk_meson_compile | +====================================+====================+ | RHEL9 (ARM) | PASS | +------------------------------------+--------------------+ | Ubuntu 20.04 ARM GCC Cross Compile | PASS | +------------------------------------+--------------------+ | Ubuntu 20.04 ARM SVE | PASS | +------------------------------------+--------------------+ | Debian 12 with MUSDK | PASS | +------------------------------------+--------------------+ | Ubuntu 20.04 (ARM) | PASS | +------------------------------------+--------------------+ | Fedora 40 (ARM) | PASS | +------------------------------------+--------------------+ | Fedora 40 (ARM Clang) | PASS | +------------------------------------+--------------------+ | Fedora 41 (ARM) | PASS | +------------------------------------+--------------------+ | Ubuntu 22.04 (ARM) | PASS | +------------------------------------+--------------------+ | CentOS Stream 9 (ARM) | PASS | +------------------------------------+--------------------+ | Ubuntu 24.04 (ARM) | PASS | +------------------------------------+--------------------+ | Debian 12 (arm) | PASS | +------------------------------------+--------------------+ | CentOS Stream 10 (ARM) | PASS | +------------------------------------+--------------------+ RHEL9 (ARM) Kernel: Depends on container host Compiler: gcc 11.5.0 20240719 (Red Hat 11.5.0-2) Ubuntu 20.04 ARM GCC Cross Compile Kernel: Depends on container host Compiler: aarch64-linux-gnu-gcc (Ubuntu 9.4.0-1ubuntu1~20.04.2) 9.4.0 Ubuntu 20.04 ARM SVE Kernel: Depends on container host Compiler: gcc (Ubuntu 10.5.0-1ubuntu1~20.04) 10.5.0 Debian 12 with MUSDK Kernel: Depends on container host Compiler: gcc (Debian 12.2.0-14) 12.2.0 Ubuntu 20.04 (ARM) Kernel: Depends on container host Compiler: gcc (Ubuntu 9.4.0-1ubuntu1~20.04.2) 9.4.0 Fedora 40 (ARM) Kernel: Depends on container host Compiler: gcc 14.2.1 20240912 (Red Hat 14.2.1-3) Fedora 40 (ARM Clang) Kernel: Depends on container host Compiler: clang 18.1.8 (Fedora 18.1.8-1.fc40) Fedora 41 (ARM) Kernel: Depends on container host Compiler: gcc 14.2.1 20240912 (Red Hat 14.2.1-3) Ubuntu 22.04 (ARM) Kernel: Depends on container host Compiler: gcc (Ubuntu 11.4.0-1ubuntu1~22.04) 11.4.0 CentOS Stream 9 (ARM) Kernel: Depends on container host Compiler: gcc 11.5.0 20240719 (Red Hat 11.5.0-2) Ubuntu 24.04 (ARM) Kernel: Depends on container host Compiler: gcc (Ubuntu 13.3.0-6ubuntu2~24.04) 13.3.0 Debian 12 (arm) Kernel: Depends on container host Compiler: gcc (Debian 12.2.0-14) 12.2.0 CentOS Stream 10 (ARM) Kernel: Depends on container host Compiler: gcc 14.2.1 20241104 (Red Hat 14.2.1-6) To view detailed results, visit: https://lab.dpdk.org/results/dashboard/tarballs/33501/ UNH-IOL DPDK Community Lab To manage your email subscriptions, visit: https://lab.dpdk.org/results/dashboard/preferences/subscriptions/