From mboxrd@z Thu Jan 1 00:00:00 1970 Return-Path: Received: from mails.dpdk.org (mails.dpdk.org [217.70.189.124]) by inbox.dpdk.org (Postfix) with ESMTP id 131B44671A for ; Sun, 11 May 2025 10:39:35 +0200 (CEST) Received: from mails.dpdk.org (localhost [127.0.0.1]) by mails.dpdk.org (Postfix) with ESMTP id DE9D540277; Sun, 11 May 2025 10:39:34 +0200 (CEST) Received: from mail-pl1-f228.google.com (mail-pl1-f228.google.com [209.85.214.228]) by mails.dpdk.org (Postfix) with ESMTP id 150B24026C for ; Sun, 11 May 2025 10:39:34 +0200 (CEST) Received: by mail-pl1-f228.google.com with SMTP id d9443c01a7336-22e730c05ddso31154115ad.2 for ; Sun, 11 May 2025 01:39:33 -0700 (PDT) DKIM-Signature: v=1; a=rsa-sha256; c=relaxed/relaxed; d=iol.unh.edu; s=unh-iol; t=1746952773; x=1747557573; darn=dpdk.org; h=cc:to:from:subject:message-id:date:from:to:cc:subject:date :message-id:reply-to; bh=1EZA/vKzWVmL0A0TABPjO7zt//nkOJgshzYzvO5Mor0=; b=cHOvxIZUOraWqD7+mxN1IFMay3Fk7ynxtZnFBrJ0Qs+p/AZ9o9VZFDGw7aWBhMY159 2Un0sVPzBSecojjncoHGGrfGyhp3uXbkXletZPF5j1uR0rkr547CuHN3K9g8mwTQxy39 bVU6CbB29d4CmmIhv78o3Bu2pCEolPO3ehloM= X-Google-DKIM-Signature: v=1; a=rsa-sha256; c=relaxed/relaxed; d=1e100.net; s=20230601; t=1746952773; x=1747557573; h=cc:to:from:subject:message-id:date:x-gm-message-state:from:to:cc :subject:date:message-id:reply-to; bh=1EZA/vKzWVmL0A0TABPjO7zt//nkOJgshzYzvO5Mor0=; b=QjaeqBKRBCpKqUFQ32xuqZAJuS0bAxs8i29eou+r1LLp98/iHSy7IO3zB38VCt5LVe rBJ2Kepu+SRig5XbArcSxPmebLOvxmscTxGQ+cusyUAzxBnh0qs6qi46qBRC8M8MWNOQ 8UDBw+s1qLI3P3Ubx0hNqVTBEVKXJah32KPRSITyKdJ0GvHM78Ud4W19FH33AWduRIe8 L9cWJ0fqHLByH1egmQx0usj3Z+xbqUxijZ1ujbytQBY3HPLfkYCS9a3FTgragyE0rcF2 FBF+0GW84CaO+D8/fouUEU3g8VOhVzUE+fvMGJ7f18sMaAjTwluX8BDMlI+fsXXbf5Ws qKSQ== X-Gm-Message-State: AOJu0YyXAFrARSQpgEwzYO0kFfqCkzGv0w2JWcTu2AHF3ytN2LQ+ywQX R6nPOFERqCXdgvhQyuATAKQpLXmDpwbkKFwzj7ZlsvHVHtgdnMZaxqPnRBujM2WNLaqmq1eatfW fiRMdqzP4ldxr1lB5NqBlstj9niUDiF+z X-Gm-Gg: ASbGnct0O5g573sJAVk7BUmLvDF5g6ymkt+KSE4VS75T8z4ai2ApwiMn1rI4oykBLJo 2SbSqZLusBmWTpKygT2QneEFFbOp4bV/40OfJcYr2LSnyDtuUGN2Ysjq7EE3BOJqBPtWzFGgecu Mvb7dZ5TqJXxWDYBekqIApx0x1deR7m9Zp/G9XPnk3E5mq2Og0y2BakHiOm2VZUn8guxJhV2OKA MAj5XLmP/vQoAdUSOIPkdjIyMwDM4BSaZPBCWBnUu0Lvoq0a0a50loBj8wmEA4Rw3oH+1LsOksr 76fhOBU4fr/tqZl+Lb/k04t4ApfnN2AYIDv1ACct9STyOb4i6fGcUXhx+EM= X-Google-Smtp-Source: AGHT+IEWSCmRMZ6VKY2ltf1aKIRCBcce4/lqZCX7olL6peMa8Ho84yEHnjIehPhx8vkrqHXaxhkYl0ng+gCF X-Received: by 2002:a17:902:d54a:b0:224:191d:8a87 with SMTP id d9443c01a7336-22fc8b5f8c6mr127090465ad.26.1746952773065; Sun, 11 May 2025 01:39:33 -0700 (PDT) Received: from postal.iol.unh.edu (postal.iol.unh.edu. [132.177.123.84]) by smtp-relay.gmail.com with ESMTPS id d9443c01a7336-22fc6f25048sm2820965ad.110.2025.05.11.01.39.32 (version=TLS1_2 cipher=ECDHE-ECDSA-AES128-GCM-SHA256 bits=128/128); Sun, 11 May 2025 01:39:33 -0700 (PDT) X-Relaying-Domain: iol.unh.edu Date: Sun, 11 May 2025 01:39:33 -0700 (PDT) Message-ID: <68206245.170a0220.15fd41.fc19SMTPIN_ADDED_MISSING@mx.google.com> Received: from [172.17.0.2] (unknown [172.18.0.74]) by postal.iol.unh.edu (Postfix) with ESMTP id 7C5256052471; Sun, 11 May 2025 04:39:32 -0400 (EDT) Subject: |SUCCESS| [GIT MASTER] 4401486b5e30d43a134f80f9802f60b5f43e74a8 From: dpdklab@iol.unh.edu To: Test Report Cc: dpdk-test-reports@iol.unh.edu, Xueming Li , Christian Ehrhardt , Kevin Traynor , Luca Boccassi Content-Type: text/plain X-BeenThere: test-report@dpdk.org X-Mailman-Version: 2.1.29 Precedence: list List-Id: automatic DPDK test reports List-Unsubscribe: , List-Archive: List-Post: List-Help: List-Subscribe: , Errors-To: test-report-bounces@dpdk.org _Testing PASS_ Branch: tags/v22.11 4401486b5e30d43a134f80f9802f60b5f43e74a8 --> testing pass Upstream job id: ACVP-FIPS-testing#9781 Test environment and result as below: +--------------------+----------------------+----------------------+ | Environment | compressdev_zlib_pmd | dpdk_fips_validation | +====================+======================+======================+ | Ubuntu 22.04 (ARM) | PASS | SKIPPED | +--------------------+----------------------+----------------------+ | Ubuntu 22.04 | PASS | SKIPPED | +--------------------+----------------------+----------------------+ | Ubuntu 20.04 | SKIPPED | PASS | +--------------------+----------------------+----------------------+ Ubuntu 22.04 (ARM) Kernel: 5.15.0-97-generic Compiler: gcc gcc (Ubuntu 11.4.0-1ubuntu1~22.04) 11.4.0 Ubuntu 22.04 Kernel: 5.15.0-100-generic Compiler: gcc gcc (Ubuntu 11.4.0-1ubuntu1~22.04) 11.4.0 Ubuntu 20.04 Kernel: Depends on container host Compiler: gcc (Ubuntu 9.4.0-1ubuntu1~20.04.2) 9.4.0 To view detailed results, visit: https://lab.dpdk.org/results/dashboard/tarballs/33500/ UNH-IOL DPDK Community Lab To manage your email subscriptions, visit: https://lab.dpdk.org/results/dashboard/preferences/subscriptions/