From mboxrd@z Thu Jan 1 00:00:00 1970 Return-Path: Received: from mails.dpdk.org (mails.dpdk.org [217.70.189.124]) by inbox.dpdk.org (Postfix) with ESMTP id 879764671B for ; Sun, 11 May 2025 12:10:24 +0200 (CEST) Received: from mails.dpdk.org (localhost [127.0.0.1]) by mails.dpdk.org (Postfix) with ESMTP id 51CAD40279; Sun, 11 May 2025 12:10:24 +0200 (CEST) Received: from mail-yw1-f226.google.com (mail-yw1-f226.google.com [209.85.128.226]) by mails.dpdk.org (Postfix) with ESMTP id 82A5B4026C for ; Sun, 11 May 2025 12:10:23 +0200 (CEST) Received: by mail-yw1-f226.google.com with SMTP id 00721157ae682-70a57a8ffc3so5100997b3.0 for ; Sun, 11 May 2025 03:10:23 -0700 (PDT) DKIM-Signature: v=1; a=rsa-sha256; c=relaxed/relaxed; d=iol.unh.edu; s=unh-iol; t=1746958223; x=1747563023; darn=dpdk.org; h=cc:to:from:subject:message-id:date:from:to:cc:subject:date :message-id:reply-to; bh=aF6hZuUMheVzL4LIM7nWKgzm8V3WgD80Gswl/bd5wEI=; b=XhMAt7ExdttjuAu1/bXQZcw63f/zZ34TnU+8bU0OJph6dXSskubbEp8LIAJfBu0SgF sk/NzQDkPFIlWrgVlvvYtWzCBzX4+IS3TFcvbMlad4tittRs8phtE7yGKtLHx/aLkgxe QwzLH5MtDM7ktobtW6U7uNF/3dJbX9ugs1g5s= X-Google-DKIM-Signature: v=1; a=rsa-sha256; c=relaxed/relaxed; d=1e100.net; s=20230601; t=1746958223; x=1747563023; h=cc:to:from:subject:message-id:date:x-gm-message-state:from:to:cc :subject:date:message-id:reply-to; bh=aF6hZuUMheVzL4LIM7nWKgzm8V3WgD80Gswl/bd5wEI=; b=hqnVNdfmikFms5HJM2wD/a31KSobpTC3cLAvCjh2OniBFN7K1Saj2yugwARbvu65pG oxgFdTIdMU697Pg4xd5IrXHbndy4T8DjNLv6fsd/AwseCUz/+b2OaiQ67Q0xU1DgYO5/ sTwYl5B4js77GHR7+gZC1yED855ujADpe4OjMs4xGylcKbjrEmIAH72v4SZbbsGjfkWh qS4Cx6Nag9SE8qHPbIofZbuYWCYqOfLLZyhVoidBvuv+IhiMHEkR+W0cs1CZ5FkY9hnb hrqeDCyvioUTOgZFhhWblYKgolRW0pheVznfzoHSPanHr36JwD8W+Cnaxj+qkEo4qzoN Ln7A== X-Gm-Message-State: AOJu0YzjYyn1xdN7dxxdGpZZArW9AEj1hdszzkKV0Dd7OaMUcZatdIPX ZxQOinm3fzsKlrBTCV0M9DEtUtXWxzxqwcO1ZzYh3hUUoVzg5CRgOgLnHLKGzW0NqSKwpdBel2U yIN0MCbWALUiT33O9DNmA1+nZaKbRKCDv X-Gm-Gg: ASbGncuaBluFWtIeYErKiHD/EvwQP6YMego1ZT4GvSpqudUBFH1OvEaNKqTSJfuSEEq 1BY5X7F3NXvcQ/NiV+OXQ+YD0j+MnHfwDSZd5lZBdYVPNMM6zEAtwB2/OCZRLpJ6zxL3QeWGuCw HY8dgJUf7NDzp4siGhINSAk++U3Xcd5wmOADBU3ji2Cq0ndT3bMoHn8B5DuLoVu9s36GUzPRArH Uq7aCGQaXjYQrcNg6s91SmZKXAQcjPacca7Mic0KiKksg1qqmTWal/sdMvavgLnUKHacdxLLEJF X5Kaiv1oaROxFHpLgq/aU5ThnkWNkFf367P7RiQqLjqnj3NIuZxpVFXmEsQ= X-Google-Smtp-Source: AGHT+IFuNbH44tTB0dmNUa4SYr7A1IxYng/+WZFaWYmWfSGXI84ksXWSOWh8tEtfYP4szkfLlUUwhHmyXQdM X-Received: by 2002:a05:690c:3589:b0:708:bb8e:38b5 with SMTP id 00721157ae682-70a3f9e3e91mr119464737b3.8.1746958222842; Sun, 11 May 2025 03:10:22 -0700 (PDT) Received: from postal.iol.unh.edu (postal.iol.unh.edu. [132.177.123.84]) by smtp-relay.gmail.com with ESMTPS id 00721157ae682-70a3d2f1026sm2137077b3.0.2025.05.11.03.10.22 (version=TLS1_2 cipher=ECDHE-ECDSA-AES128-GCM-SHA256 bits=128/128); Sun, 11 May 2025 03:10:22 -0700 (PDT) X-Relaying-Domain: iol.unh.edu Date: Sun, 11 May 2025 03:10:22 -0700 (PDT) Message-ID: <6820778e.050a0220.115393.b59cSMTPIN_ADDED_MISSING@mx.google.com> Received: from [172.17.0.2] (unknown [172.18.0.74]) by postal.iol.unh.edu (Postfix) with ESMTP id 6BE4E6052471; Sun, 11 May 2025 06:10:22 -0400 (EDT) Subject: |SUCCESS| [GIT MASTER] 4c5634de9f933555bab9c64a533d3dca999071cd From: dpdklab@iol.unh.edu To: Test Report Cc: dpdk-test-reports@iol.unh.edu, Xueming Li , Christian Ehrhardt , Kevin Traynor , Luca Boccassi Content-Type: text/plain X-BeenThere: test-report@dpdk.org X-Mailman-Version: 2.1.29 Precedence: list List-Id: automatic DPDK test reports List-Unsubscribe: , List-Archive: List-Post: List-Help: List-Subscribe: , Errors-To: test-report-bounces@dpdk.org _Testing PASS_ Branch: tags/v24.11 4c5634de9f933555bab9c64a533d3dca999071cd --> testing pass Upstream job id: Generic-DPDK-Compile-Meson#387074 Test environment and result as below: +------------------------------------+--------------------+ | Environment | dpdk_meson_compile | +====================================+====================+ | Ubuntu 20.04 ARM GCC Cross Compile | PASS | +------------------------------------+--------------------+ | RHEL9 (ARM) | PASS | +------------------------------------+--------------------+ | Debian 12 (arm) | PASS | +------------------------------------+--------------------+ | Ubuntu 20.04 ARM SVE | PASS | +------------------------------------+--------------------+ | Fedora 40 (ARM Clang) | PASS | +------------------------------------+--------------------+ | Fedora 41 (ARM) | PASS | +------------------------------------+--------------------+ | Fedora 40 (ARM) | PASS | +------------------------------------+--------------------+ | Debian 12 with MUSDK | PASS | +------------------------------------+--------------------+ | Ubuntu 20.04 (ARM) | PASS | +------------------------------------+--------------------+ | Fedora 41 (ARM Clang) | PASS | +------------------------------------+--------------------+ | Ubuntu 24.04 (ARM) | PASS | +------------------------------------+--------------------+ | CentOS Stream 10 (ARM) | PASS | +------------------------------------+--------------------+ | Ubuntu 22.04 (ARM) | PASS | +------------------------------------+--------------------+ | CentOS Stream 9 (ARM) | PASS | +------------------------------------+--------------------+ Ubuntu 20.04 ARM GCC Cross Compile Kernel: Depends on container host Compiler: aarch64-linux-gnu-gcc (Ubuntu 9.4.0-1ubuntu1~20.04.2) 9.4.0 RHEL9 (ARM) Kernel: Depends on container host Compiler: gcc 11.5.0 20240719 (Red Hat 11.5.0-2) Debian 12 (arm) Kernel: Depends on container host Compiler: gcc (Debian 12.2.0-14) 12.2.0 Ubuntu 20.04 ARM SVE Kernel: Depends on container host Compiler: gcc (Ubuntu 10.5.0-1ubuntu1~20.04) 10.5.0 Fedora 40 (ARM Clang) Kernel: Depends on container host Compiler: clang 18.1.8 (Fedora 18.1.8-1.fc40) Fedora 41 (ARM) Kernel: Depends on container host Compiler: gcc 14.2.1 20240912 (Red Hat 14.2.1-3) Fedora 40 (ARM) Kernel: Depends on container host Compiler: gcc 14.2.1 20240912 (Red Hat 14.2.1-3) Debian 12 with MUSDK Kernel: Depends on container host Compiler: gcc (Debian 12.2.0-14) 12.2.0 Ubuntu 20.04 (ARM) Kernel: Depends on container host Compiler: gcc (Ubuntu 9.4.0-1ubuntu1~20.04.2) 9.4.0 Fedora 41 (ARM Clang) Kernel: Depends on container host Compiler: clang 19.1.5 (Fedora 19.1.5-1.fc41) Ubuntu 24.04 (ARM) Kernel: Depends on container host Compiler: gcc (Ubuntu 13.3.0-6ubuntu2~24.04) 13.3.0 CentOS Stream 10 (ARM) Kernel: Depends on container host Compiler: gcc 14.2.1 20241104 (Red Hat 14.2.1-6) Ubuntu 22.04 (ARM) Kernel: Depends on container host Compiler: gcc (Ubuntu 11.4.0-1ubuntu1~22.04) 11.4.0 CentOS Stream 9 (ARM) Kernel: Depends on container host Compiler: gcc 11.5.0 20240719 (Red Hat 11.5.0-2) To view detailed results, visit: https://lab.dpdk.org/results/dashboard/tarballs/33499/ UNH-IOL DPDK Community Lab To manage your email subscriptions, visit: https://lab.dpdk.org/results/dashboard/preferences/subscriptions/