From mboxrd@z Thu Jan 1 00:00:00 1970 Return-Path: Received: from mails.dpdk.org (mails.dpdk.org [217.70.189.124]) by inbox.dpdk.org (Postfix) with ESMTP id 56C344671F for ; Mon, 12 May 2025 03:12:59 +0200 (CEST) Received: from mails.dpdk.org (localhost [127.0.0.1]) by mails.dpdk.org (Postfix) with ESMTP id 321974026C; Mon, 12 May 2025 03:12:59 +0200 (CEST) Received: from mail-pf1-f228.google.com (mail-pf1-f228.google.com [209.85.210.228]) by mails.dpdk.org (Postfix) with ESMTP id 6A5574026A for ; Mon, 12 May 2025 03:12:58 +0200 (CEST) Received: by mail-pf1-f228.google.com with SMTP id d2e1a72fcca58-7424ccbef4eso1223009b3a.2 for ; Sun, 11 May 2025 18:12:58 -0700 (PDT) DKIM-Signature: v=1; a=rsa-sha256; c=relaxed/relaxed; d=iol.unh.edu; s=unh-iol; t=1747012377; x=1747617177; darn=dpdk.org; h=cc:to:from:subject:message-id:date:from:to:cc:subject:date :message-id:reply-to; bh=EeWhMnW4JIuEEj5xceEpWwG46XJKMucA5q5Xrj/ihX4=; b=dwLUY+4M88u30dbbqeLpnXqHXKJZOM8J/dukYdtWfFqfbrY67fOoh9k6DwF5SFi8Js z6c12WqMjddH40XIMSieQhltnJ6Yj2ky1fFBIZxxXvmYoON8C0DtY/cHoeUvEIubNvnE PfJ3EhIM3VQwYgyAdvuIvZRPYJMsZ6ZkGHb5o= X-Google-DKIM-Signature: v=1; a=rsa-sha256; c=relaxed/relaxed; d=1e100.net; s=20230601; t=1747012377; x=1747617177; h=cc:to:from:subject:message-id:date:x-gm-message-state:from:to:cc :subject:date:message-id:reply-to; bh=EeWhMnW4JIuEEj5xceEpWwG46XJKMucA5q5Xrj/ihX4=; b=qObuhrbxWSK+i/+NDhr2rsCvMipvmgGZqzoVybo82tYI+M78KDzs2+p4ociCvjJnSP kZJ2jVKrI7dihrIeGo8qgYqn1KKNb6Wdn0owRkMnaVlljAgn5aQdBjFhHijfqaEvdMUq tkTlncxg3WZAeL6gDB2nfLYrDNroOOGXOwk89uBu36Cjg58dWKrid7+jcKhAq6wFxsNl vjaTzu+VRSp8EmOI3kYNI9Mh3N6mhVfJ0/Uy3H4HyFxaeTUSC27iR3mXT9T7L90sbtfg f0yDGsyWCWGeHGAPKLSvvM9povRvmFNIjFLu6WXLCh21Gm1l/F9WwVtPRIoM7WI95Pbm u5aQ== X-Gm-Message-State: AOJu0YxzQaaStW7X2SCCcObIGzHUXHRT9abASyw4TREYMHtauk6bERWv R261582aJYXXoCnGaXMlWeqBNnOh6tDEUOMbz1M8ahhwC8xoEJBdCCdGT3DpdsyU8vNr2ytMaeE Qnx8iy/4ukZKurgLjiBqAZAZOgUdTHamkFQA/e1lE X-Gm-Gg: ASbGnctwpAoKqQPMWyFhMp2MWYD7/FCE7zmmmkoC3Uvb8R05qHhzfrTlwVrOIoXR0lB 4sMhPUHLePrc0RQn526iyPE9dty0WIuGS39QAadkkrEwtmq6zWsDUhhD4QR2ynBktTjCzGILRQN ZA7YTPmiC4o1sHFw0TISGj/MrCOXaU0cLQh+iFqf2U6aseo3Gs51yN4anDC73KVjPDCU9ceAAFM mqfy1+uFnunNQ88pT8w4L+FSnTtstWklzS7IN/sGE4OOrzjyAKtxxdX2MljbyZqIHrrjvLS7P/E OrPZKL3h53ReBkPs63/KzfsUgtWOYttAKSj79sE5ik4EaxyebHQWCxL3Lxk= X-Google-Smtp-Source: AGHT+IFyLldEtpYVdfSiDva2w1opKcUL5QTOnAzprQNvIcyuRGC+nDzreLGFhwtowo/JUm4iNThyx+xW5KIZ X-Received: by 2002:a05:6a20:e617:b0:206:a9bd:ad7f with SMTP id adf61e73a8af0-215ababd7f4mr16924455637.6.1747012377430; Sun, 11 May 2025 18:12:57 -0700 (PDT) Received: from postal.iol.unh.edu (postal.iol.unh.edu. [132.177.123.84]) by smtp-relay.gmail.com with ESMTPS id 41be03b00d2f7-b234d9ac5b6sm151512a12.19.2025.05.11.18.12.57 (version=TLS1_2 cipher=ECDHE-ECDSA-AES128-GCM-SHA256 bits=128/128); Sun, 11 May 2025 18:12:57 -0700 (PDT) X-Relaying-Domain: iol.unh.edu Date: Sun, 11 May 2025 18:12:57 -0700 (PDT) Message-ID: <68214b19.630a0220.1a9c41.8cbdSMTPIN_ADDED_MISSING@mx.google.com> Received: from [172.21.0.5] (unknown [172.18.0.240]) by postal.iol.unh.edu (Postfix) with ESMTP id 9A02C6052471; Sun, 11 May 2025 21:12:56 -0400 (EDT) Subject: |SUCCESS| [GIT MASTER] 75f179ebe347b6098cf3af26d3d3b7168fe3fe24 From: dpdklab@iol.unh.edu To: Test Report Cc: dpdk-test-reports@iol.unh.edu Content-Type: text/plain X-BeenThere: test-report@dpdk.org X-Mailman-Version: 2.1.29 Precedence: list List-Id: automatic DPDK test reports List-Unsubscribe: , List-Archive: List-Post: List-Help: List-Subscribe: , Errors-To: test-report-bounces@dpdk.org _Testing PASS_ Branch: dpdk 75f179ebe347b6098cf3af26d3d3b7168fe3fe24 --> testing pass Upstream job id: Generic-DPDK-Compile-ABI#126054 Test environment and result as below: +-------------------+----------+ | Environment | abi_test | +===================+==========+ | CentOS Stream 10 | PASS | +-------------------+----------+ | CentOS Stream 9 | PASS | +-------------------+----------+ | Debian 12 | PASS | +-------------------+----------+ | RHEL8 | PASS | +-------------------+----------+ | Fedora 40 (Clang) | PASS | +-------------------+----------+ | openSUSE Leap 15 | PASS | +-------------------+----------+ | RHEL9 | PASS | +-------------------+----------+ | Ubuntu 22.04 | PASS | +-------------------+----------+ | Fedora 41 | PASS | +-------------------+----------+ | Fedora 40 | PASS | +-------------------+----------+ | Ubuntu 24.04 | PASS | +-------------------+----------+ | Fedora 41 (Clang) | PASS | +-------------------+----------+ | Arch Linux | PASS | +-------------------+----------+ CentOS Stream 10 Kernel: Depends on container host Compiler: gcc 14.2.1 20241104 (Red Hat 14.2.1-6) CentOS Stream 9 Kernel: Depends on container host Compiler: gcc 11.5.0 20240719 (Red Hat 11.5.0-2) Debian 12 Kernel: Depends on container host Compiler: gcc (Debian 12.2.0-14) 12.2.0 RHEL8 Kernel: Depends on container host Compiler: gcc 8.5.0 20210514 (Red Hat 8.5.0-22) Fedora 40 (Clang) Kernel: Depends on container host Compiler: clang 18.1.8 (Fedora 18.1.8-1.fc40) openSUSE Leap 15 Kernel: Depends on container host Compiler: gcc (SUSE Linux) 7.5.0 RHEL9 Kernel: Depends on container host Compiler: gcc 11.5.0 20240719 (Red Hat 11.5.0-2) Ubuntu 22.04 Kernel: Depends on container host Compiler: gcc (Ubuntu 11.4.0-1ubuntu1~22.04) 11.4.0 Fedora 41 Kernel: Depends on container host Compiler: gcc 14.2.1 20240912 (Red Hat 14.2.1-3) Fedora 40 Kernel: Depends on container host Compiler: gcc 14.2.1 20240912 (Red Hat 14.2.1-3) Ubuntu 24.04 Kernel: Depends on container host Compiler: gcc (Ubuntu 13.3.0-6ubuntu2~24.04) 13.3.0 Fedora 41 (Clang) Kernel: Depends on container host Compiler: clang 19.1.5 (Fedora 19.1.5-1.fc41) Arch Linux Kernel: Depends on container host Compiler: gcc 14.2.1 20240910 To view detailed results, visit: https://lab.dpdk.org/results/dashboard/tarballs/33502/ UNH-IOL DPDK Community Lab To manage your email subscriptions, visit: https://lab.dpdk.org/results/dashboard/preferences/subscriptions/