From mboxrd@z Thu Jan 1 00:00:00 1970 Return-Path: Received: from mails.dpdk.org (mails.dpdk.org [217.70.189.124]) by inbox.dpdk.org (Postfix) with ESMTP id D98614671F for ; Mon, 12 May 2025 03:18:37 +0200 (CEST) Received: from mails.dpdk.org (localhost [127.0.0.1]) by mails.dpdk.org (Postfix) with ESMTP id B6C584026C; Mon, 12 May 2025 03:18:37 +0200 (CEST) Received: from mail-oa1-f99.google.com (mail-oa1-f99.google.com [209.85.160.99]) by mails.dpdk.org (Postfix) with ESMTP id 6A3714026A for ; Mon, 12 May 2025 03:18:36 +0200 (CEST) Received: by mail-oa1-f99.google.com with SMTP id 586e51a60fabf-2db9e29d3bcso963016fac.1 for ; Sun, 11 May 2025 18:18:36 -0700 (PDT) DKIM-Signature: v=1; a=rsa-sha256; c=relaxed/relaxed; d=iol.unh.edu; s=unh-iol; t=1747012715; x=1747617515; darn=dpdk.org; h=cc:to:from:subject:message-id:date:from:to:cc:subject:date :message-id:reply-to; bh=5WmbSrl45BY5mTMnrStqd8gC0uxoYUtJ92uvsiWlR+c=; b=f/1tfig8JJt6VICiKAid7n505Zx84BQrm2b3JyrdxrM2YWmJjzKnOHOKOuZLNMLnER aMjTCgkNFQ5pOCW7jHH1uZ3nGBN1hxXYGj1YPonjRwfybV4htzTPRoXFokNbdJug7Y5e P5589UaAbFTQr8srwYqTLLhA3AYyhoI79FUjc= X-Google-DKIM-Signature: v=1; a=rsa-sha256; c=relaxed/relaxed; d=1e100.net; s=20230601; t=1747012715; x=1747617515; h=cc:to:from:subject:message-id:date:x-gm-message-state:from:to:cc :subject:date:message-id:reply-to; bh=5WmbSrl45BY5mTMnrStqd8gC0uxoYUtJ92uvsiWlR+c=; b=TQs2ByuLb2OEJl+taVC7pGmJakNY3yP04LVWGqOQIVvoUASjnKCsY0YOP7rFs8r+L1 iIFHP68mx5YQpBUBeiGxoUEeaRd0W0up5clEetnOhUjyhwmg7VGFfpzR/Qpyumtd8lpp KivxQ65S5QACJT5UGtHZUQ71qUUn5VVfoRCxvhL3dN7/YgT7OVOUV6ABmQtX9hsAKPi3 PMfNfAWF5yFiwRq7oEcCUNOUeEBvM9CLgUqKi/21TEw+SjoOKo2cNTULGgZxlXgOTkMG Lr24eZ4/Vmnt5j5Ew/81cnbP9FQy6orGqpFWknRUQPW6lE5WYBC6pYQRIX5j6lJrZeeM ldUg== X-Gm-Message-State: AOJu0YwtCnplLUHtazkGda5PGCNRXo4mOXzoY93smOrFYZJrBjVwmtcg +DkeS4eagEGORewgCQvaYzKvIKkCde5kl1E621lvjTAVvDth2PvkF2+g9zY23i9JCZm75gttWYn em+hLs+1sVxFP5gI4EbvQE4PuHo/zjOi1C197gP0IHLb0HVvU/TQDcvCY X-Gm-Gg: ASbGncs7weKdDvUw32ZRsNDu+dvtqHp3s/+Uq94ZmqUsHR8+AZzMh0/kghMgphpVCyM rhr7crK36DLqwCkAoFa1uuOLtqK0Bn4x9+rgPbfocYGcgxZs0vG2dN3+o2ef6d683SAbTgOD78q LLeqMWBXzU/c6OXEF46YDtgrFFcLAhL/Xou8sUgwJX5kwSKVdTsv+SPeAf+dkC50+KpH0PsfK7w G4PHEIDV5Z7QWIZVqAzI91OvjhyHIkq8O7yWHJp3nnw2A5aP0kbbPOYNloayFYjuIPsnmZClXFb IFxT6RaDVXj1b4RqV091ZwlKGsD5WHHzjokr X-Google-Smtp-Source: AGHT+IHeeSC+J9wulKFUseVk8zra5P2jyFDyGJTpX7NWOtuweSVSL+1nA1uvRswbxFlzLXMVwbsXhcr6m0Ja X-Received: by 2002:a05:6870:8894:b0:2d9:3868:b310 with SMTP id 586e51a60fabf-2dba42aee29mr6189873fac.11.1747012715322; Sun, 11 May 2025 18:18:35 -0700 (PDT) Received: from postal.iol.unh.edu (postal.iol.unh.edu. [2606:4100:3880:1234::84]) by smtp-relay.gmail.com with ESMTPS id 586e51a60fabf-2dba063c8efsm289015fac.4.2025.05.11.18.18.35 (version=TLS1_2 cipher=ECDHE-ECDSA-AES128-GCM-SHA256 bits=128/128); Sun, 11 May 2025 18:18:35 -0700 (PDT) X-Relaying-Domain: iol.unh.edu Date: Sun, 11 May 2025 18:18:35 -0700 (PDT) Message-ID: <68214c6b.050a0220.3322ec.f9e1SMTPIN_ADDED_MISSING@mx.google.com> Received: from [172.17.0.4] (unknown [172.18.0.74]) by postal.iol.unh.edu (Postfix) with ESMTP id BC3B66052471; Sun, 11 May 2025 21:18:34 -0400 (EDT) Subject: |SUCCESS| [GIT MASTER] 75f179ebe347b6098cf3af26d3d3b7168fe3fe24 From: dpdklab@iol.unh.edu To: Test Report Cc: dpdk-test-reports@iol.unh.edu Content-Type: text/plain X-BeenThere: test-report@dpdk.org X-Mailman-Version: 2.1.29 Precedence: list List-Id: automatic DPDK test reports List-Unsubscribe: , List-Archive: List-Post: List-Help: List-Subscribe: , Errors-To: test-report-bounces@dpdk.org _Testing PASS_ Branch: dpdk 75f179ebe347b6098cf3af26d3d3b7168fe3fe24 --> testing pass Upstream job id: Generic-Unit-Test-DPDK#337111 Test environment and result as below: +-----------------------------+---------------------------+------------------------------+--------------+----------------+ | Environment | cryptodev_sw_zuc_autotest | cryptodev_sw_snow3g_autotest | lpm_autotest | dpdk_unit_test | +=============================+===========================+==============================+==============+================+ | Debian 12 (arm) | PASS | PASS | SKIPPED | PASS | +-----------------------------+---------------------------+------------------------------+--------------+----------------+ | Ubuntu 20.04 ARM SVE | SKIPPED | SKIPPED | PASS | SKIPPED | +-----------------------------+---------------------------+------------------------------+--------------+----------------+ | Fedora 40 (ARM) | SKIPPED | SKIPPED | SKIPPED | PASS | +-----------------------------+---------------------------+------------------------------+--------------+----------------+ | Fedora 40 (ARM Clang) | SKIPPED | SKIPPED | SKIPPED | PASS | +-----------------------------+---------------------------+------------------------------+--------------+----------------+ | CentOS Stream 9 (ARM) | SKIPPED | SKIPPED | SKIPPED | PASS | +-----------------------------+---------------------------+------------------------------+--------------+----------------+ | CentOS Stream 10 (ARM) | SKIPPED | SKIPPED | SKIPPED | PASS | +-----------------------------+---------------------------+------------------------------+--------------+----------------+ | RHEL9 (ARM) | SKIPPED | SKIPPED | SKIPPED | PASS | +-----------------------------+---------------------------+------------------------------+--------------+----------------+ | Fedora 41 (ARM) | SKIPPED | SKIPPED | SKIPPED | PASS | +-----------------------------+---------------------------+------------------------------+--------------+----------------+ | Fedora 41 (ARM Clang) | SKIPPED | SKIPPED | SKIPPED | PASS | +-----------------------------+---------------------------+------------------------------+--------------+----------------+ | Ubuntu 20.04 (ARM) | SKIPPED | SKIPPED | SKIPPED | PASS | +-----------------------------+---------------------------+------------------------------+--------------+----------------+ | Ubuntu 22.04 (ARM) | SKIPPED | SKIPPED | SKIPPED | PASS | +-----------------------------+---------------------------+------------------------------+--------------+----------------+ | Ubuntu 24.04 (ARM) | SKIPPED | SKIPPED | SKIPPED | PASS | +-----------------------------+---------------------------+------------------------------+--------------+----------------+ | 32-bit Ubuntu 22.04.4 (ARM) | SKIPPED | SKIPPED | SKIPPED | PASS | +-----------------------------+---------------------------+------------------------------+--------------+----------------+ Debian 12 (arm) Kernel: Depends on container host Compiler: gcc (Debian 12.2.0-14) 12.2.0 Ubuntu 20.04 ARM SVE Kernel: Depends on container host Compiler: gcc (Ubuntu 10.5.0-1ubuntu1~20.04) 10.5.0 Fedora 40 (ARM) Kernel: Depends on container host Compiler: gcc 14.2.1 20240912 (Red Hat 14.2.1-3) Fedora 40 (ARM Clang) Kernel: Depends on container host Compiler: clang 18.1.8 (Fedora 18.1.8-1.fc40) CentOS Stream 9 (ARM) Kernel: Depends on container host Compiler: gcc 11.5.0 20240719 (Red Hat 11.5.0-2) CentOS Stream 10 (ARM) Kernel: Depends on container host Compiler: gcc 14.2.1 20241104 (Red Hat 14.2.1-6) RHEL9 (ARM) Kernel: Depends on container host Compiler: gcc 11.5.0 20240719 (Red Hat 11.5.0-2) Fedora 41 (ARM) Kernel: Depends on container host Compiler: gcc 14.2.1 20240912 (Red Hat 14.2.1-3) Fedora 41 (ARM Clang) Kernel: Depends on container host Compiler: clang 19.1.5 (Fedora 19.1.5-1.fc41) Ubuntu 20.04 (ARM) Kernel: Depends on container host Compiler: gcc (Ubuntu 9.4.0-1ubuntu1~20.04.2) 9.4.0 Ubuntu 22.04 (ARM) Kernel: Depends on container host Compiler: gcc (Ubuntu 11.4.0-1ubuntu1~22.04) 11.4.0 Ubuntu 24.04 (ARM) Kernel: Depends on container host Compiler: gcc (Ubuntu 13.3.0-6ubuntu2~24.04) 13.3.0 32-bit Ubuntu 22.04.4 (ARM) Kernel: 5.15.83+ aarch64 Compiler: gcc (Ubuntu 11.4.0-1ubuntu1~22.04) 11.4.0 To view detailed results, visit: https://lab.dpdk.org/results/dashboard/tarballs/33502/ UNH-IOL DPDK Community Lab To manage your email subscriptions, visit: https://lab.dpdk.org/results/dashboard/preferences/subscriptions/