From mboxrd@z Thu Jan 1 00:00:00 1970 Return-Path: Received: from mails.dpdk.org (mails.dpdk.org [217.70.189.124]) by inbox.dpdk.org (Postfix) with ESMTP id 358F94671F for ; Mon, 12 May 2025 03:21:32 +0200 (CEST) Received: from mails.dpdk.org (localhost [127.0.0.1]) by mails.dpdk.org (Postfix) with ESMTP id 085AA4026C; Mon, 12 May 2025 03:21:32 +0200 (CEST) Received: from mail-oo1-f100.google.com (mail-oo1-f100.google.com [209.85.161.100]) by mails.dpdk.org (Postfix) with ESMTP id 06DCE4026A for ; Mon, 12 May 2025 03:21:30 +0200 (CEST) Received: by mail-oo1-f100.google.com with SMTP id 006d021491bc7-6065796762fso992724eaf.3 for ; Sun, 11 May 2025 18:21:30 -0700 (PDT) DKIM-Signature: v=1; a=rsa-sha256; c=relaxed/relaxed; d=iol.unh.edu; s=unh-iol; t=1747012890; x=1747617690; darn=dpdk.org; h=cc:to:from:subject:message-id:date:from:to:cc:subject:date :message-id:reply-to; bh=wlCCswi93HFkfBhMHEz5hcS8HpUkW1yENnrKNICvzfk=; b=JjN5X7b+6uW2nY8HYMCsCHQ2Rnto0/6fmgTUPmCu8a5q6ykedFZIWqVU1vJxYZQ3OO V3vJpcLZN334tQs+YhfHg1v9q7Aa1rfN5FGNBUwjUccmbsO7r2/ch9jUqeEeuG2NLyUr RfsjYHA2ki+0DYygT81gdqHzvbvh3OvU8X3JQ= X-Google-DKIM-Signature: v=1; a=rsa-sha256; c=relaxed/relaxed; d=1e100.net; s=20230601; t=1747012890; x=1747617690; h=cc:to:from:subject:message-id:date:x-gm-message-state:from:to:cc :subject:date:message-id:reply-to; bh=wlCCswi93HFkfBhMHEz5hcS8HpUkW1yENnrKNICvzfk=; b=rY5CmwxW/VBO0I5KzG4SOhPg/wkukMQPLyjvt9L8zOPJcQdAnQ/qO55RWDg0m/Kqg5 HDbTI8zxTu0EpT3q2jyIqBsF97kdZXdL4nVitrMLe5B0z5MUfBqYIggmjbwlrkyogijs GEfmp7h2QHhhC3KjvxIiAyjxsbYZyDF6XiY7XGeTt/+d8AzMpjij8PCKxHRTuGX/MWxV 3dTzRjYQRLyfRXFkJ3TIuulwoWoNpczK7AnLNmYDBuaXuLLwxKB2YAAUh9WuQ/ZpLYTF 4KdQqKiDmoEEO3cYFPzJvFjK//IBaqUVwY2A9zP1nI4YgJe0jIK1lgaTHVUjxJU1tNpC 3n4A== X-Gm-Message-State: AOJu0Yywm3xUOh8ZTupZYfDAsg7T7zv8dexAx2KVxBdDuzyPZdOLLM9b Pb31eIv10lqRrZsq/fGDdP/pwUOCIdPED91naiWNZMZ6uhV0ZrPkVDm27BfPfIitOfUkEWWgPUR Ho9wdQtm+mrDdITvRKIrlrdQRp0DWjtIGObpX0KAC X-Gm-Gg: ASbGnctXMbjUVdoBnByrFgSS+s0iS24EVKGl9WGFOeAEEACt6mCkzoj5lyCsCmL/1o+ mvbWBEr6Pq/mae1yzJims/rynQ+A8Rgpq/3eEUJb9oJ+JhuOFcWkHbTKa6eDXID4fIoHgwBlM7k RMwBgP8OE6hIwyjhxvhINaq4+VcprLOzgIR1af5i3H8NEcag/5UWR5L0Ub1dVsPhSe1InRTC+qx cxawkemj20xgVYqz5Myn0zzIq3U64KDEIO7+PLrX8ZMKaiPjs8vQMJbxKKPGjdq6ubFvFg2ncwC eFrVyqvxiP8fdZ8uF5QxA3r/8F4P3pfUf075U46Ou2Eq+mii9CRXh/6+m/4= X-Google-Smtp-Source: AGHT+IHKrrDQiB9y1cpBubib7VIv6XeymdUkOur0xx5BdJVtqGw4WQCFaX/laaxaz6g9H4qXRf/EuSD+fc7Z X-Received: by 2002:a05:6870:a550:b0:2d4:ce45:6993 with SMTP id 586e51a60fabf-2dba44c5d0dmr7347474fac.30.1747012889848; Sun, 11 May 2025 18:21:29 -0700 (PDT) Received: from postal.iol.unh.edu (postal.iol.unh.edu. [132.177.123.84]) by smtp-relay.gmail.com with ESMTPS id 586e51a60fabf-2dba06ddc37sm292060fac.10.2025.05.11.18.21.29 (version=TLS1_2 cipher=ECDHE-ECDSA-AES128-GCM-SHA256 bits=128/128); Sun, 11 May 2025 18:21:29 -0700 (PDT) X-Relaying-Domain: iol.unh.edu Date: Sun, 11 May 2025 18:21:29 -0700 (PDT) Message-ID: <68214d19.050a0220.35f393.fd22SMTPIN_ADDED_MISSING@mx.google.com> Received: from [172.17.0.4] (unknown [172.18.0.74]) by postal.iol.unh.edu (Postfix) with ESMTP id 9EC106052471; Sun, 11 May 2025 21:21:28 -0400 (EDT) Subject: |SUCCESS| [GIT MASTER] 75f179ebe347b6098cf3af26d3d3b7168fe3fe24 From: dpdklab@iol.unh.edu To: Test Report Cc: dpdk-test-reports@iol.unh.edu Content-Type: text/plain X-BeenThere: test-report@dpdk.org X-Mailman-Version: 2.1.29 Precedence: list List-Id: automatic DPDK test reports List-Unsubscribe: , List-Archive: List-Post: List-Help: List-Subscribe: , Errors-To: test-report-bounces@dpdk.org _Testing PASS_ Branch: dpdk 75f179ebe347b6098cf3af26d3d3b7168fe3fe24 --> testing pass Upstream job id: Generic-VM-Unit-Test-DPDK#28463 Test environment and result as below: +---------------------+----------------+ | Environment | dpdk_unit_test | +=====================+================+ | Arch Linux | PASS | +---------------------+----------------+ | CentOS Stream 10 | PASS | +---------------------+----------------+ | CentOS Stream 9 | PASS | +---------------------+----------------+ | Debian 12 | PASS | +---------------------+----------------+ | Fedora 40 (Clang) | PASS | +---------------------+----------------+ | Fedora 41 | PASS | +---------------------+----------------+ | Fedora 41 (Clang) | PASS | +---------------------+----------------+ | Fedora 40 | PASS | +---------------------+----------------+ | RHEL9 | PASS | +---------------------+----------------+ | RHEL8 | PASS | +---------------------+----------------+ | Ubuntu 20.04 | PASS | +---------------------+----------------+ | Ubuntu 24.04 | PASS | +---------------------+----------------+ | Ubuntu 22.04 | PASS | +---------------------+----------------+ | Windows Server 2022 | PASS | +---------------------+----------------+ Arch Linux Kernel: Depends on container host Compiler: gcc 14.2.1 20240910 CentOS Stream 10 Kernel: Depends on container host Compiler: gcc 14.2.1 20241104 (Red Hat 14.2.1-6) CentOS Stream 9 Kernel: Depends on container host Compiler: gcc 11.5.0 20240719 (Red Hat 11.5.0-2) Debian 12 Kernel: Depends on container host Compiler: gcc (Debian 12.2.0-14) 12.2.0 Fedora 40 (Clang) Kernel: Depends on container host Compiler: clang 18.1.8 (Fedora 18.1.8-1.fc40) Fedora 41 Kernel: Depends on container host Compiler: gcc 14.2.1 20240912 (Red Hat 14.2.1-3) Fedora 41 (Clang) Kernel: Depends on container host Compiler: clang 19.1.5 (Fedora 19.1.5-1.fc41) Fedora 40 Kernel: Depends on container host Compiler: gcc 14.2.1 20240912 (Red Hat 14.2.1-3) RHEL9 Kernel: Depends on container host Compiler: gcc 11.5.0 20240719 (Red Hat 11.5.0-2) RHEL8 Kernel: Depends on container host Compiler: gcc 8.5.0 20210514 (Red Hat 8.5.0-22) Ubuntu 20.04 Kernel: Depends on container host Compiler: gcc (Ubuntu 9.4.0-1ubuntu1~20.04.2) 9.4.0 Ubuntu 24.04 Kernel: Depends on container host Compiler: gcc (Ubuntu 13.3.0-6ubuntu2~24.04) 13.3.0 Ubuntu 22.04 Kernel: Depends on container host Compiler: gcc (Ubuntu 11.4.0-1ubuntu1~22.04) 11.4.0 Windows Server 2022 Kernel: 10.0.20348.2031 Compiler: clang 15.0.7, gcc 14.1.0 (MinGW), and MSVC VS 19.39.33521 To view detailed results, visit: https://lab.dpdk.org/results/dashboard/tarballs/33502/ UNH-IOL DPDK Community Lab To manage your email subscriptions, visit: https://lab.dpdk.org/results/dashboard/preferences/subscriptions/