From mboxrd@z Thu Jan 1 00:00:00 1970 Return-Path: Received: from mails.dpdk.org (mails.dpdk.org [217.70.189.124]) by inbox.dpdk.org (Postfix) with ESMTP id 91FF84671F for ; Mon, 12 May 2025 03:26:06 +0200 (CEST) Received: from mails.dpdk.org (localhost [127.0.0.1]) by mails.dpdk.org (Postfix) with ESMTP id 6B36D4026C; Mon, 12 May 2025 03:26:06 +0200 (CEST) Received: from mail-pj1-f99.google.com (mail-pj1-f99.google.com [209.85.216.99]) by mails.dpdk.org (Postfix) with ESMTP id 69FBD4026A for ; Mon, 12 May 2025 03:26:05 +0200 (CEST) Received: by mail-pj1-f99.google.com with SMTP id 98e67ed59e1d1-30c47918d84so2334651a91.3 for ; Sun, 11 May 2025 18:26:05 -0700 (PDT) DKIM-Signature: v=1; a=rsa-sha256; c=relaxed/relaxed; d=iol.unh.edu; s=unh-iol; t=1747013164; x=1747617964; darn=dpdk.org; h=cc:to:from:subject:message-id:date:from:to:cc:subject:date :message-id:reply-to; bh=BSQW9OpLLUK5ObTNhQKU1IYuR0bm5tJ/tRqkYJmIjF0=; b=DRaOyxgptpPGSh3Y6RwOoGaHxuQDZ0lUYOgA2oNjFAjg8464EgQCfxdwTQ/+IdMdgq SnFIRsDyJrqzApWMKvTcVDyNcKy7i087ixtauGCVKO0gQLzg2rcR+osQhJwKo0Q5QXyn vkrtCbCDqPLtp+hglx4BsRYfrEu3mOLmPuieU= X-Google-DKIM-Signature: v=1; a=rsa-sha256; c=relaxed/relaxed; d=1e100.net; s=20230601; t=1747013164; x=1747617964; h=cc:to:from:subject:message-id:date:x-gm-message-state:from:to:cc :subject:date:message-id:reply-to; bh=BSQW9OpLLUK5ObTNhQKU1IYuR0bm5tJ/tRqkYJmIjF0=; b=byURKfpXSbUy5E/b0zd1B+lk88NUC6/iDhm/lNw2hW50lpHOWqPhkXVZtiWOo9DF0O 6nIcf2c0JTgqE9odT3znYI4xkid4XxDGhwHfbwR5lfUBeL1ViCYMMjc6w+GdRB0gguio 7PnKtO9Wpr/97/9ie0YoMhO+kQLZse55z//0q6fWOcOqZ77RCJyh0QIZBq8i8wJAtZn5 75JrON7YCugfW0xmVRwIvVl6qnKlQppAlG4Z4ireMOW5JPu8t0tHsWk+cxZlwQNNrDss 3+rga58gFosd1/TEiwKMV7HdAiFjLN6wvW+N0hCYBQm8sZKTZq94cY+9Z41jDFiMbrGR eLYg== X-Gm-Message-State: AOJu0Yy6Spr4Ahf0zGGrH1JT92mWXDkv7cmtfLk+Qi4XAqyPsKdSn/LO XYYWS+sjAnIu9KewcKiRp36pneYiqXcJUR8X5BAw4dnSAWAojVd4Zp3XitCrJNn+NEWCfC96apa xpLNtXZdtB0ytMrWGSNM31E8b3JAet8eCnj2s+OpAQLbyjOxaxIBryPgW X-Gm-Gg: ASbGncvCQX9h0nsQQCGpfCPBb2+N5BMgoo3EOeW2UCda4cHONeDMtWn5so0xSzxOTrF /XLZKT9eGDiDRCX9qHt9ZbU5t+0DXqxUQ82SfOSXf246wqAuO6W1AyuHFxnl1qStasUaxlAINIn r8WIOIXYXUOUavorXm+eg0YaHXZeTPGPSeMO8aaNpXFYrkHL9bbhM5hynH2o2+rcSeBwG/wjUPR E85T+Bf2+NAM/IAsWVp2FUDEk0VtV5zLP/NTGwspT/UE0jMsDOrMvLnDPqYO484oZqxoxuXiWC+ NOMfNyYGI8QE8Bd0Yn22B8HlMvXcILXnLUVE X-Google-Smtp-Source: AGHT+IHDigb9N9TORgeWVGspDj75bQWojDqNT/MmfQR1ltScGqcsK0657BM0AWHJNKguoNLNJpMTr29wFip4 X-Received: by 2002:a17:90b:3d8b:b0:30a:214e:befc with SMTP id 98e67ed59e1d1-30c3d6441e9mr18090569a91.27.1747013164048; Sun, 11 May 2025 18:26:04 -0700 (PDT) Received: from postal.iol.unh.edu (postal.iol.unh.edu. [2606:4100:3880:1234::84]) by smtp-relay.gmail.com with ESMTPS id 98e67ed59e1d1-30c39d9049csm429386a91.2.2025.05.11.18.26.03 (version=TLS1_2 cipher=ECDHE-ECDSA-AES128-GCM-SHA256 bits=128/128); Sun, 11 May 2025 18:26:04 -0700 (PDT) X-Relaying-Domain: iol.unh.edu Date: Sun, 11 May 2025 18:26:04 -0700 (PDT) Message-ID: <68214e2c.170a0220.16b6db.6dd9SMTPIN_ADDED_MISSING@mx.google.com> Received: from [172.17.0.3] (unknown [172.18.0.74]) by postal.iol.unh.edu (Postfix) with ESMTP id E06496052471; Sun, 11 May 2025 21:26:02 -0400 (EDT) Subject: |SUCCESS| [GIT MASTER] 75f179ebe347b6098cf3af26d3d3b7168fe3fe24 From: dpdklab@iol.unh.edu To: Test Report Cc: dpdk-test-reports@iol.unh.edu Content-Type: text/plain X-BeenThere: test-report@dpdk.org X-Mailman-Version: 2.1.29 Precedence: list List-Id: automatic DPDK test reports List-Unsubscribe: , List-Archive: List-Post: List-Help: List-Subscribe: , Errors-To: test-report-bounces@dpdk.org _Testing PASS_ Branch: dpdk 75f179ebe347b6098cf3af26d3d3b7168fe3fe24 --> testing pass Upstream job id: Generic-VM-Unit-Test-DPDK#28464 Test environment and result as below: +---------------------+----------------+ | Environment | dpdk_unit_test | +=====================+================+ | Arch Linux | PASS | +---------------------+----------------+ | CentOS Stream 10 | PASS | +---------------------+----------------+ | CentOS Stream 9 | PASS | +---------------------+----------------+ | Debian 12 | PASS | +---------------------+----------------+ | Fedora 40 (Clang) | PASS | +---------------------+----------------+ | Fedora 41 | PASS | +---------------------+----------------+ | Fedora 41 (Clang) | PASS | +---------------------+----------------+ | Fedora 40 | PASS | +---------------------+----------------+ | RHEL9 | PASS | +---------------------+----------------+ | RHEL8 | PASS | +---------------------+----------------+ | Ubuntu 20.04 | PASS | +---------------------+----------------+ | Ubuntu 24.04 | PASS | +---------------------+----------------+ | Ubuntu 22.04 | PASS | +---------------------+----------------+ | Windows Server 2022 | PASS | +---------------------+----------------+ Arch Linux Kernel: Depends on container host Compiler: gcc 14.2.1 20240910 CentOS Stream 10 Kernel: Depends on container host Compiler: gcc 14.2.1 20241104 (Red Hat 14.2.1-6) CentOS Stream 9 Kernel: Depends on container host Compiler: gcc 11.5.0 20240719 (Red Hat 11.5.0-2) Debian 12 Kernel: Depends on container host Compiler: gcc (Debian 12.2.0-14) 12.2.0 Fedora 40 (Clang) Kernel: Depends on container host Compiler: clang 18.1.8 (Fedora 18.1.8-1.fc40) Fedora 41 Kernel: Depends on container host Compiler: gcc 14.2.1 20240912 (Red Hat 14.2.1-3) Fedora 41 (Clang) Kernel: Depends on container host Compiler: clang 19.1.5 (Fedora 19.1.5-1.fc41) Fedora 40 Kernel: Depends on container host Compiler: gcc 14.2.1 20240912 (Red Hat 14.2.1-3) RHEL9 Kernel: Depends on container host Compiler: gcc 11.5.0 20240719 (Red Hat 11.5.0-2) RHEL8 Kernel: Depends on container host Compiler: gcc 8.5.0 20210514 (Red Hat 8.5.0-22) Ubuntu 20.04 Kernel: Depends on container host Compiler: gcc (Ubuntu 9.4.0-1ubuntu1~20.04.2) 9.4.0 Ubuntu 24.04 Kernel: Depends on container host Compiler: gcc (Ubuntu 13.3.0-6ubuntu2~24.04) 13.3.0 Ubuntu 22.04 Kernel: Depends on container host Compiler: gcc (Ubuntu 11.4.0-1ubuntu1~22.04) 11.4.0 Windows Server 2022 Kernel: 10.0.20348.2031 Compiler: clang 15.0.7, gcc 14.1.0 (MinGW), and MSVC VS 19.39.33521 To view detailed results, visit: https://lab.dpdk.org/results/dashboard/tarballs/33502/ UNH-IOL DPDK Community Lab To manage your email subscriptions, visit: https://lab.dpdk.org/results/dashboard/preferences/subscriptions/