From mboxrd@z Thu Jan 1 00:00:00 1970 Return-Path: Received: from mails.dpdk.org (mails.dpdk.org [217.70.189.124]) by inbox.dpdk.org (Postfix) with ESMTP id 9F5194671F for ; Mon, 12 May 2025 03:27:09 +0200 (CEST) Received: from mails.dpdk.org (localhost [127.0.0.1]) by mails.dpdk.org (Postfix) with ESMTP id 978044026C; Mon, 12 May 2025 03:27:09 +0200 (CEST) Received: from mail-yw1-f226.google.com (mail-yw1-f226.google.com [209.85.128.226]) by mails.dpdk.org (Postfix) with ESMTP id 3C0774026A for ; Mon, 12 May 2025 03:27:08 +0200 (CEST) Received: by mail-yw1-f226.google.com with SMTP id 00721157ae682-709a4f97149so41244187b3.1 for ; Sun, 11 May 2025 18:27:08 -0700 (PDT) DKIM-Signature: v=1; a=rsa-sha256; c=relaxed/relaxed; d=iol.unh.edu; s=unh-iol; t=1747013227; x=1747618027; darn=dpdk.org; h=cc:to:from:subject:message-id:date:from:to:cc:subject:date :message-id:reply-to; bh=rebTDdXoX0jdtOzePpctr9lH50YOR5SlppL/r8rrPbA=; b=PMjRU431HnptBiYoZZDIRQFVEFiBleOS0mZxYr5bvXjg5cbTBDGGdKDlv+v58QMK0B SlkegGPw6kA9HITbl+dHqOTCO9z+6dWwVcX/K67BT74JWuxjTuMIq5iNmT2QfrHrKoLR lvrV5D/GoZH/t2/tQw7wpkzd/DX18ejxyx/84= X-Google-DKIM-Signature: v=1; a=rsa-sha256; c=relaxed/relaxed; d=1e100.net; s=20230601; t=1747013227; x=1747618027; h=cc:to:from:subject:message-id:date:x-gm-message-state:from:to:cc :subject:date:message-id:reply-to; bh=rebTDdXoX0jdtOzePpctr9lH50YOR5SlppL/r8rrPbA=; b=h6V3+UpTT0Vi0V3jg/Tex021Pu3Iw67AM7V8kih9dX+Wh06+Q4LW7bPHzm7UsY6whu DknBVrpXp4xjb41iqhneOQagx08xRyepYZQ6Bfcl9/2Ykh/8dlG/scmgwFh5oM7rOzZd 2vrljf/s1qwQrTXJmvF6vgnyWyhKS9ACop/5VMulBcrQvGlEmY4ZRxbl5umd0KA80BJD 4bUM4Fj5lokxe0IEfLTi40wXzTeo3RbqgXMxNaHcNVdG+hW7V5dlwGwCPvWWnaKbOtHI H9cbtqirSd4DEqKghP0NOxuI27Um5vq6A8tA8m+/miwxSr2eJYasTLZ/XMRiIfb3YXHG GodA== X-Gm-Message-State: AOJu0YwZzKbUyaApPDsrXrQNnKa0RS5Ou4iBoL6KNuyj1Zl4TpCHzMKX +SXeBcyEDR9PkYieAcCoY31TSGePBOLnKmk4+ncqDMi1TkL3ixocgGJg8hWQO9mPuHetzf7xKLV XC8mnNRpbJKZ0cijsS2DmqleBl1Tozz6HnwqG1DWu0P2DWRhYzYe0qBa4 X-Gm-Gg: ASbGncsRe0Y1yf03OrlbDocMwwyfuiN8ydJaWlOYXS0NKPLpqgGIL9N0REryRN35ESy T196WAOzDFM/zvSiw57Qh9RbGcA9UdoKwLRvwytbEO/HfpbW6IuJBKZE4OeCnYy2eqj/v9dY7Ci TxTjh6/1AOYecBTqYX5G90WaVCILPXiIKVQWFMrxlgc9m2yFMT8VWhwfmzXWePEhsp86ob4Q5q+ AiuV917JSY9VPJYBSLWYicgrSj94k7iBygqTyspfGC7xFhbsEh7eSCshz/xT5WuRq1yMXllyTfy uonx1qe64RhZ6rwhtptatvXXhEouXv0fVrt8 X-Google-Smtp-Source: AGHT+IFPWacPULqego/HHIZ8cSeokci8PGXHIuQ1etylNR8lGiqtZT5wuVvFO3SQpFzFIxLkPaE4aPoEZIPL X-Received: by 2002:a05:690c:2029:b0:708:3563:a941 with SMTP id 00721157ae682-70a3fe43011mr112746027b3.2.1747013227539; Sun, 11 May 2025 18:27:07 -0700 (PDT) Received: from postal.iol.unh.edu (postal.iol.unh.edu. [2606:4100:3880:1234::84]) by smtp-relay.gmail.com with ESMTPS id 00721157ae682-70a3d787bddsm2520547b3.40.2025.05.11.18.27.07 (version=TLS1_2 cipher=ECDHE-ECDSA-AES128-GCM-SHA256 bits=128/128); Sun, 11 May 2025 18:27:07 -0700 (PDT) X-Relaying-Domain: iol.unh.edu Date: Sun, 11 May 2025 18:27:07 -0700 (PDT) Message-ID: <68214e6b.050a0220.296e57.daa5SMTPIN_ADDED_MISSING@mx.google.com> Received: from [172.17.0.2] (unknown [172.18.0.76]) by postal.iol.unh.edu (Postfix) with ESMTP id 0D5446052471; Sun, 11 May 2025 21:27:07 -0400 (EDT) Subject: |SUCCESS| [GIT MASTER] 75f179ebe347b6098cf3af26d3d3b7168fe3fe24 From: dpdklab@iol.unh.edu To: Test Report Cc: dpdk-test-reports@iol.unh.edu Content-Type: text/plain X-BeenThere: test-report@dpdk.org X-Mailman-Version: 2.1.29 Precedence: list List-Id: automatic DPDK test reports List-Unsubscribe: , List-Archive: List-Post: List-Help: List-Subscribe: , Errors-To: test-report-bounces@dpdk.org _Testing PASS_ Branch: dpdk 75f179ebe347b6098cf3af26d3d3b7168fe3fe24 --> testing pass Upstream job id: ACVP-FIPS-testing#9782 Test environment and result as below: +--------------------+----------------------+----------------------+ | Environment | compressdev_zlib_pmd | dpdk_fips_validation | +====================+======================+======================+ | Ubuntu 22.04 (ARM) | PASS | SKIPPED | +--------------------+----------------------+----------------------+ | Ubuntu 22.04 | PASS | SKIPPED | +--------------------+----------------------+----------------------+ | Ubuntu 20.04 | SKIPPED | PASS | +--------------------+----------------------+----------------------+ Ubuntu 22.04 (ARM) Kernel: 5.15.0-97-generic Compiler: gcc gcc (Ubuntu 11.4.0-1ubuntu1~22.04) 11.4.0 Ubuntu 22.04 Kernel: 5.15.0-100-generic Compiler: gcc gcc (Ubuntu 11.4.0-1ubuntu1~22.04) 11.4.0 Ubuntu 20.04 Kernel: Depends on container host Compiler: gcc (Ubuntu 9.4.0-1ubuntu1~20.04.2) 9.4.0 To view detailed results, visit: https://lab.dpdk.org/results/dashboard/tarballs/33502/ UNH-IOL DPDK Community Lab To manage your email subscriptions, visit: https://lab.dpdk.org/results/dashboard/preferences/subscriptions/