From mboxrd@z Thu Jan 1 00:00:00 1970 Return-Path: Received: from mails.dpdk.org (mails.dpdk.org [217.70.189.124]) by inbox.dpdk.org (Postfix) with ESMTP id 48DCF4671F for ; Mon, 12 May 2025 03:33:06 +0200 (CEST) Received: from mails.dpdk.org (localhost [127.0.0.1]) by mails.dpdk.org (Postfix) with ESMTP id 1EF584026C; Mon, 12 May 2025 03:33:06 +0200 (CEST) Received: from mail-pl1-f225.google.com (mail-pl1-f225.google.com [209.85.214.225]) by mails.dpdk.org (Postfix) with ESMTP id 6FAE14026A for ; Mon, 12 May 2025 03:33:05 +0200 (CEST) Received: by mail-pl1-f225.google.com with SMTP id d9443c01a7336-22e8461d872so36441035ad.3 for ; Sun, 11 May 2025 18:33:05 -0700 (PDT) DKIM-Signature: v=1; a=rsa-sha256; c=relaxed/relaxed; d=iol.unh.edu; s=unh-iol; t=1747013584; x=1747618384; darn=dpdk.org; h=cc:to:from:subject:message-id:date:from:to:cc:subject:date :message-id:reply-to; bh=k5IDMge6vcKjsUPQuVUo5v2sZGiuGFOJbCzl+evGXoo=; b=ehx5ZHQFXsvRtH3Dw2tMGzpCkK70bXkiuy4jePGj1cur5Kdx+M/F+b3bunagJ1X5Wc OsvZaoaITSItt1H8vVmtsIodOvTmxC3v0n5CR0wnNL/ABPdlrcGTP/UZeGzLpFFQo40X F09YoxY774X8qRjFTkMApG6LflzslHi5oqVn0= X-Google-DKIM-Signature: v=1; a=rsa-sha256; c=relaxed/relaxed; d=1e100.net; s=20230601; t=1747013584; x=1747618384; h=cc:to:from:subject:message-id:date:x-gm-message-state:from:to:cc :subject:date:message-id:reply-to; bh=k5IDMge6vcKjsUPQuVUo5v2sZGiuGFOJbCzl+evGXoo=; b=JKbEE7kMX7xwnXhewTxGA+Mxu98Oi7HqRJQatKDmNcSLihktYQAjc91M6F8Z9wPysM 9yg/967G1gdUtrSFkE+rjLROkrk2DTN4DZM5xB5lhIRO2+OzdywtOsIbFFo7LsnvtIcV MXuyDUVsdJvsmy42lYU3hGusdqJTKt6iAfN126OtZr+OHPQE/ixkIKXl+XSsTJGZdSZ4 qCTitc7N8vn30jP+iqf3hwB7DyRcek2rqLXIDzMolodMXIZUdArcKgBmMWU7TXzZNUv2 NRnQ11jJPi9frNAOjWIK58A4PDbSi9eEcRQ7012X3frnvph2b9mt2NirKSs9TmbfJXjI /geA== X-Gm-Message-State: AOJu0YzYOVNeWOK/4FfivvYZO8LqY8MainpaczlCui5LCtoA8qIoWzGA yQh8BWmi/fzyJuQZRfwxrwlBSQ9nVYzLgWczH0ToLtiD3qXA8uU2Q0v9aKq1DMy/RcONkctRAaI gqlD8qzdEar3kQXJb63CUcZQpw7jMtnpGVf+O4fEDynTiocIOQpQumkNy X-Gm-Gg: ASbGnctv9wA1yvyCYlXSFj5JujXTxX6yFgbmkZUr1iIR5zf4KAe39IXKp1GyU1+zETt DjQEH/FO7BGwTDfiXrHtJu6Sl7Eeg6uBEryEXbpFBJ2AiQRkSNjMIxwph7qATc/MRk1alWJHRp/ 9esuTZ4SGj/n9rYgGyCDv/172gzGQQAv4zYL/nHm9QJaTN48Q1eHf1yavQwTulM6JhLB/O/6HYZ j8J40hrRW+qe7KpLMsAxl6Zbl7q4BEuBoHek9KZh8Rf+kVQX9H7OWZLg4Zp7vRFPtuzZ8cg1NCN +1qilpo1AnJHfief6vJd/KNAT3GKyFyS2s8S X-Google-Smtp-Source: AGHT+IFm7wLjbbMKvJWEdZVVazGVOqZkNgc0powozL3Zes24W2ORLWrbfrtWfgVUl25jsJDWqVVM2YdhPTLN X-Received: by 2002:a17:902:e747:b0:223:fabd:4f99 with SMTP id d9443c01a7336-22fc8b0cbc7mr190176255ad.5.1747013584068; Sun, 11 May 2025 18:33:04 -0700 (PDT) Received: from postal.iol.unh.edu (postal.iol.unh.edu. [2606:4100:3880:1234::84]) by smtp-relay.gmail.com with ESMTPS id d9443c01a7336-22fc6f0b8f3sm3625435ad.93.2025.05.11.18.33.03 (version=TLS1_2 cipher=ECDHE-ECDSA-AES128-GCM-SHA256 bits=128/128); Sun, 11 May 2025 18:33:04 -0700 (PDT) X-Relaying-Domain: iol.unh.edu Date: Sun, 11 May 2025 18:33:04 -0700 (PDT) Message-ID: <68214fd0.170a0220.e6c50.3f11SMTPIN_ADDED_MISSING@mx.google.com> Received: from [172.17.0.2] (unknown [172.18.0.74]) by postal.iol.unh.edu (Postfix) with ESMTP id 3F7916052471; Sun, 11 May 2025 21:33:03 -0400 (EDT) Subject: |SUCCESS| [GIT MASTER] 75f179ebe347b6098cf3af26d3d3b7168fe3fe24 From: dpdklab@iol.unh.edu To: Test Report Cc: dpdk-test-reports@iol.unh.edu Content-Type: text/plain X-BeenThere: test-report@dpdk.org X-Mailman-Version: 2.1.29 Precedence: list List-Id: automatic DPDK test reports List-Unsubscribe: , List-Archive: List-Post: List-Help: List-Subscribe: , Errors-To: test-report-bounces@dpdk.org _Testing PASS_ Branch: dpdk 75f179ebe347b6098cf3af26d3d3b7168fe3fe24 --> testing pass Upstream job id: Generic-DPDK-Compile-Meson#387153 Test environment and result as below: +-----------------------------------+--------------------+-------------------+------------------+-------------------------+-------------------+----------------------+ | Environment | dpdk_meson_compile | dpdk_compile_spdk | dpdk_compile_ovs | dpdk_llvm_clang_compile | dpdk_msvc_compile | dpdk_mingw64_compile | +===================================+====================+===================+==================+=========================+===================+======================+ | CentOS Stream 10 | PASS | SKIPPED | SKIPPED | SKIPPED | SKIPPED | SKIPPED | +-----------------------------------+--------------------+-------------------+------------------+-------------------------+-------------------+----------------------+ | CentOS Stream 9 | PASS | PASS | SKIPPED | SKIPPED | SKIPPED | SKIPPED | +-----------------------------------+--------------------+-------------------+------------------+-------------------------+-------------------+----------------------+ | Debian 12 | PASS | PASS | SKIPPED | SKIPPED | SKIPPED | SKIPPED | +-----------------------------------+--------------------+-------------------+------------------+-------------------------+-------------------+----------------------+ | Fedora 40 (Clang) | PASS | PASS | SKIPPED | SKIPPED | SKIPPED | SKIPPED | +-----------------------------------+--------------------+-------------------+------------------+-------------------------+-------------------+----------------------+ | Fedora 41 (Clang) | PASS | PASS | PASS | SKIPPED | SKIPPED | SKIPPED | +-----------------------------------+--------------------+-------------------+------------------+-------------------------+-------------------+----------------------+ | Fedora 40 | PASS | PASS | SKIPPED | SKIPPED | SKIPPED | SKIPPED | +-----------------------------------+--------------------+-------------------+------------------+-------------------------+-------------------+----------------------+ | Ubuntu 24.04 | PASS | PASS | PASS | SKIPPED | SKIPPED | SKIPPED | +-----------------------------------+--------------------+-------------------+------------------+-------------------------+-------------------+----------------------+ | Fedora 41 | PASS | PASS | PASS | SKIPPED | SKIPPED | SKIPPED | +-----------------------------------+--------------------+-------------------+------------------+-------------------------+-------------------+----------------------+ | RHEL9 | PASS | SKIPPED | SKIPPED | SKIPPED | SKIPPED | SKIPPED | +-----------------------------------+--------------------+-------------------+------------------+-------------------------+-------------------+----------------------+ | RHEL8 | PASS | SKIPPED | SKIPPED | SKIPPED | SKIPPED | SKIPPED | +-----------------------------------+--------------------+-------------------+------------------+-------------------------+-------------------+----------------------+ | Ubuntu 22.04 | PASS | PASS | SKIPPED | SKIPPED | SKIPPED | SKIPPED | +-----------------------------------+--------------------+-------------------+------------------+-------------------------+-------------------+----------------------+ | openSUSE Leap 15 | PASS | SKIPPED | SKIPPED | SKIPPED | SKIPPED | SKIPPED | +-----------------------------------+--------------------+-------------------+------------------+-------------------------+-------------------+----------------------+ | Ubuntu 20.04 | PASS | SKIPPED | SKIPPED | SKIPPED | SKIPPED | SKIPPED | +-----------------------------------+--------------------+-------------------+------------------+-------------------------+-------------------+----------------------+ | Alpine | PASS | SKIPPED | SKIPPED | SKIPPED | SKIPPED | SKIPPED | +-----------------------------------+--------------------+-------------------+------------------+-------------------------+-------------------+----------------------+ | Ubuntu 24.04 32 Bit Cross Compile | PASS | SKIPPED | SKIPPED | SKIPPED | SKIPPED | SKIPPED | +-----------------------------------+--------------------+-------------------+------------------+-------------------------+-------------------+----------------------+ | Arch Linux | PASS | SKIPPED | SKIPPED | SKIPPED | SKIPPED | SKIPPED | +-----------------------------------+--------------------+-------------------+------------------+-------------------------+-------------------+----------------------+ | FreeBSD 13.5 | PASS | SKIPPED | SKIPPED | SKIPPED | SKIPPED | SKIPPED | +-----------------------------------+--------------------+-------------------+------------------+-------------------------+-------------------+----------------------+ | FreeBSD 14.2 | PASS | SKIPPED | SKIPPED | SKIPPED | SKIPPED | SKIPPED | +-----------------------------------+--------------------+-------------------+------------------+-------------------------+-------------------+----------------------+ | Windows Server 2022 | SKIPPED | SKIPPED | SKIPPED | PASS | PASS | PASS | +-----------------------------------+--------------------+-------------------+------------------+-------------------------+-------------------+----------------------+ CentOS Stream 10 Kernel: Depends on container host Compiler: gcc 14.2.1 20241104 (Red Hat 14.2.1-6) CentOS Stream 9 Kernel: Depends on container host Compiler: gcc 11.5.0 20240719 (Red Hat 11.5.0-2) Debian 12 Kernel: Depends on container host Compiler: gcc (Debian 12.2.0-14) 12.2.0 Fedora 40 (Clang) Kernel: Depends on container host Compiler: clang 18.1.8 (Fedora 18.1.8-1.fc40) Fedora 41 (Clang) Kernel: Depends on container host Compiler: clang 19.1.5 (Fedora 19.1.5-1.fc41) Fedora 40 Kernel: Depends on container host Compiler: gcc 14.2.1 20240912 (Red Hat 14.2.1-3) Ubuntu 24.04 Kernel: Depends on container host Compiler: gcc (Ubuntu 13.3.0-6ubuntu2~24.04) 13.3.0 Fedora 41 Kernel: Depends on container host Compiler: gcc 14.2.1 20240912 (Red Hat 14.2.1-3) RHEL9 Kernel: Depends on container host Compiler: gcc 11.5.0 20240719 (Red Hat 11.5.0-2) RHEL8 Kernel: Depends on container host Compiler: gcc 8.5.0 20210514 (Red Hat 8.5.0-22) Ubuntu 22.04 Kernel: Depends on container host Compiler: gcc (Ubuntu 11.4.0-1ubuntu1~22.04) 11.4.0 openSUSE Leap 15 Kernel: Depends on container host Compiler: gcc (SUSE Linux) 7.5.0 Ubuntu 20.04 Kernel: 4.19.325-0419325-generic Compiler: gcc (Ubuntu 9.4.0-1ubuntu1~20.04.2) 9.4.0 Alpine Kernel: Depends on container host Compiler: gcc (Alpine 14.2.0) 14.2.0 Ubuntu 24.04 32 Bit Cross Compile Kernel: Depends on container host Compiler: gcc (Ubuntu 13.3.0-6ubuntu2~24.04) 13.3.0 Arch Linux Kernel: Depends on container host Compiler: gcc 14.2.1 20240910 FreeBSD 13.5 Kernel: 13.5-RELEASE Compiler: clang 19.1.7 FreeBSD 14.2 Kernel: 14.2-RELEASE Compiler: clang 18.1.6 Windows Server 2022 Kernel: 10.0.20348.2031 Compiler: clang 15.0.7, gcc 14.1.0 (MinGW), and MSVC VS 19.39.33521 To view detailed results, visit: https://lab.dpdk.org/results/dashboard/tarballs/33502/ UNH-IOL DPDK Community Lab To manage your email subscriptions, visit: https://lab.dpdk.org/results/dashboard/preferences/subscriptions/