From mboxrd@z Thu Jan 1 00:00:00 1970 Return-Path: Received: from mails.dpdk.org (mails.dpdk.org [217.70.189.124]) by inbox.dpdk.org (Postfix) with ESMTP id 2840A46722 for ; Mon, 12 May 2025 06:54:30 +0200 (CEST) Received: from mails.dpdk.org (localhost [127.0.0.1]) by mails.dpdk.org (Postfix) with ESMTP id 206334026C; Mon, 12 May 2025 06:54:30 +0200 (CEST) Received: from mail-yb1-f225.google.com (mail-yb1-f225.google.com [209.85.219.225]) by mails.dpdk.org (Postfix) with ESMTP id 8AEA94026A for ; Mon, 12 May 2025 06:54:29 +0200 (CEST) Received: by mail-yb1-f225.google.com with SMTP id 3f1490d57ef6-e740a09eb00so3761179276.0 for ; Sun, 11 May 2025 21:54:29 -0700 (PDT) DKIM-Signature: v=1; a=rsa-sha256; c=relaxed/relaxed; d=iol.unh.edu; s=unh-iol; t=1747025669; x=1747630469; darn=dpdk.org; h=cc:to:from:subject:message-id:date:from:to:cc:subject:date :message-id:reply-to; bh=Hqx9LdALZAqTsq1hEjBadL7jvZHvDYRKHT16BSbDyOs=; b=Bwn8codN20vq375EkpN+BtxlCiHYIcNjRVWH8yolwyiUTbT61ytswF4/mQ2IPtzbl6 XwwvC9s3FzbJwvpe4fwSGe76F7hRZ7v1NfANy22uMgqe+mff4Vtml/KUTWLpfgxlyDBO gv5gsVHNmDrhJRoBPjkFVCGFlvV6p/S4qFd6E= X-Google-DKIM-Signature: v=1; a=rsa-sha256; c=relaxed/relaxed; d=1e100.net; s=20230601; t=1747025669; x=1747630469; h=cc:to:from:subject:message-id:date:x-gm-message-state:from:to:cc :subject:date:message-id:reply-to; bh=Hqx9LdALZAqTsq1hEjBadL7jvZHvDYRKHT16BSbDyOs=; b=U+VFFV4ZyqWQGGo7XpZivPJIu7dAPc6CHS28jHJtSPEgfG19Sypd9wBfW6GMocGhlQ zsc+yWiu4geI779dR1DZf83MWP33jDuvnf/v5135RyyqF4pP657eHEXimDFmrFY3oAXw DCVhHnVR1Xj3zgicNU2dE9/KYD87yP0tFbtqcpa4T1h3/LGinPydze8/DY1JnyflrX0N wA/TswyRYE/cu2Tn/jbUnN3F35klU8eYgx4jQviHVsWOtWPQ/0jrqZV17VjCmXcgpZe3 zp+KSkHyM8ieSLLp/+cKCwUw0uEQqtSURrTSCfEsf8A2Gwjhpx4rnHYYt8yBZX3n3OFL SvQQ== X-Gm-Message-State: AOJu0Yztvggv0RQhsHGjeR3xaUOxDoo0/YmfnVmx9CRJAXzZsIuwInOi vWqF8aX6uker3R7MzK3GsevFCnB1L1v3Y0IhpkNREmfDdRx7wJYw9mibSna2eH2BFbsy4g0p8nY mB6HOkubxBbfe11pEvNSGSpIxmYK1PPb0VYkhrBP5n5Vk27sD X-Gm-Gg: ASbGnctsary541quRxFHtyt7ce4wPpTIE9nWNuGbTtvlFZ2PEkwEdvIR0sBL84+8yr4 k/2V9u7B5+z53hoC3aptHFkxzvtaoL9Z4zuIWcd+CjPusJPRcVfpWUyCNztIPMP6o40MCQfs+ZX a8ibvEvaT3a2TVh0NOkJeEHjaSuSowPDK27mX0NJOuPXspKpjl3NLm4GWWZGDjtfI1wEvBI3hED 7JenCrLvKSGs6757BVk1F/ODH2VMaB/q9OCohYNlowZXLSjLQhMIWSIYtkv+QLct28QhG/ZGUQB jZ4bHC25eSjluNDMlof0UyMZDZJtmaIS9+0P X-Google-Smtp-Source: AGHT+IHq0EZ97jK8W7gBNfAbccvttX4wEceiWIQmQHrYwTK68JfkJqjxLluPh/Ki/bWqfIbRRI5ldt2CRqxs X-Received: by 2002:a05:6902:2001:b0:e74:6490:7b3d with SMTP id 3f1490d57ef6-e78fdb83fb4mr14732392276.1.1747025668915; Sun, 11 May 2025 21:54:28 -0700 (PDT) Received: from postal.iol.unh.edu (postal.iol.unh.edu. [2606:4100:3880:1234::84]) by smtp-relay.gmail.com with ESMTPS id 3f1490d57ef6-e78fd63d569sm163287276.23.2025.05.11.21.54.28 (version=TLS1_2 cipher=ECDHE-ECDSA-AES128-GCM-SHA256 bits=128/128); Sun, 11 May 2025 21:54:28 -0700 (PDT) X-Relaying-Domain: iol.unh.edu Date: Sun, 11 May 2025 21:54:28 -0700 (PDT) Message-ID: <68217f04.050a0220.12d5de.87c7SMTPIN_ADDED_MISSING@mx.google.com> Received: from [172.21.0.6] (unknown [172.18.0.240]) by postal.iol.unh.edu (Postfix) with ESMTP id 602D56052471; Mon, 12 May 2025 00:54:28 -0400 (EDT) Subject: |SUCCESS| [GIT MASTER] 4c5634de9f933555bab9c64a533d3dca999071cd From: dpdklab@iol.unh.edu To: Test Report Cc: dpdk-test-reports@iol.unh.edu, Xueming Li , Christian Ehrhardt , Kevin Traynor , Luca Boccassi Content-Type: text/plain X-BeenThere: test-report@dpdk.org X-Mailman-Version: 2.1.29 Precedence: list List-Id: automatic DPDK test reports List-Unsubscribe: , List-Archive: List-Post: List-Help: List-Subscribe: , Errors-To: test-report-bounces@dpdk.org _Testing PASS_ Branch: tags/v24.11 4c5634de9f933555bab9c64a533d3dca999071cd --> testing pass Upstream job id: Generic-DPDK-Compile-ABI#126072 Test environment and result as below: +-------------------+----------+ | Environment | abi_test | +===================+==========+ | Fedora 40 (Clang) | PASS | +-------------------+----------+ | CentOS Stream 10 | PASS | +-------------------+----------+ | CentOS Stream 9 | PASS | +-------------------+----------+ | Fedora 40 | PASS | +-------------------+----------+ | Debian 12 | PASS | +-------------------+----------+ | Fedora 41 (Clang) | PASS | +-------------------+----------+ | openSUSE Leap 15 | PASS | +-------------------+----------+ | Fedora 41 | PASS | +-------------------+----------+ | RHEL8 | PASS | +-------------------+----------+ | RHEL9 | PASS | +-------------------+----------+ | Ubuntu 22.04 | PASS | +-------------------+----------+ | Ubuntu 24.04 | PASS | +-------------------+----------+ Fedora 40 (Clang) Kernel: Depends on container host Compiler: clang 18.1.8 (Fedora 18.1.8-1.fc40) CentOS Stream 10 Kernel: Depends on container host Compiler: gcc 14.2.1 20241104 (Red Hat 14.2.1-6) CentOS Stream 9 Kernel: Depends on container host Compiler: gcc 11.5.0 20240719 (Red Hat 11.5.0-2) Fedora 40 Kernel: Depends on container host Compiler: gcc 14.2.1 20240912 (Red Hat 14.2.1-3) Debian 12 Kernel: Depends on container host Compiler: gcc (Debian 12.2.0-14) 12.2.0 Fedora 41 (Clang) Kernel: Depends on container host Compiler: clang 19.1.5 (Fedora 19.1.5-1.fc41) openSUSE Leap 15 Kernel: Depends on container host Compiler: gcc (SUSE Linux) 7.5.0 Fedora 41 Kernel: Depends on container host Compiler: gcc 14.2.1 20240912 (Red Hat 14.2.1-3) RHEL8 Kernel: Depends on container host Compiler: gcc 8.5.0 20210514 (Red Hat 8.5.0-22) RHEL9 Kernel: Depends on container host Compiler: gcc 11.5.0 20240719 (Red Hat 11.5.0-2) Ubuntu 22.04 Kernel: Depends on container host Compiler: gcc (Ubuntu 11.4.0-1ubuntu1~22.04) 11.4.0 Ubuntu 24.04 Kernel: Depends on container host Compiler: gcc (Ubuntu 13.3.0-6ubuntu2~24.04) 13.3.0 To view detailed results, visit: https://lab.dpdk.org/results/dashboard/tarballs/33503/ UNH-IOL DPDK Community Lab To manage your email subscriptions, visit: https://lab.dpdk.org/results/dashboard/preferences/subscriptions/