From mboxrd@z Thu Jan 1 00:00:00 1970 Return-Path: Received: from mails.dpdk.org (mails.dpdk.org [217.70.189.124]) by inbox.dpdk.org (Postfix) with ESMTP id 891D246722 for ; Mon, 12 May 2025 07:29:38 +0200 (CEST) Received: from mails.dpdk.org (localhost [127.0.0.1]) by mails.dpdk.org (Postfix) with ESMTP id 818704026C; Mon, 12 May 2025 07:29:38 +0200 (CEST) Received: from mail-qk1-f228.google.com (mail-qk1-f228.google.com [209.85.222.228]) by mails.dpdk.org (Postfix) with ESMTP id 6BC694026A for ; Mon, 12 May 2025 07:29:37 +0200 (CEST) Received: by mail-qk1-f228.google.com with SMTP id af79cd13be357-7c546334bdeso404323385a.2 for ; Sun, 11 May 2025 22:29:37 -0700 (PDT) DKIM-Signature: v=1; a=rsa-sha256; c=relaxed/relaxed; d=iol.unh.edu; s=unh-iol; t=1747027777; x=1747632577; darn=dpdk.org; h=cc:to:from:subject:message-id:date:from:to:cc:subject:date :message-id:reply-to; bh=Def5xEJN4sYBY2xTSnuULYaAxCiGAWjbfjLde04LNcI=; b=cY1smLjbOSwjQBz5ZjAISsst4DhnrFvs1mbOvuVsfyZPGYptklsvJw2NTDmCOp/OXu 9qwX47ixflrYfDncO0vE04iFwT6KzIPkp2Uzq38JoGlWKD4pz7qLevLDb9ZdxnM6ZAlE MmX+u0GoenhthG6XZbnXFMUk/ngjcwjEpeiw4= X-Google-DKIM-Signature: v=1; a=rsa-sha256; c=relaxed/relaxed; d=1e100.net; s=20230601; t=1747027777; x=1747632577; h=cc:to:from:subject:message-id:date:x-gm-message-state:from:to:cc :subject:date:message-id:reply-to; bh=Def5xEJN4sYBY2xTSnuULYaAxCiGAWjbfjLde04LNcI=; b=raseYBgIh2qNXowkKkBWTCzV5Lg2bAlULQrMojPaHqn3zuFqxp1P1we1gPYcJDa0KC BidhQFmVfiyBNr0KMGRfaenAQpJfi7gom1+fh5N+Efn8xClPaUWUDSMPpznHMknK5wCD pd61Sa+ns+XY5A+8+Lu4bYwepIiWQrFDNuzjyCp1zquHTSZb+nYd9m2KugqdLPuFGtNd kKJ9HL9wXF1jOicdLhUjDCacNh6GJdGMm2WvXWjkfvOYQjulbzq6SFFs1ZPe+uLfsux1 Ge414apvzf9650/0OVFnGgX2inpspnJ2OPcS+yL3epStdApjm2Ce/BjMflCsYoxBGCLJ t73g== X-Gm-Message-State: AOJu0YyzT/5iSAouGLuS44JmQkE/IMCT4XzF8wuZkKORn07gOetXp18g 2uthmtWz8nJettpRqDIoWN2OO+cdelLvKVsszxXAkOr+hlvVBRDcs48xjQq5wMbKNdSyem+9bN2 Igopvccx5HK1T5YKhaNEadNszVdqY6bhV3bA5YKCHqTwW+v78 X-Gm-Gg: ASbGncsb+3jfSDhvR4tFGMSKFuSnG4ntR6D9U/HAaT+zJH/Jmw1M9cw7VKMVPepvP8M gy8I5u5wU2sj3f1Wf/0RCssk0B0v8Jk9DMlESn9rpZFK6a4DPq9KhSitVaWC988vppLcZYIbeex 6EZ1yIC3MiFtKRd7ZiCjybBNU+eb3r97fR4gR7+RW/v++xe71cimU2HTZZ4DI6RVc+u4doBbKXD yrwMpSWL6RyOOW8uvFd4rq+1T3j6PPob1Xijt/XY/q8yB6QupiiwWwTmsrGQYHJmpfBT/znPR4t dLtMxHjF8jdH/TMfNmAcSrQWFNsQQHCq24Of X-Google-Smtp-Source: AGHT+IGDerr+yrx2oL4hRQlnq+14h42NSZdYAlI9fdxAMvW/mUVne5rp7FliVLps8TGTGrQj8hPN42q7+OsZ X-Received: by 2002:a05:620a:2989:b0:7ca:f02a:4d2b with SMTP id af79cd13be357-7cd010d01a8mr1536137185a.12.1747027776756; Sun, 11 May 2025 22:29:36 -0700 (PDT) Received: from postal.iol.unh.edu (postal.iol.unh.edu. [2606:4100:3880:1234::84]) by smtp-relay.gmail.com with ESMTPS id af79cd13be357-7cd00ebf030sm28120285a.2.2025.05.11.22.29.36 (version=TLS1_2 cipher=ECDHE-ECDSA-AES128-GCM-SHA256 bits=128/128); Sun, 11 May 2025 22:29:36 -0700 (PDT) X-Relaying-Domain: iol.unh.edu Date: Sun, 11 May 2025 22:29:36 -0700 (PDT) Message-ID: <68218740.050a0220.11d3ea.f19bSMTPIN_ADDED_MISSING@mx.google.com> Received: from [172.21.0.6] (unknown [172.18.0.240]) by postal.iol.unh.edu (Postfix) with ESMTP id 6893E6052471; Mon, 12 May 2025 01:29:36 -0400 (EDT) Subject: |SUCCESS| [GIT MASTER] 83a7a648344674c0269fcaeb71d8d16468421a0e From: dpdklab@iol.unh.edu To: Test Report Cc: dpdk-test-reports@iol.unh.edu, Xueming Li , Christian Ehrhardt , Kevin Traynor , Luca Boccassi Content-Type: text/plain X-BeenThere: test-report@dpdk.org X-Mailman-Version: 2.1.29 Precedence: list List-Id: automatic DPDK test reports List-Unsubscribe: , List-Archive: List-Post: List-Help: List-Subscribe: , Errors-To: test-report-bounces@dpdk.org _Testing PASS_ Branch: tags/v23.11 83a7a648344674c0269fcaeb71d8d16468421a0e --> testing pass Upstream job id: Generic-Unit-Test-DPDK#337133 Test environment and result as below: +-----------------------------+------------------------------+--------------+---------------------------+----------------+ | Environment | cryptodev_sw_snow3g_autotest | lpm_autotest | cryptodev_sw_zuc_autotest | dpdk_unit_test | +=============================+==============================+==============+===========================+================+ | Debian 12 (arm) | PASS | SKIPPED | PASS | PASS | +-----------------------------+------------------------------+--------------+---------------------------+----------------+ | Ubuntu 20.04 ARM SVE | SKIPPED | PASS | SKIPPED | SKIPPED | +-----------------------------+------------------------------+--------------+---------------------------+----------------+ | CentOS Stream 9 (ARM) | SKIPPED | SKIPPED | SKIPPED | PASS | +-----------------------------+------------------------------+--------------+---------------------------+----------------+ | CentOS Stream 10 (ARM) | SKIPPED | SKIPPED | SKIPPED | PASS | +-----------------------------+------------------------------+--------------+---------------------------+----------------+ | Fedora 40 (ARM) | SKIPPED | SKIPPED | SKIPPED | PASS | +-----------------------------+------------------------------+--------------+---------------------------+----------------+ | Fedora 40 (ARM Clang) | SKIPPED | SKIPPED | SKIPPED | PASS | +-----------------------------+------------------------------+--------------+---------------------------+----------------+ | Fedora 41 (ARM) | SKIPPED | SKIPPED | SKIPPED | PASS | +-----------------------------+------------------------------+--------------+---------------------------+----------------+ | Fedora 41 (ARM Clang) | SKIPPED | SKIPPED | SKIPPED | PASS | +-----------------------------+------------------------------+--------------+---------------------------+----------------+ | Ubuntu 20.04 (ARM) | SKIPPED | SKIPPED | SKIPPED | PASS | +-----------------------------+------------------------------+--------------+---------------------------+----------------+ | RHEL9 (ARM) | SKIPPED | SKIPPED | SKIPPED | PASS | +-----------------------------+------------------------------+--------------+---------------------------+----------------+ | Ubuntu 22.04 (ARM) | SKIPPED | SKIPPED | SKIPPED | PASS | +-----------------------------+------------------------------+--------------+---------------------------+----------------+ | Ubuntu 24.04 (ARM) | SKIPPED | SKIPPED | SKIPPED | PASS | +-----------------------------+------------------------------+--------------+---------------------------+----------------+ | 32-bit Ubuntu 22.04.4 (ARM) | SKIPPED | SKIPPED | SKIPPED | PASS | +-----------------------------+------------------------------+--------------+---------------------------+----------------+ Debian 12 (arm) Kernel: Depends on container host Compiler: gcc (Debian 12.2.0-14) 12.2.0 Ubuntu 20.04 ARM SVE Kernel: Depends on container host Compiler: gcc (Ubuntu 10.5.0-1ubuntu1~20.04) 10.5.0 CentOS Stream 9 (ARM) Kernel: Depends on container host Compiler: gcc 11.5.0 20240719 (Red Hat 11.5.0-2) CentOS Stream 10 (ARM) Kernel: Depends on container host Compiler: gcc 14.2.1 20241104 (Red Hat 14.2.1-6) Fedora 40 (ARM) Kernel: Depends on container host Compiler: gcc 14.2.1 20240912 (Red Hat 14.2.1-3) Fedora 40 (ARM Clang) Kernel: Depends on container host Compiler: clang 18.1.8 (Fedora 18.1.8-1.fc40) Fedora 41 (ARM) Kernel: Depends on container host Compiler: gcc 14.2.1 20240912 (Red Hat 14.2.1-3) Fedora 41 (ARM Clang) Kernel: Depends on container host Compiler: clang 19.1.5 (Fedora 19.1.5-1.fc41) Ubuntu 20.04 (ARM) Kernel: Depends on container host Compiler: gcc (Ubuntu 9.4.0-1ubuntu1~20.04.2) 9.4.0 RHEL9 (ARM) Kernel: Depends on container host Compiler: gcc 11.5.0 20240719 (Red Hat 11.5.0-2) Ubuntu 22.04 (ARM) Kernel: Depends on container host Compiler: gcc (Ubuntu 11.4.0-1ubuntu1~22.04) 11.4.0 Ubuntu 24.04 (ARM) Kernel: Depends on container host Compiler: gcc (Ubuntu 13.3.0-6ubuntu2~24.04) 13.3.0 32-bit Ubuntu 22.04.4 (ARM) Kernel: 5.15.83+ aarch64 Compiler: gcc (Ubuntu 11.4.0-1ubuntu1~22.04) 11.4.0 To view detailed results, visit: https://lab.dpdk.org/results/dashboard/tarballs/33505/ UNH-IOL DPDK Community Lab To manage your email subscriptions, visit: https://lab.dpdk.org/results/dashboard/preferences/subscriptions/