From mboxrd@z Thu Jan 1 00:00:00 1970 Return-Path: Received: from mails.dpdk.org (mails.dpdk.org [217.70.189.124]) by inbox.dpdk.org (Postfix) with ESMTP id 04B9C46723 for ; Mon, 12 May 2025 08:05:32 +0200 (CEST) Received: from mails.dpdk.org (localhost [127.0.0.1]) by mails.dpdk.org (Postfix) with ESMTP id DADD14026C; Mon, 12 May 2025 08:05:31 +0200 (CEST) Received: from mail-il1-f227.google.com (mail-il1-f227.google.com [209.85.166.227]) by mails.dpdk.org (Postfix) with ESMTP id BA32F4026A for ; Mon, 12 May 2025 08:05:30 +0200 (CEST) Received: by mail-il1-f227.google.com with SMTP id e9e14a558f8ab-3d96d16b369so41064225ab.0 for ; Sun, 11 May 2025 23:05:30 -0700 (PDT) DKIM-Signature: v=1; a=rsa-sha256; c=relaxed/relaxed; d=iol.unh.edu; s=unh-iol; t=1747029930; x=1747634730; darn=dpdk.org; h=cc:to:from:subject:message-id:date:from:to:cc:subject:date :message-id:reply-to; bh=4PpkOaAO4FOkLKuVl+SLBL03D8MBRWV4k/NZ7fkrdc4=; b=EObXdHP6Lc/jILDdsiR1pBMTO0vhNbb1Ml5ihpKa/tTPG2cpzJidTYVRy0z87pihV9 086ld1FKfHuOdBH+SZokYRK5Q+44SW4FU1Czc2grEqJUnp1D9fDiu8wCiBraxU5IFp/Y CpX0wxDkDV3byufqKUS0ree+MKAqIAMlfSPI0= X-Google-DKIM-Signature: v=1; a=rsa-sha256; c=relaxed/relaxed; d=1e100.net; s=20230601; t=1747029930; x=1747634730; h=cc:to:from:subject:message-id:date:x-gm-message-state:from:to:cc :subject:date:message-id:reply-to; bh=4PpkOaAO4FOkLKuVl+SLBL03D8MBRWV4k/NZ7fkrdc4=; b=b1tMubLak2NbVOn6Gd6tu9LjYfK/zQUKRVUmX8r3+6fIPkwTa8IFymuHMreYeKJsRu fbB4Cg66QRuk8EesFzOkNyx1v4j2p4qhgIVxN4S63VCZ3G1zIEHQvdYCnCTIq4Pe2Kw9 njyHqMbZ9WIs/fGC53cObAJrHmUoYyBCAL1bLStRQiT3uqySFTpD1htTgVhxBiQFqRGN xX0g+FhB3xgBssOKH+SL5nzqN5wIX6hH0SWIcAJfRGDEg5TpWR2+VG3gnvMKIuDq9ARu 0+EAlAaaugmDOHx3pZhnBnN+VfH6mGsHj4rnwbJiLauNTQTFwU92g4F2tj/ac/Sk2Mpm v9Mw== X-Gm-Message-State: AOJu0YwWvVSA7cK3LpsfFhNeiagCrnFLlWAyAjngSbN0OmwfsIWN0VMQ jCqIrEdySQ+EvxSlyCA/047qv/laW32XDqp35vCA+mBWCSDUADov0uK8B458p67CPNt3arZrgGf 5HkV2RtiEB82szEwb7kHvyft8pMDs0AslS7qjt58uwkxSplQm X-Gm-Gg: ASbGncu8qRdtheKxCc9lSdSiIfmBPH0oDFcF1sGw+B7jU6ZTiOZznp16Ec58+2QEta3 gfVKkk/8LB8pCX9F3mH8cxBlVPQ/B7lHg+HTrFtxFhLZMiv8QSHWIc9LHRQx9X9T5j8Xb4a+ulc xPO7JV/fYhWV/08oRTjq/0gLtGHUZt9j6AGLCh6e3ZONKaiFqnmVdi9PU0JUYxjwR18tWPg4y6B C/yzdEhslOYMf22ZcySLeSXlB7U64rHh5wDGqDfar7xGYet+3zVDtNBhGsc5faoU7Q3PDogsOsz WqgFeFzBVUlcOjY8m4DVMGrK9k128UKKn0Qs X-Google-Smtp-Source: AGHT+IF0Q7OAykGxfof/KZECYXa3r5vW2W+hxWmWdt5A1WGqJrPvxtN1TR/G8Yp5kpuVGTbhWFGAz8H9uv/P X-Received: by 2002:a05:6e02:1fc6:b0:3d8:2085:a188 with SMTP id e9e14a558f8ab-3da7e1e2709mr146671715ab.1.1747029929997; Sun, 11 May 2025 23:05:29 -0700 (PDT) Received: from postal.iol.unh.edu (postal.iol.unh.edu. [2606:4100:3880:1234::84]) by smtp-relay.gmail.com with ESMTPS id e9e14a558f8ab-3da7e163785sm4750265ab.64.2025.05.11.23.05.29 (version=TLS1_2 cipher=ECDHE-ECDSA-AES128-GCM-SHA256 bits=128/128); Sun, 11 May 2025 23:05:29 -0700 (PDT) X-Relaying-Domain: iol.unh.edu Date: Sun, 11 May 2025 23:05:29 -0700 (PDT) Message-ID: <68218fa9.050a0220.304616.a520SMTPIN_ADDED_MISSING@mx.google.com> Received: from [172.21.0.5] (unknown [172.18.0.240]) by postal.iol.unh.edu (Postfix) with ESMTP id 8167D6052471; Mon, 12 May 2025 02:05:29 -0400 (EDT) Subject: |SUCCESS| [GIT MASTER] 83a7a648344674c0269fcaeb71d8d16468421a0e From: dpdklab@iol.unh.edu To: Test Report Cc: dpdk-test-reports@iol.unh.edu, Xueming Li , Christian Ehrhardt , Kevin Traynor , Luca Boccassi Content-Type: text/plain X-BeenThere: test-report@dpdk.org X-Mailman-Version: 2.1.29 Precedence: list List-Id: automatic DPDK test reports List-Unsubscribe: , List-Archive: List-Post: List-Help: List-Subscribe: , Errors-To: test-report-bounces@dpdk.org _Testing PASS_ Branch: tags/v23.11 83a7a648344674c0269fcaeb71d8d16468421a0e --> testing pass Upstream job id: Generic-Unit-Test-DPDK#337145 Test environment and result as below: +---------------------+----------------+ | Environment | dpdk_unit_test | +=====================+================+ | CentOS Stream 9 | PASS | +---------------------+----------------+ | Fedora 40 | PASS | +---------------------+----------------+ | CentOS Stream 10 | PASS | +---------------------+----------------+ | Fedora 40 (Clang) | PASS | +---------------------+----------------+ | Debian 12 | PASS | +---------------------+----------------+ | Fedora 41 (Clang) | PASS | +---------------------+----------------+ | RHEL9 | PASS | +---------------------+----------------+ | Fedora 41 | PASS | +---------------------+----------------+ | RHEL8 | PASS | +---------------------+----------------+ | Ubuntu 20.04 | PASS | +---------------------+----------------+ | Ubuntu 24.04 | PASS | +---------------------+----------------+ | Ubuntu 22.04 | PASS | +---------------------+----------------+ | Windows Server 2022 | PASS | +---------------------+----------------+ CentOS Stream 9 Kernel: Depends on container host Compiler: gcc 11.5.0 20240719 (Red Hat 11.5.0-2) Fedora 40 Kernel: Depends on container host Compiler: gcc 14.2.1 20240912 (Red Hat 14.2.1-3) CentOS Stream 10 Kernel: Depends on container host Compiler: gcc 14.2.1 20241104 (Red Hat 14.2.1-6) Fedora 40 (Clang) Kernel: Depends on container host Compiler: clang 18.1.8 (Fedora 18.1.8-1.fc40) Debian 12 Kernel: Depends on container host Compiler: gcc (Debian 12.2.0-14) 12.2.0 Fedora 41 (Clang) Kernel: Depends on container host Compiler: clang 19.1.5 (Fedora 19.1.5-1.fc41) RHEL9 Kernel: Depends on container host Compiler: gcc 11.5.0 20240719 (Red Hat 11.5.0-2) Fedora 41 Kernel: Depends on container host Compiler: gcc 14.2.1 20240912 (Red Hat 14.2.1-3) RHEL8 Kernel: Depends on container host Compiler: gcc 8.5.0 20210514 (Red Hat 8.5.0-22) Ubuntu 20.04 Kernel: Depends on container host Compiler: gcc (Ubuntu 9.4.0-1ubuntu1~20.04.2) 9.4.0 Ubuntu 24.04 Kernel: Depends on container host Compiler: gcc (Ubuntu 13.3.0-6ubuntu2~24.04) 13.3.0 Ubuntu 22.04 Kernel: Depends on container host Compiler: gcc (Ubuntu 11.4.0-1ubuntu1~22.04) 11.4.0 Windows Server 2022 Kernel: 10.0.20348.2031 Compiler: clang 15.0.7, gcc 14.1.0 (MinGW), and MSVC VS 19.39.33521 To view detailed results, visit: https://lab.dpdk.org/results/dashboard/tarballs/33505/ UNH-IOL DPDK Community Lab To manage your email subscriptions, visit: https://lab.dpdk.org/results/dashboard/preferences/subscriptions/