From mboxrd@z Thu Jan 1 00:00:00 1970 Return-Path: Received: from mails.dpdk.org (mails.dpdk.org [217.70.189.124]) by inbox.dpdk.org (Postfix) with ESMTP id CBA9846724 for ; Mon, 12 May 2025 08:22:44 +0200 (CEST) Received: from mails.dpdk.org (localhost [127.0.0.1]) by mails.dpdk.org (Postfix) with ESMTP id C5BF7402CA; Mon, 12 May 2025 08:22:44 +0200 (CEST) Received: from mail-qt1-f227.google.com (mail-qt1-f227.google.com [209.85.160.227]) by mails.dpdk.org (Postfix) with ESMTP id 1570E4026A for ; Mon, 12 May 2025 08:22:44 +0200 (CEST) Received: by mail-qt1-f227.google.com with SMTP id d75a77b69052e-4769bbc21b0so48135251cf.2 for ; Sun, 11 May 2025 23:22:44 -0700 (PDT) DKIM-Signature: v=1; a=rsa-sha256; c=relaxed/relaxed; d=iol.unh.edu; s=unh-iol; t=1747030963; x=1747635763; darn=dpdk.org; h=cc:to:from:subject:message-id:date:from:to:cc:subject:date :message-id:reply-to; bh=pBtbLpInVyi52PlIi2UxR8hJ4dTCuwU8Jok+kUilM1U=; b=hu1L0coqM7ZIJYoSom0o5iIEfOqAguVAp3eFsSFCWwDg5BQwEvpvAqjCBKc7Jsbde+ 6M9JouKWmc15RoPboCgO5YSuoLgIcYTRC/Lc0SJ5CPf8zhIv7VsXg88DkwTdTqHVul/N /69rcfwTbG1UOVv11hRPZN8p1WgRWRXa9X1IQ= X-Google-DKIM-Signature: v=1; a=rsa-sha256; c=relaxed/relaxed; d=1e100.net; s=20230601; t=1747030963; x=1747635763; h=cc:to:from:subject:message-id:date:x-gm-message-state:from:to:cc :subject:date:message-id:reply-to; bh=pBtbLpInVyi52PlIi2UxR8hJ4dTCuwU8Jok+kUilM1U=; b=Fs0b86Ds/2NDI9D+2SaVU076RGg2SP+2SgPDP00VSyCQlxPOzXOArAwpuiCYLYjFAy luvhaR5oz/U9nGNvX6Er2r42I/zXL1+yUqprJYvzMhjqAUe7YY3RJsNff4aamkJJMLkn 4bDLdADn81idEC2gOYlFdS2W09kj0p5eeUgONUmq78CYyFMr+Hq5PU3b6LSV9WH0h9j2 jEK60DtBbZu2GMazntlXYEENCfnQ46lVAL/PQX/rb/NqWP2Hw8N3AUYkFAwTHNIiP9KE Lk7DqEVaAmuZ8ocfaHhALOi9Y+rWh8qSgn5nAdQKgr+E5TIfFTXvNda9lRE5YBM0x8RL nqmg== X-Gm-Message-State: AOJu0YwVBboehQAOvPcZrn2/a6JSZu11ZEdXWQcnNhw0WGCKOeXCGJku xEROi3B1PPmguhYdjJshpweA8/608TqAYmFdMvHn4uHB2D3zEBjMisa6jA6prVN8IAUc9gvmcYV maJCR5lLJcrlwJAcYHbDmEWwDRPv/++OjoCRkEXRIKxcGHXE/ X-Gm-Gg: ASbGncsjzumYQ5usez7rnvyFgEqAZvhDmejY5Zu3hwp83s7qXCu8CyNT8NDFjSQ2+mY Qh8q87c6ngoSfPnu9lURgs8hxmsWmcnkn1guDCBr3nUZfWYsMlH2qVewx9D5tEmah/+4+yf4QNd E1YXLwGOytIKDnXQ0cA2VkrDUQYxAtxZv0Ev/PMRsB3uZW+irH3l6jQmLsJ3yVygpbTdZxze7GV 5VLpR0ND0gvPTz1i5M6Y7asZ8IhAKocXQ3PwhcekdsQ1jjWOTN6PkcZ9L3BfQdDTNrq5rY4FSuY /evmy1UAQvBELbLj1mZbVrNqc/I/8FIp8FL8 X-Google-Smtp-Source: AGHT+IFvf2FUAthmj2MyzzMoe1NR03L9Isk4GpijFqLCv6yUeJIkTP6SHgvLeOEXnnzDGrWndKbcYKNBhqPF X-Received: by 2002:a05:6214:2a46:b0:6f0:e2e1:50b4 with SMTP id 6a1803df08f44-6f6e4814ca8mr206199906d6.35.1747030963458; Sun, 11 May 2025 23:22:43 -0700 (PDT) Received: from postal.iol.unh.edu (postal.iol.unh.edu. [2606:4100:3880:1234::84]) by smtp-relay.gmail.com with ESMTPS id 6a1803df08f44-6f6e3a48574sm4230966d6.45.2025.05.11.23.22.43 (version=TLS1_2 cipher=ECDHE-ECDSA-AES128-GCM-SHA256 bits=128/128); Sun, 11 May 2025 23:22:43 -0700 (PDT) X-Relaying-Domain: iol.unh.edu Date: Sun, 11 May 2025 23:22:43 -0700 (PDT) Message-ID: <682193b3.050a0220.276505.6ecdSMTPIN_ADDED_MISSING@mx.google.com> Received: from [172.21.0.5] (unknown [172.18.0.240]) by postal.iol.unh.edu (Postfix) with ESMTP id 334BE6052471; Mon, 12 May 2025 02:22:43 -0400 (EDT) Subject: |SUCCESS| [GIT MASTER] 83a7a648344674c0269fcaeb71d8d16468421a0e From: dpdklab@iol.unh.edu To: Test Report Cc: dpdk-test-reports@iol.unh.edu, Xueming Li , Christian Ehrhardt , Kevin Traynor , Luca Boccassi Content-Type: text/plain X-BeenThere: test-report@dpdk.org X-Mailman-Version: 2.1.29 Precedence: list List-Id: automatic DPDK test reports List-Unsubscribe: , List-Archive: List-Post: List-Help: List-Subscribe: , Errors-To: test-report-bounces@dpdk.org _Testing PASS_ Branch: tags/v23.11 83a7a648344674c0269fcaeb71d8d16468421a0e --> testing pass Upstream job id: Template-DTS-Pipeline#225421 Test environment and result as below: +--------------------+----------------------+----------------------+ | Environment | dpdk_fips_validation | compressdev_zlib_pmd | +====================+======================+======================+ | Ubuntu 20.04 | PASS | SKIPPED | +--------------------+----------------------+----------------------+ | Ubuntu 22.04 (ARM) | SKIPPED | PASS | +--------------------+----------------------+----------------------+ | Ubuntu 22.04 | SKIPPED | PASS | +--------------------+----------------------+----------------------+ Ubuntu 20.04 Kernel: Depends on container host Compiler: gcc (Ubuntu 9.4.0-1ubuntu1~20.04.2) 9.4.0 Ubuntu 22.04 (ARM) Kernel: 5.15.0-97-generic Compiler: gcc gcc (Ubuntu 11.4.0-1ubuntu1~22.04) 11.4.0 Ubuntu 22.04 Kernel: 5.15.0-100-generic Compiler: gcc gcc (Ubuntu 11.4.0-1ubuntu1~22.04) 11.4.0 To view detailed results, visit: https://lab.dpdk.org/results/dashboard/tarballs/33505/ UNH-IOL DPDK Community Lab To manage your email subscriptions, visit: https://lab.dpdk.org/results/dashboard/preferences/subscriptions/