From mboxrd@z Thu Jan 1 00:00:00 1970 Return-Path: Received: from mails.dpdk.org (mails.dpdk.org [217.70.189.124]) by inbox.dpdk.org (Postfix) with ESMTP id 024CD46724 for ; Mon, 12 May 2025 08:23:58 +0200 (CEST) Received: from mails.dpdk.org (localhost [127.0.0.1]) by mails.dpdk.org (Postfix) with ESMTP id EFE474026C; Mon, 12 May 2025 08:23:57 +0200 (CEST) Received: from mail-qk1-f226.google.com (mail-qk1-f226.google.com [209.85.222.226]) by mails.dpdk.org (Postfix) with ESMTP id AF6E34026A for ; Mon, 12 May 2025 08:23:56 +0200 (CEST) Received: by mail-qk1-f226.google.com with SMTP id af79cd13be357-7c922734cc2so514745185a.1 for ; Sun, 11 May 2025 23:23:56 -0700 (PDT) DKIM-Signature: v=1; a=rsa-sha256; c=relaxed/relaxed; d=iol.unh.edu; s=unh-iol; t=1747031036; x=1747635836; darn=dpdk.org; h=cc:to:from:subject:message-id:date:from:to:cc:subject:date :message-id:reply-to; bh=QdtU6hSNH/UbteMN3bT/pBF8/zYVoGmPWSA3tEkiTbE=; b=DH7IkAawZXZ+J7BVVqlEXuFZwrSgDZCfObL+I+/FYsgthYtmfxRogXgnX+VNmwhTte SeotWsgGZ9ZzdykHEseStF2RrOfbeCnCbJTNZ2/t/vsHh21fD55EGwi1ALb9gdx4HwrJ g+zoSDZ+e80v9EA52TyYHurOLDLjxFvnNouJw= X-Google-DKIM-Signature: v=1; a=rsa-sha256; c=relaxed/relaxed; d=1e100.net; s=20230601; t=1747031036; x=1747635836; h=cc:to:from:subject:message-id:date:x-gm-message-state:from:to:cc :subject:date:message-id:reply-to; bh=QdtU6hSNH/UbteMN3bT/pBF8/zYVoGmPWSA3tEkiTbE=; b=WjognrzFWHaE4kZbbHKZYMoCdK2ckybHVYyQaUJRMpgJjO419S5291KDp+cQTywgrn SIEkQ/TCJDy9LIKGs1yr4Xq/XYOcwhgFHpbbqOe+fADMsJpe2UzBeHU1cy+7ClUrNk3C jzWRLnJ/B98YIEWeVUuFnMhEnNdPLKaeJm6iSkNQBLVcpsjYnWGXSXQWR8r7KvlVBWyu kUg2vawnuqG249nSwjAQfi+YcSPF3JXd0QU30/q/X6vXXarjqrqrg8LHl319KazwG0sk P3F75yHC9Pm2HZnXFQmH8pzYcyGVg6dVitQmMFIfK+CQDDfh5Mbz6a+bt/EuWBS4OizM U4PQ== X-Gm-Message-State: AOJu0YwG3LxrlIE9hcSh8G4MKPYZi12gsgGkdWYnjPu8obgTojpgqZWW zb696j+/n3bQuIspPa60v1APuqsvUWPX6XXVyLN1/d4qI/jlGplK54RUPa5VAFtSJ3Az0zQjsBD 8TyqIEu3Elgtxq0mt+g8llSp49t6l3xTYTjHaoH4fSAAqfgsp X-Gm-Gg: ASbGnctItdMbXMuWxt1FYpjdtbe/syeCerkxKtOomG31rKvf4oowPKRXNHZtrFORMp1 NGUlA1tDiQhlWrpiI2bnT/x4LujgJkhWiS15tCDpnCHdIlLBl3ZeNfwBYovEVqnN+7ixXxwKaDS lW75a4XaEVPdZhTGQfN7R7svqyE0MPDUa+ORvvEDBpFH+S3ycDLlROrVUHAuqvbsPlVLgfyh0xt RnEot1dcKPxPoKSa8WUlxC8VpdHOQgPVOreAnLURqpYtalGLXT50vT8ASx0/wdWGPmd2Ft2EZRv S19OpywQVBP2sF8Q9daDpilCCC7/qg4YD4gD X-Google-Smtp-Source: AGHT+IE5y3WUnwxVbWzMCMWEkz368O77VZwnmBJpne6RzT0QRhp0yz87oioxbSUNwyfEAI8lGcp3s4iOnXvg X-Received: by 2002:a05:620a:8ac7:b0:7cd:bf:2037 with SMTP id af79cd13be357-7cd00bf2049mr1644486385a.1.1747031036105; Sun, 11 May 2025 23:23:56 -0700 (PDT) Received: from postal.iol.unh.edu (postal.iol.unh.edu. [2606:4100:3880:1234::84]) by smtp-relay.gmail.com with ESMTPS id af79cd13be357-7cd00ebf030sm28702585a.2.2025.05.11.23.23.56 (version=TLS1_2 cipher=ECDHE-ECDSA-AES128-GCM-SHA256 bits=128/128); Sun, 11 May 2025 23:23:56 -0700 (PDT) X-Relaying-Domain: iol.unh.edu Date: Sun, 11 May 2025 23:23:56 -0700 (PDT) Message-ID: <682193fc.050a0220.11d3ea.f5a4SMTPIN_ADDED_MISSING@mx.google.com> Received: from [172.21.0.5] (unknown [172.18.0.240]) by postal.iol.unh.edu (Postfix) with ESMTP id C5DD76052471; Mon, 12 May 2025 02:23:55 -0400 (EDT) Subject: |SUCCESS| [GIT MASTER] 83a7a648344674c0269fcaeb71d8d16468421a0e From: dpdklab@iol.unh.edu To: Test Report Cc: dpdk-test-reports@iol.unh.edu, Xueming Li , Christian Ehrhardt , Kevin Traynor , Luca Boccassi Content-Type: text/plain X-BeenThere: test-report@dpdk.org X-Mailman-Version: 2.1.29 Precedence: list List-Id: automatic DPDK test reports List-Unsubscribe: , List-Archive: List-Post: List-Help: List-Subscribe: , Errors-To: test-report-bounces@dpdk.org _Testing PASS_ Branch: tags/v23.11 83a7a648344674c0269fcaeb71d8d16468421a0e --> testing pass Upstream job id: Generic-DPDK-Compile-Meson#387195 Test environment and result as below: +---------------------+--------------------+-------------------+------------------+-------------------+-------------------------+----------------------+ | Environment | dpdk_meson_compile | dpdk_compile_spdk | dpdk_compile_ovs | dpdk_msvc_compile | dpdk_llvm_clang_compile | dpdk_mingw64_compile | +=====================+====================+===================+==================+===================+=========================+======================+ | CentOS Stream 9 | PASS | PASS | SKIPPED | SKIPPED | SKIPPED | SKIPPED | +---------------------+--------------------+-------------------+------------------+-------------------+-------------------------+----------------------+ | CentOS Stream 10 | PASS | SKIPPED | SKIPPED | SKIPPED | SKIPPED | SKIPPED | +---------------------+--------------------+-------------------+------------------+-------------------+-------------------------+----------------------+ | Debian 12 | PASS | PASS | SKIPPED | SKIPPED | SKIPPED | SKIPPED | +---------------------+--------------------+-------------------+------------------+-------------------+-------------------------+----------------------+ | Fedora 41 (Clang) | PASS | PASS | PASS | SKIPPED | SKIPPED | SKIPPED | +---------------------+--------------------+-------------------+------------------+-------------------+-------------------------+----------------------+ | Fedora 40 | PASS | PASS | SKIPPED | SKIPPED | SKIPPED | SKIPPED | +---------------------+--------------------+-------------------+------------------+-------------------+-------------------------+----------------------+ | Fedora 40 (Clang) | PASS | PASS | SKIPPED | SKIPPED | SKIPPED | SKIPPED | +---------------------+--------------------+-------------------+------------------+-------------------+-------------------------+----------------------+ | Fedora 41 | PASS | PASS | PASS | SKIPPED | SKIPPED | SKIPPED | +---------------------+--------------------+-------------------+------------------+-------------------+-------------------------+----------------------+ | openSUSE Leap 15 | PASS | SKIPPED | SKIPPED | SKIPPED | SKIPPED | SKIPPED | +---------------------+--------------------+-------------------+------------------+-------------------+-------------------------+----------------------+ | Ubuntu 24.04 | PASS | PASS | PASS | SKIPPED | SKIPPED | SKIPPED | +---------------------+--------------------+-------------------+------------------+-------------------+-------------------------+----------------------+ | RHEL8 | PASS | SKIPPED | SKIPPED | SKIPPED | SKIPPED | SKIPPED | +---------------------+--------------------+-------------------+------------------+-------------------+-------------------------+----------------------+ | Ubuntu 20.04 | PASS | SKIPPED | SKIPPED | SKIPPED | SKIPPED | SKIPPED | +---------------------+--------------------+-------------------+------------------+-------------------+-------------------------+----------------------+ | Ubuntu 22.04 | PASS | PASS | SKIPPED | SKIPPED | SKIPPED | SKIPPED | +---------------------+--------------------+-------------------+------------------+-------------------+-------------------------+----------------------+ | RHEL9 | PASS | SKIPPED | SKIPPED | SKIPPED | SKIPPED | SKIPPED | +---------------------+--------------------+-------------------+------------------+-------------------+-------------------------+----------------------+ | Alpine | PASS | SKIPPED | SKIPPED | SKIPPED | SKIPPED | SKIPPED | +---------------------+--------------------+-------------------+------------------+-------------------+-------------------------+----------------------+ | FreeBSD 13.5 | PASS | SKIPPED | SKIPPED | SKIPPED | SKIPPED | SKIPPED | +---------------------+--------------------+-------------------+------------------+-------------------+-------------------------+----------------------+ | FreeBSD 14.2 | PASS | SKIPPED | SKIPPED | SKIPPED | SKIPPED | SKIPPED | +---------------------+--------------------+-------------------+------------------+-------------------+-------------------------+----------------------+ | Windows Server 2022 | SKIPPED | SKIPPED | SKIPPED | PASS | PASS | PASS | +---------------------+--------------------+-------------------+------------------+-------------------+-------------------------+----------------------+ CentOS Stream 9 Kernel: Depends on container host Compiler: gcc 11.5.0 20240719 (Red Hat 11.5.0-2) CentOS Stream 10 Kernel: Depends on container host Compiler: gcc 14.2.1 20241104 (Red Hat 14.2.1-6) Debian 12 Kernel: Depends on container host Compiler: gcc (Debian 12.2.0-14) 12.2.0 Fedora 41 (Clang) Kernel: Depends on container host Compiler: clang 19.1.5 (Fedora 19.1.5-1.fc41) Fedora 40 Kernel: Depends on container host Compiler: gcc 14.2.1 20240912 (Red Hat 14.2.1-3) Fedora 40 (Clang) Kernel: Depends on container host Compiler: clang 18.1.8 (Fedora 18.1.8-1.fc40) Fedora 41 Kernel: Depends on container host Compiler: gcc 14.2.1 20240912 (Red Hat 14.2.1-3) openSUSE Leap 15 Kernel: Depends on container host Compiler: gcc (SUSE Linux) 7.5.0 Ubuntu 24.04 Kernel: Depends on container host Compiler: gcc (Ubuntu 13.3.0-6ubuntu2~24.04) 13.3.0 RHEL8 Kernel: Depends on container host Compiler: gcc 8.5.0 20210514 (Red Hat 8.5.0-22) Ubuntu 20.04 Kernel: Depends on container host Compiler: gcc (Ubuntu 9.4.0-1ubuntu1~20.04.2) 9.4.0 Ubuntu 22.04 Kernel: Depends on container host Compiler: gcc (Ubuntu 11.4.0-1ubuntu1~22.04) 11.4.0 RHEL9 Kernel: Depends on container host Compiler: gcc 11.5.0 20240719 (Red Hat 11.5.0-2) Alpine Kernel: Depends on container host Compiler: gcc (Alpine 14.2.0) 14.2.0 FreeBSD 13.5 Kernel: 13.5-RELEASE Compiler: clang 19.1.7 FreeBSD 14.2 Kernel: 14.2-RELEASE Compiler: clang 18.1.6 Windows Server 2022 Kernel: 10.0.20348.2031 Compiler: clang 15.0.7, gcc 14.1.0 (MinGW), and MSVC VS 19.39.33521 To view detailed results, visit: https://lab.dpdk.org/results/dashboard/tarballs/33505/ UNH-IOL DPDK Community Lab To manage your email subscriptions, visit: https://lab.dpdk.org/results/dashboard/preferences/subscriptions/