From mboxrd@z Thu Jan 1 00:00:00 1970 Return-Path: Received: from mails.dpdk.org (mails.dpdk.org [217.70.189.124]) by inbox.dpdk.org (Postfix) with ESMTP id 690BB46724 for ; Mon, 12 May 2025 09:58:54 +0200 (CEST) Received: from mails.dpdk.org (localhost [127.0.0.1]) by mails.dpdk.org (Postfix) with ESMTP id 40DF0402C9; Mon, 12 May 2025 09:58:54 +0200 (CEST) Received: from mail-io1-f98.google.com (mail-io1-f98.google.com [209.85.166.98]) by mails.dpdk.org (Postfix) with ESMTP id 763F34025D for ; Mon, 12 May 2025 09:58:52 +0200 (CEST) Received: by mail-io1-f98.google.com with SMTP id ca18e2360f4ac-867355d9c4eso78181239f.0 for ; Mon, 12 May 2025 00:58:52 -0700 (PDT) DKIM-Signature: v=1; a=rsa-sha256; c=relaxed/relaxed; d=iol.unh.edu; s=unh-iol; t=1747036731; x=1747641531; darn=dpdk.org; h=cc:to:from:subject:message-id:date:from:to:cc:subject:date :message-id:reply-to; bh=ATmfz1pYQnBYu1uFrlmnNaT1agsvuKayxRBWdVJd1og=; b=RRwTTqQueY4xIrCPGr2kysEFN84TE0fsZuJ4pWQiNJ5yONnDCDg8gqtNVP/a5lZ9of AFRngoQfT83Eq99VBKCeGbshAF3rfRzZDER7mVpraNaMXWxh2SBNbFFcZuV7GUMlejWr bfpliBGPRSFYdXzPrfjE0af16MR4KPhWve4yE= X-Google-DKIM-Signature: v=1; a=rsa-sha256; c=relaxed/relaxed; d=1e100.net; s=20230601; t=1747036731; x=1747641531; h=cc:to:from:subject:message-id:date:x-gm-message-state:from:to:cc :subject:date:message-id:reply-to; bh=ATmfz1pYQnBYu1uFrlmnNaT1agsvuKayxRBWdVJd1og=; b=D3XoxbqTVF21QJxsgqvlbocUXOYNys3nTccbxQ/yHf+/hIUFuIHjVpAQPT3tpiy0yV J64n2imLAteUelBdbBlC/hgc3BcuhBt0w5XQ2go4PVBNrrq8XsXH0KM/qGNEpcrYi5p4 PQK4SUQvVl4eILqMaskl+tzWKn8dlh65TccvJJU9PqJw1utB7l7UpBBBu2FiaHYCKZCF FGAKaeKVPDkXKADrutmiZqvvr80qAdj2MOCPgMDy2QXqMqV4LTmp8nVJJLf0kOik0z/h uIj8dbeXz93z4EeyHi/hFPhDTqTJnJKmmv8IHcbRucy7ZObUMwHaSqN6N6CbKhn0zW0R LLEg== X-Gm-Message-State: AOJu0YzUBmvDnkr2t3rqDTIe25hzfzLBtjF46mZjZ/ggBlTfMgukuqME zirimO6WM/u4vf7guA1aZKUhaYlcP7ymVgD0xd0Y+E3zZsQnfyePJwgPjQwuSuxm6uiWn+JW4xS zB59CR8dTQUCnnhvT+Xh1bUGQgYRBQ2MANg17iubaF+6xAhbS X-Gm-Gg: ASbGncs6AHumu8ONt0Cl19meBikbnYrRygGNDfMcOBDEf2uTgFj7mJn/1aD+cEOZZtF MXs13g6FDqW0fwOsYcuHyqJnIrKxRbTHOgEf2zFa3mqTLToqgSe9Q4v+vHzr2atAGIWjeXusog0 7THsBOb4biP7Otqy/0sMdeEw3YxxqmkT19EnkxvrVdIdFw0TrtUKYtXplLW2ws5Q8or6czEp6xJ bEJqlv07tbXmXxt85JRh1iyPxcY+AJiYdSsBKF7IvEH4ZOFYMQml1ys5LrcBQgBNfovpg0uzd40 LwSKf8W4GRw/bkXk+GNNyHcVupdXwE3n9EqE X-Google-Smtp-Source: AGHT+IFPJeOUTzr3E+UgPLsfzpGsvrUXXyV2Rsi3xif16W6f9BF6zG/m3EG07POr4qDcJCq2qtevJgXRv4is X-Received: by 2002:a05:6602:3f91:b0:864:a2e4:5fff with SMTP id ca18e2360f4ac-8676352c51dmr1349480839f.4.1747036731697; Mon, 12 May 2025 00:58:51 -0700 (PDT) Received: from postal.iol.unh.edu (postal.iol.unh.edu. [2606:4100:3880:1234::84]) by smtp-relay.gmail.com with ESMTPS id ca18e2360f4ac-867637774b2sm34593939f.22.2025.05.12.00.58.51 (version=TLS1_2 cipher=ECDHE-ECDSA-AES128-GCM-SHA256 bits=128/128); Mon, 12 May 2025 00:58:51 -0700 (PDT) X-Relaying-Domain: iol.unh.edu Date: Mon, 12 May 2025 00:58:51 -0700 (PDT) Message-ID: <6821aa3b.050a0220.19ee9b.2c2cSMTPIN_ADDED_MISSING@mx.google.com> Received: from [172.17.0.2] (unknown [172.18.0.74]) by postal.iol.unh.edu (Postfix) with ESMTP id E8AD66052471; Mon, 12 May 2025 03:58:50 -0400 (EDT) Subject: |SUCCESS| [GIT MASTER] 4c5634de9f933555bab9c64a533d3dca999071cd From: dpdklab@iol.unh.edu To: Test Report Cc: dpdk-test-reports@iol.unh.edu, Xueming Li , Christian Ehrhardt , Kevin Traynor , Luca Boccassi Content-Type: text/plain X-BeenThere: test-report@dpdk.org X-Mailman-Version: 2.1.29 Precedence: list List-Id: automatic DPDK test reports List-Unsubscribe: , List-Archive: List-Post: List-Help: List-Subscribe: , Errors-To: test-report-bounces@dpdk.org _Testing PASS_ Branch: tags/v24.11 4c5634de9f933555bab9c64a533d3dca999071cd --> testing pass Upstream job id: ACVP-FIPS-testing#9785 Test environment and result as below: +--------------------+----------------------+----------------------+ | Environment | compressdev_zlib_pmd | dpdk_fips_validation | +====================+======================+======================+ | Ubuntu 22.04 (ARM) | PASS | SKIPPED | +--------------------+----------------------+----------------------+ | Ubuntu 22.04 | PASS | SKIPPED | +--------------------+----------------------+----------------------+ | Ubuntu 20.04 | SKIPPED | PASS | +--------------------+----------------------+----------------------+ Ubuntu 22.04 (ARM) Kernel: 5.15.0-97-generic Compiler: gcc gcc (Ubuntu 11.4.0-1ubuntu1~22.04) 11.4.0 Ubuntu 22.04 Kernel: 5.15.0-100-generic Compiler: gcc gcc (Ubuntu 11.4.0-1ubuntu1~22.04) 11.4.0 Ubuntu 20.04 Kernel: Depends on container host Compiler: gcc (Ubuntu 9.4.0-1ubuntu1~20.04.2) 9.4.0 To view detailed results, visit: https://lab.dpdk.org/results/dashboard/tarballs/33503/ UNH-IOL DPDK Community Lab To manage your email subscriptions, visit: https://lab.dpdk.org/results/dashboard/preferences/subscriptions/