From mboxrd@z Thu Jan 1 00:00:00 1970 Return-Path: Received: from mails.dpdk.org (mails.dpdk.org [217.70.189.124]) by inbox.dpdk.org (Postfix) with ESMTP id EBD7546728 for ; Mon, 12 May 2025 14:17:07 +0200 (CEST) Received: from mails.dpdk.org (localhost [127.0.0.1]) by mails.dpdk.org (Postfix) with ESMTP id E5C5C402C9; Mon, 12 May 2025 14:17:07 +0200 (CEST) Received: from mail-io1-f98.google.com (mail-io1-f98.google.com [209.85.166.98]) by mails.dpdk.org (Postfix) with ESMTP id 0EBA74025D for ; Mon, 12 May 2025 14:17:07 +0200 (CEST) Received: by mail-io1-f98.google.com with SMTP id ca18e2360f4ac-85e1b1f08a5so146562039f.2 for ; Mon, 12 May 2025 05:17:06 -0700 (PDT) DKIM-Signature: v=1; a=rsa-sha256; c=relaxed/relaxed; d=iol.unh.edu; s=unh-iol; t=1747052226; x=1747657026; darn=dpdk.org; h=references:in-reply-to:cc:to:from:subject:message-id:date:from:to :cc:subject:date:message-id:reply-to; bh=4SKxypkFXbIk+wipS28ZCK+7oH5T3Ioxaj06/Itjv7Q=; b=J8Nv9hRk5ZZGRkBy2T+5Py7FGYvVGcIALsV53FTTwzyul+vOq/hj968Ckfu96nkRl4 TvQkIa/ypekuUa9cfwmzWBNIzfp3SbVYCx68fVz1rHyk8Ym6O0aHm3TI1fUF6RF3Lb/B 5+tyCWK0k0eGO5MkrMLPQD82lX4wdJ0EbTgzg= X-Google-DKIM-Signature: v=1; a=rsa-sha256; c=relaxed/relaxed; d=1e100.net; s=20230601; t=1747052226; x=1747657026; h=references:in-reply-to:cc:to:from:subject:message-id:date :x-gm-message-state:from:to:cc:subject:date:message-id:reply-to; bh=4SKxypkFXbIk+wipS28ZCK+7oH5T3Ioxaj06/Itjv7Q=; b=O5fuBZjRhlb71xYwLmbxVmCjKJqemYS0TOTXMynT+zra2wgvt51ilpLDvCVPQrttSV qV/1XIkqQs9yTdpjFcLtVArZq70fW3Sp2bp9+9e49D+LuF4zRRM734GKKltKj1BUBxP4 vqrCFv3IKDMW+URP5DhOY8kELIYC0l/4dWo4uNqQSUgl7TrZgJe3fs6xCCzn08xyC2cf FSfP3xS9amhGOr3AV+76p1feEfFi7n5owgvrbJ/0BW1toJ9aUSgmE6Id4bjv3x5QXxMO NnvsZcokveMljNRzUqASRu9z7XJKMOGzNWTJuuFSeceUdXEs8eO6qpQJqqPzYLtiI3FX r0jA== X-Gm-Message-State: AOJu0Yy3NG1IneXFPW+JVwxl3ifmkP11lTJbfauSIKS2ogCEAoUErmJX hyr7MS3dsgDB4assVFceEJEVxWyRmj/xyumlxGjmi6zwYsxQsa2iSZY2AUZxsn2IxooCpLojESG RIN9PKinM+b/zYvZ94F4PVeJO7ofg1rfC2lT9DvTt X-Gm-Gg: ASbGncscHQawrTzw0UoRtF5uR+T1yHxIu1GkIqhS8UXPTNXd/GgLRrRsmteeXZX9aNj NfAGMQoBf75F848HmzgAgT2wXCsm63U7Y5xZrubP4uNs+KOQpwk/ZI+wqmLOXDILPUtxEiHltMZ O8NKz354eB2yBaGh4VmxBZPlML6C0ng0Xe+qC1BnpMZ0+MRddgMyh4Ua5AYZOgEgA5EvCBJ85jX KNPg+3qOUQFzLBd+rLdjfQJgGIsysWlPmdPBXXXVXx4VihT13IRmwsRED3H5QtU/96SgitUZtKO 2rYcrhj7vJctzIyWSr21UjRzWz8XUHA1EnUiUCOKjZ3BsAXrBHOXUvDqf34= X-Google-Smtp-Source: AGHT+IFMXxP98yeqPnF5K5HPjsL02388UDxezE9mN3HrjB9JbvtFt81XcgroQAsNvRDQDvxKoxQR3PmnlG+w X-Received: by 2002:a05:6602:6d05:b0:867:47af:5df with SMTP id ca18e2360f4ac-8676338d48dmr1270435439f.0.1747052226236; Mon, 12 May 2025 05:17:06 -0700 (PDT) Received: from postal.iol.unh.edu (postal.iol.unh.edu. [132.177.123.84]) by smtp-relay.gmail.com with ESMTPS id ca18e2360f4ac-867637774b2sm36446439f.22.2025.05.12.05.17.06 (version=TLS1_2 cipher=ECDHE-ECDSA-AES128-GCM-SHA256 bits=128/128); Mon, 12 May 2025 05:17:06 -0700 (PDT) X-Relaying-Domain: iol.unh.edu Date: Mon, 12 May 2025 05:17:06 -0700 (PDT) Message-ID: <6821e6c2.050a0220.19ee9b.3acfSMTPIN_ADDED_MISSING@mx.google.com> Received: from [172.21.0.6] (unknown [172.18.0.240]) by postal.iol.unh.edu (Postfix) with ESMTP id C13B26052471; Mon, 12 May 2025 08:17:05 -0400 (EDT) Subject: |SUCCESS| pw153395-153407 [PATCH] [v2,13/13] net/intel: add common T From: dpdklab@iol.unh.edu To: Test Report Cc: dpdk-test-reports@iol.unh.edu In-Reply-To: <948febc3a463cf589440638552dc522c6df18318.1747047506.git.anatoly.burakov@intel.com> References: <948febc3a463cf589440638552dc522c6df18318.1747047506.git.anatoly.burakov@intel.com> Content-Type: text/plain X-BeenThere: test-report@dpdk.org X-Mailman-Version: 2.1.29 Precedence: list List-Id: automatic DPDK test reports List-Unsubscribe: , List-Archive: List-Post: List-Help: List-Subscribe: , Errors-To: test-report-bounces@dpdk.org Test-Label: iol-abi-testing Test-Status: SUCCESS http://dpdk.org/patch/153407 _Testing PASS_ Submitter: Anatoly Burakov Date: Monday, May 12 2025 10:58:38 DPDK git baseline: Repo:dpdk Branch: master CommitID:7cf0355db9fdab5648b05fd787356c391c510534 153395-153407 --> testing pass Upstream job id: Generic-DPDK-Compile-ABI#126110 Test environment and result as below: +-------------------+----------+ | Environment | abi_test | +===================+==========+ | CentOS Stream 9 | PASS | +-------------------+----------+ | CentOS Stream 10 | PASS | +-------------------+----------+ | Debian 12 | PASS | +-------------------+----------+ | Fedora 40 (Clang) | PASS | +-------------------+----------+ | Fedora 40 | PASS | +-------------------+----------+ | Fedora 41 | PASS | +-------------------+----------+ | Fedora 41 (Clang) | PASS | +-------------------+----------+ | RHEL9 | PASS | +-------------------+----------+ | Ubuntu 24.04 | PASS | +-------------------+----------+ | openSUSE Leap 15 | PASS | +-------------------+----------+ | RHEL8 | PASS | +-------------------+----------+ | Ubuntu 22.04 | PASS | +-------------------+----------+ CentOS Stream 9 Kernel: Depends on container host Compiler: gcc 11.5.0 20240719 (Red Hat 11.5.0-2) CentOS Stream 10 Kernel: Depends on container host Compiler: gcc 14.2.1 20241104 (Red Hat 14.2.1-6) Debian 12 Kernel: Depends on container host Compiler: gcc (Debian 12.2.0-14) 12.2.0 Fedora 40 (Clang) Kernel: Depends on container host Compiler: clang 18.1.8 (Fedora 18.1.8-1.fc40) Fedora 40 Kernel: Depends on container host Compiler: gcc 14.2.1 20240912 (Red Hat 14.2.1-3) Fedora 41 Kernel: Depends on container host Compiler: gcc 14.2.1 20240912 (Red Hat 14.2.1-3) Fedora 41 (Clang) Kernel: Depends on container host Compiler: clang 19.1.5 (Fedora 19.1.5-1.fc41) RHEL9 Kernel: Depends on container host Compiler: gcc 11.5.0 20240719 (Red Hat 11.5.0-2) Ubuntu 24.04 Kernel: Depends on container host Compiler: gcc (Ubuntu 13.3.0-6ubuntu2~24.04) 13.3.0 openSUSE Leap 15 Kernel: Depends on container host Compiler: gcc (SUSE Linux) 7.5.0 RHEL8 Kernel: Depends on container host Compiler: gcc 8.5.0 20210514 (Red Hat 8.5.0-22) Ubuntu 22.04 Kernel: Depends on container host Compiler: gcc (Ubuntu 11.4.0-1ubuntu1~22.04) 11.4.0 To view detailed results, visit: https://lab.dpdk.org/results/dashboard/patchsets/33155/ UNH-IOL DPDK Community Lab To manage your email subscriptions, visit: https://lab.dpdk.org/results/dashboard/preferences/subscriptions/