From mboxrd@z Thu Jan  1 00:00:00 1970
Return-Path: <test-report-bounces@dpdk.org>
Received: from mails.dpdk.org (mails.dpdk.org [217.70.189.124])
	by inbox.dpdk.org (Postfix) with ESMTP id 0745446728
	for <public@inbox.dpdk.org>; Mon, 12 May 2025 14:25:39 +0200 (CEST)
Received: from mails.dpdk.org (localhost [127.0.0.1])
	by mails.dpdk.org (Postfix) with ESMTP id 00BFF402C9;
	Mon, 12 May 2025 14:25:39 +0200 (CEST)
Received: from mail-il1-f228.google.com (mail-il1-f228.google.com
 [209.85.166.228])
 by mails.dpdk.org (Postfix) with ESMTP id 6C9DB4025D
 for <test-report@dpdk.org>; Mon, 12 May 2025 14:25:37 +0200 (CEST)
Received: by mail-il1-f228.google.com with SMTP id
 e9e14a558f8ab-3d948ce7d9dso17024885ab.2
 for <test-report@dpdk.org>; Mon, 12 May 2025 05:25:37 -0700 (PDT)
DKIM-Signature: v=1; a=rsa-sha256; c=relaxed/relaxed;
 d=iol.unh.edu; s=unh-iol; t=1747052737; x=1747657537; darn=dpdk.org;
 h=references:in-reply-to:cc:to:from:subject:message-id:date:from:to
 :cc:subject:date:message-id:reply-to;
 bh=JQvocOG0/Pta/njqDyJBBAtXKFc86/vRaAbYnuYm+Hk=;
 b=PIwVFQ4j+ar81XyNffWF82FTnlbWG1cgZXpR0cF+mFvLDXbvIEDBHnTH/MeE9gUrtT
 KVGUsVtQp6WMTpNK1NTBWqKrUlQZOX8Z2tEWsO0riTz7QRYm7S9BHqZyaEPy90FkJ4oJ
 RAvpHEo6vCl79FSotbdgJOMYTe3uc+RZXun8s=
X-Google-DKIM-Signature: v=1; a=rsa-sha256; c=relaxed/relaxed;
 d=1e100.net; s=20230601; t=1747052737; x=1747657537;
 h=references:in-reply-to:cc:to:from:subject:message-id:date
 :x-gm-message-state:from:to:cc:subject:date:message-id:reply-to;
 bh=JQvocOG0/Pta/njqDyJBBAtXKFc86/vRaAbYnuYm+Hk=;
 b=P/wrnEZon7riNamdo54LnNWWjW+XPzJ44QwNYTrdGBSGDwErThfrBV6RcJCTwm5e1M
 Phqq6PZQzcszxTFvsUDK4y+RtNIIfFBmumhXLjEu4WxXXBPIZuD8Y3CmBAZ/sGg+LhxT
 c3Mpj5wJP0+klfwHnBuIwBS20aRB22/oZfoUSxtz5F7eW91KR9IY9b2OCr2FNlwHP6Go
 cJxIxN031Kx8qp+IKpIM/QUlehTI1nTIx23CY8gBht9n6MWkyWe7ZbjqZ84DzLn1NM6D
 r+OkDl9swJhMUyTyw1MskyUGRc/2POR7o/khX0n96IdrhQLPdTwGSpVKl8TYmwkD86g4
 mpTQ==
X-Gm-Message-State: AOJu0Ywd0lsKeKqUNBAtQP4jSjKeOAg7zH6mkDlNb+A+8t7o3Adr4ml/
 oSgkh9kivtK57Xj3WTuFZeTjBb25bfTMc+IktfYhRU5tAeuLUNR/8nLYsq/Oe5XRRLDocrMbaUw
 4z2hpeHEhwKCtjTEB8oVI+rdxzrInciR9ZyCjGcuDTQhJKbPlC5gk3bac
X-Gm-Gg: ASbGncuevNE3rCT+QC/earj+/xBLF16JIl6H7j+SUpqk53aTASD+ye/zC6BPnFlhW8R
 KqacKYtPq5uz+RZFjs8e+0LBZi/UyXK5o9ijFNVlHEbzial1khKipE7YzN7aIAr65Y7jH1ikMj9
 GsJlddIXIVKFDyM/SiYO+8lcllAjllFtRCpqojDyHs8NZmt9MgZuxgbw91vEKc9PZye8lvO7sU/
 umKsDVwJfyIWNGhPTsxn300hYbJPhhsdAC7W+Fiducu1PlvQJ4ZwSDD39qVFuBH+DOx6sbBXLln
 7fhcmDiKDYnni7ze/2TBQVX/C0JC9v0vN0VD
X-Google-Smtp-Source: AGHT+IGKAm2vmmD/BwOHxkaksGpFlCChEAe7GPwsT9G6r37777jocV7zctOWp/TmvSM8BfqHSDarldH/nJAC
X-Received: by 2002:a05:6e02:188d:b0:3d4:3ab3:daf0 with SMTP id
 e9e14a558f8ab-3da7e1e7783mr133085595ab.7.1747052736613; 
 Mon, 12 May 2025 05:25:36 -0700 (PDT)
Received: from postal.iol.unh.edu (postal.iol.unh.edu.
 [2606:4100:3880:1234::84]) by smtp-relay.gmail.com with ESMTPS id
 e9e14a558f8ab-3da7e0f9b30sm4698185ab.10.2025.05.12.05.25.36
 (version=TLS1_2 cipher=ECDHE-ECDSA-AES128-GCM-SHA256 bits=128/128);
 Mon, 12 May 2025 05:25:36 -0700 (PDT)
X-Relaying-Domain: iol.unh.edu
Date: Mon, 12 May 2025 05:25:36 -0700 (PDT)
Message-ID: <6821e8c0.050a0220.207629.8768SMTPIN_ADDED_MISSING@mx.google.com>
Received: from [172.17.0.3] (unknown [172.18.0.74])
 by postal.iol.unh.edu (Postfix) with ESMTP id 435286052471;
 Mon, 12 May 2025 08:25:36 -0400 (EDT)
Subject: |SUCCESS| pw153395-153407 [PATCH] [v2,13/13] net/intel: add common T
From: dpdklab@iol.unh.edu
To: Test Report <test-report@dpdk.org>
Cc: dpdk-test-reports@iol.unh.edu
In-Reply-To: <948febc3a463cf589440638552dc522c6df18318.1747047506.git.anatoly.burakov@intel.com>
References: <948febc3a463cf589440638552dc522c6df18318.1747047506.git.anatoly.burakov@intel.com>
Content-Type: text/plain
X-BeenThere: test-report@dpdk.org
X-Mailman-Version: 2.1.29
Precedence: list
List-Id: automatic DPDK test reports <test-report.dpdk.org>
List-Unsubscribe: <https://mails.dpdk.org/options/test-report>,
 <mailto:test-report-request@dpdk.org?subject=unsubscribe>
List-Archive: <http://mails.dpdk.org/archives/test-report/>
List-Post: <mailto:test-report@dpdk.org>
List-Help: <mailto:test-report-request@dpdk.org?subject=help>
List-Subscribe: <https://mails.dpdk.org/listinfo/test-report>,
 <mailto:test-report-request@dpdk.org?subject=subscribe>
Errors-To: test-report-bounces@dpdk.org

Test-Label: iol-unit-amd64-testing
Test-Status: SUCCESS
http://dpdk.org/patch/153407

_Testing PASS_

Submitter: Anatoly Burakov <anatoly.burakov@intel.com>
Date: Monday, May 12 2025 10:58:38 
DPDK git baseline: Repo:dpdk
  Branch: master
  CommitID:7cf0355db9fdab5648b05fd787356c391c510534

153395-153407 --> testing pass

Upstream job id: Generic-VM-Unit-Test-DPDK#28471

Test environment and result as below:

+---------------------+----------------+
|     Environment     | dpdk_unit_test |
+=====================+================+
| CentOS Stream 9     | PASS           |
+---------------------+----------------+
| Debian 12           | PASS           |
+---------------------+----------------+
| CentOS Stream 10    | PASS           |
+---------------------+----------------+
| Fedora 40           | PASS           |
+---------------------+----------------+
| Fedora 41           | PASS           |
+---------------------+----------------+
| Fedora 40 (Clang)   | PASS           |
+---------------------+----------------+
| Ubuntu 20.04        | PASS           |
+---------------------+----------------+
| Ubuntu 24.04        | PASS           |
+---------------------+----------------+
| RHEL9               | PASS           |
+---------------------+----------------+
| Fedora 41 (Clang)   | PASS           |
+---------------------+----------------+
| Ubuntu 22.04        | PASS           |
+---------------------+----------------+
| RHEL8               | PASS           |
+---------------------+----------------+
| Windows Server 2022 | PASS           |
+---------------------+----------------+


CentOS Stream 9
	Kernel: Depends on container host
	Compiler: gcc 11.5.0 20240719 (Red Hat 11.5.0-2)

Debian 12
	Kernel: Depends on container host
	Compiler: gcc (Debian 12.2.0-14) 12.2.0

CentOS Stream 10
	Kernel: Depends on container host
	Compiler: gcc 14.2.1 20241104 (Red Hat 14.2.1-6)

Fedora 40
	Kernel: Depends on container host
	Compiler: gcc 14.2.1 20240912 (Red Hat 14.2.1-3)

Fedora 41
	Kernel: Depends on container host
	Compiler: gcc 14.2.1 20240912 (Red Hat 14.2.1-3)

Fedora 40 (Clang)
	Kernel: Depends on container host
	Compiler: clang 18.1.8 (Fedora 18.1.8-1.fc40)

Ubuntu 20.04
	Kernel: Depends on container host
	Compiler: gcc (Ubuntu 9.4.0-1ubuntu1~20.04.2) 9.4.0

Ubuntu 24.04
	Kernel: Depends on container host
	Compiler: gcc (Ubuntu 13.3.0-6ubuntu2~24.04) 13.3.0

RHEL9
	Kernel: Depends on container host
	Compiler: gcc 11.5.0 20240719 (Red Hat 11.5.0-2)

Fedora 41 (Clang)
	Kernel: Depends on container host
	Compiler: clang 19.1.5 (Fedora 19.1.5-1.fc41)

Ubuntu 22.04
	Kernel: Depends on container host
	Compiler: gcc (Ubuntu 11.4.0-1ubuntu1~22.04) 11.4.0

RHEL8
	Kernel: Depends on container host
	Compiler: gcc 8.5.0 20210514 (Red Hat 8.5.0-22)

Windows Server 2022
	Kernel: 10.0.20348.2031
	Compiler: clang 15.0.7, gcc 14.1.0 (MinGW), and MSVC VS 19.39.33521

To view detailed results, visit:
https://lab.dpdk.org/results/dashboard/patchsets/33155/

UNH-IOL DPDK Community Lab

To manage your email subscriptions, visit: 
https://lab.dpdk.org/results/dashboard/preferences/subscriptions/