From mboxrd@z Thu Jan 1 00:00:00 1970 Return-Path: Received: from mails.dpdk.org (mails.dpdk.org [217.70.189.124]) by inbox.dpdk.org (Postfix) with ESMTP id 2303F46728 for ; Mon, 12 May 2025 14:26:06 +0200 (CEST) Received: from mails.dpdk.org (localhost [127.0.0.1]) by mails.dpdk.org (Postfix) with ESMTP id 1B999402C9; Mon, 12 May 2025 14:26:06 +0200 (CEST) Received: from mail-pl1-f227.google.com (mail-pl1-f227.google.com [209.85.214.227]) by mails.dpdk.org (Postfix) with ESMTP id 00B744025D for ; Mon, 12 May 2025 14:26:04 +0200 (CEST) Received: by mail-pl1-f227.google.com with SMTP id d9443c01a7336-22fb7659866so44295415ad.1 for ; Mon, 12 May 2025 05:26:04 -0700 (PDT) DKIM-Signature: v=1; a=rsa-sha256; c=relaxed/relaxed; d=iol.unh.edu; s=unh-iol; t=1747052764; x=1747657564; darn=dpdk.org; h=references:in-reply-to:cc:to:from:subject:message-id:date:from:to :cc:subject:date:message-id:reply-to; bh=kdjwCYqQLTBNh3lPPvVMNwyW2hyyzBskTozH2HnUqvA=; b=gXIR65rolV9np2Mxg15z41E9aDFjOSk3Sfc6ufu3EJm0CXI9aNzRrLRLJB5pWukAMm SzvSpu/XH+XTsnD/TjYgSmzeNkYPML+8kvJkTp7KeeLQ+NXdt36+0ILz1T1+iJA3wNe9 vtlidVatYm+Iqbw8HdwLYmb0iq1ljbx6JMovc= X-Google-DKIM-Signature: v=1; a=rsa-sha256; c=relaxed/relaxed; d=1e100.net; s=20230601; t=1747052764; x=1747657564; h=references:in-reply-to:cc:to:from:subject:message-id:date :x-gm-message-state:from:to:cc:subject:date:message-id:reply-to; bh=kdjwCYqQLTBNh3lPPvVMNwyW2hyyzBskTozH2HnUqvA=; b=jqm7cqaDkB4ZXCec8DoXglBTQqQoTe2zf5p+P6ATgWSXtqSSfu4MtIpzc5EmhSFvIu ia5j9sCsLm+cxwDjmQQgl1FmPRDbG3YnYzPTBK5JGAbjVsDwn7f+ohuIQF0bflRdgSbS TOnG0cWJzjrd10Xut1Cp15101LG/vc56MByVHWIGQlSxOzymTA96+SO6WUGeHNJgpVXT qLYseM9p732rYIWWDieA8vZE3wTDnDk9N3KViLNEv2fCYQgNcPqS5QgvtAxgeuzTE9Ys T/B170GsEB9lBXnBEZVK7EcX5BzImBX4OQxuN1AcyS3EmJ507nXhinc8EMvg9y+K72om Gucg== X-Gm-Message-State: AOJu0YzAftPtbJ3lxM7X9oAh1rAeIN4Nc3xmvVb/iNdxPRjOuz+RjlP+ JKEbVjx9oSzvfO1lGQ3vPp6tkHVHLL4aP7EqwRDZyHQAtzMYuhW2sU2iUhW9/MjKqJ2fbIQctEB qE1nUeyYADq17wZCue4KiBNR8zu5vCd8ZS9VV7BmG X-Gm-Gg: ASbGncvxbtQvtpvxVchdOdBjzUWW+V4brdpFURd24Jlk/pEC8QUblXKSwHnIoxsBFsQ 90hV6c/kKC6CwqBhJeOL3jGR3SS2TfMVUOD/THg4H7TDrmS90HiBuhVN77SJQps2v769Yx8/V8y rYj2Qm071Okg96OqB/dWuCbS015I6O0ySAQdglrUyAZhkiTRULArCJQbFcBmO9Wbg5LOvtt9YXN g+WR3OIvOSKnYlT4JPKYkggDl9ZHAYUS9PJ+fFiiRzppUU0PU+qxANi3CnvVocjWBj5sKG8DtYf ZAAuybgO3dHDLWLcPJxWcAcOs+6fqB6Pp9/Bb+Zup2dcoNg8ylgaG8RSA5Y= X-Google-Smtp-Source: AGHT+IF+s9SGQZUboxdB4SqOLYhGWdKImo0YeEfCwrYHYkbuvQgIN0GbsWdZpWD8kqYJ5kQXfGu/WgiOKhlj X-Received: by 2002:a17:902:d581:b0:224:5a8:ba29 with SMTP id d9443c01a7336-22fc91a7375mr209273555ad.43.1747052762590; Mon, 12 May 2025 05:26:02 -0700 (PDT) Received: from postal.iol.unh.edu (postal.iol.unh.edu. [132.177.123.84]) by smtp-relay.gmail.com with ESMTPS id d9443c01a7336-22fc5a27183sm4267075ad.27.2025.05.12.05.26.02 (version=TLS1_2 cipher=ECDHE-ECDSA-AES128-GCM-SHA256 bits=128/128); Mon, 12 May 2025 05:26:02 -0700 (PDT) X-Relaying-Domain: iol.unh.edu Date: Mon, 12 May 2025 05:26:02 -0700 (PDT) Message-ID: <6821e8da.170a0220.1b7039.72adSMTPIN_ADDED_MISSING@mx.google.com> Received: from [172.17.0.3] (unknown [172.18.0.76]) by postal.iol.unh.edu (Postfix) with ESMTP id BBCBA6052471; Mon, 12 May 2025 08:26:01 -0400 (EDT) Subject: |SUCCESS| pw153395-153407 [PATCH] [v2,13/13] net/intel: add common T From: dpdklab@iol.unh.edu To: Test Report Cc: dpdk-test-reports@iol.unh.edu In-Reply-To: <948febc3a463cf589440638552dc522c6df18318.1747047506.git.anatoly.burakov@intel.com> References: <948febc3a463cf589440638552dc522c6df18318.1747047506.git.anatoly.burakov@intel.com> Content-Type: text/plain X-BeenThere: test-report@dpdk.org X-Mailman-Version: 2.1.29 Precedence: list List-Id: automatic DPDK test reports List-Unsubscribe: , List-Archive: List-Post: List-Help: List-Subscribe: , Errors-To: test-report-bounces@dpdk.org Test-Label: iol-unit-amd64-testing Test-Status: SUCCESS http://dpdk.org/patch/153407 _Testing PASS_ Submitter: Anatoly Burakov Date: Monday, May 12 2025 10:58:38 DPDK git baseline: Repo:dpdk Branch: master CommitID:7cf0355db9fdab5648b05fd787356c391c510534 153395-153407 --> testing pass Upstream job id: Generic-Unit-Test-DPDK#337207 Test environment and result as below: +---------------------+----------------+ | Environment | dpdk_unit_test | +=====================+================+ | CentOS Stream 9 | PASS | +---------------------+----------------+ | Debian 12 | PASS | +---------------------+----------------+ | CentOS Stream 10 | PASS | +---------------------+----------------+ | Fedora 40 | PASS | +---------------------+----------------+ | Fedora 41 | PASS | +---------------------+----------------+ | Fedora 40 (Clang) | PASS | +---------------------+----------------+ | Ubuntu 20.04 | PASS | +---------------------+----------------+ | Ubuntu 24.04 | PASS | +---------------------+----------------+ | RHEL9 | PASS | +---------------------+----------------+ | Fedora 41 (Clang) | PASS | +---------------------+----------------+ | Ubuntu 22.04 | PASS | +---------------------+----------------+ | RHEL8 | PASS | +---------------------+----------------+ | Windows Server 2022 | PASS | +---------------------+----------------+ CentOS Stream 9 Kernel: Depends on container host Compiler: gcc 11.5.0 20240719 (Red Hat 11.5.0-2) Debian 12 Kernel: Depends on container host Compiler: gcc (Debian 12.2.0-14) 12.2.0 CentOS Stream 10 Kernel: Depends on container host Compiler: gcc 14.2.1 20241104 (Red Hat 14.2.1-6) Fedora 40 Kernel: Depends on container host Compiler: gcc 14.2.1 20240912 (Red Hat 14.2.1-3) Fedora 41 Kernel: Depends on container host Compiler: gcc 14.2.1 20240912 (Red Hat 14.2.1-3) Fedora 40 (Clang) Kernel: Depends on container host Compiler: clang 18.1.8 (Fedora 18.1.8-1.fc40) Ubuntu 20.04 Kernel: Depends on container host Compiler: gcc (Ubuntu 9.4.0-1ubuntu1~20.04.2) 9.4.0 Ubuntu 24.04 Kernel: Depends on container host Compiler: gcc (Ubuntu 13.3.0-6ubuntu2~24.04) 13.3.0 RHEL9 Kernel: Depends on container host Compiler: gcc 11.5.0 20240719 (Red Hat 11.5.0-2) Fedora 41 (Clang) Kernel: Depends on container host Compiler: clang 19.1.5 (Fedora 19.1.5-1.fc41) Ubuntu 22.04 Kernel: Depends on container host Compiler: gcc (Ubuntu 11.4.0-1ubuntu1~22.04) 11.4.0 RHEL8 Kernel: Depends on container host Compiler: gcc 8.5.0 20210514 (Red Hat 8.5.0-22) Windows Server 2022 Kernel: 10.0.20348.2031 Compiler: clang 15.0.7, gcc 14.1.0 (MinGW), and MSVC VS 19.39.33521 To view detailed results, visit: https://lab.dpdk.org/results/dashboard/patchsets/33155/ UNH-IOL DPDK Community Lab To manage your email subscriptions, visit: https://lab.dpdk.org/results/dashboard/preferences/subscriptions/