From mboxrd@z Thu Jan 1 00:00:00 1970 Return-Path: Received: from mails.dpdk.org (mails.dpdk.org [217.70.189.124]) by inbox.dpdk.org (Postfix) with ESMTP id C7D9446728 for ; Mon, 12 May 2025 14:32:19 +0200 (CEST) Received: from mails.dpdk.org (localhost [127.0.0.1]) by mails.dpdk.org (Postfix) with ESMTP id C0432402C9; Mon, 12 May 2025 14:32:19 +0200 (CEST) Received: from mail-oa1-f97.google.com (mail-oa1-f97.google.com [209.85.160.97]) by mails.dpdk.org (Postfix) with ESMTP id F19234025D for ; Mon, 12 May 2025 14:32:17 +0200 (CEST) Received: by mail-oa1-f97.google.com with SMTP id 586e51a60fabf-2d060c62b61so4426965fac.0 for ; Mon, 12 May 2025 05:32:17 -0700 (PDT) DKIM-Signature: v=1; a=rsa-sha256; c=relaxed/relaxed; d=iol.unh.edu; s=unh-iol; t=1747053137; x=1747657937; darn=dpdk.org; h=references:in-reply-to:cc:to:from:subject:message-id:date:from:to :cc:subject:date:message-id:reply-to; bh=HWsplFQv3/OwsKW1yo+tVI7tAY0QQ0LmBrd3oLtuBh4=; b=OG4qFWLtlfmjKN/s2v/Y1/sL2t7TiNbzn5D2pLk0bv1rCVuqTrfB6WQzJJY4kNI6Qu jFzxR7VnRAkBsZY+0+KKdguvQJBcU8W2I3GOYUkv7SkRc5gP+xY7M3ZohtPs13KqBNCK JrCWVdu6aWOrxE1bg140s0o130ipgS7oKudYE= X-Google-DKIM-Signature: v=1; a=rsa-sha256; c=relaxed/relaxed; d=1e100.net; s=20230601; t=1747053137; x=1747657937; h=references:in-reply-to:cc:to:from:subject:message-id:date :x-gm-message-state:from:to:cc:subject:date:message-id:reply-to; bh=HWsplFQv3/OwsKW1yo+tVI7tAY0QQ0LmBrd3oLtuBh4=; b=OUrZfBO02OdaJ83N5XBzyaSxJbsSUsmhzOG9OHEa4XBP8uPQFUrlr2kvs1DeqAq5fr 7WbSh8k9xbks+fcx80zuAwRlNmyuT44K1nCjLLT5K5QntO0RwfwgUdlSjwyZPC+3Qk/U dRS4w43EEL/QpvoLr+G4xsyoIZDx5h0Qf4Cc6McX9QxGuUab4qLpV+LzXYVK2J/DMTFM B5EEKW26hShUYzerZsrnj/noA6G1O+JwUn8b2rZRD0a7joEEUOdF4StZ++DZIPGL3ETK ssYMvRlwYnrEcK7UXaX5TZjhGaZtJit29Q+xHlMWX2KNT939XT+RBZJQZtsk2ybLPos5 X4vw== X-Gm-Message-State: AOJu0Yy49xClbfFEu1H8cCwA9ft6lZQq8tvCW7uuYQRljRKNdLaUYkMy TbEcCLBF+ZPolJW5uighGnrgWjovNRu5TWHStpF/cnHwyXxJCyNfdb8a7hFy1p6y6W3DQT5V7QS iS+U+jvdJX9dQzjW0uJdvWkBFyAEvgVy2CcihvAIG X-Gm-Gg: ASbGnctcxNPRMif+zwPKLGNSQaQZYAIem3Bdk+ednJ6MBhfk6OtR2yXxHryusJW6eqx clmzcUNX74A+k32FVCxrl3pqoFqUYIGkehlPEYj54DVnnNxxsqcciQHkr1EOXZVN0wemYeVAknX Q+4zmxpYuEgrrBB4yTxX79E35pe1y6Jk3GVyy+z8H18IsTfR/GwiDOtc63zpCFd+G6OoO85agES uNSxeeByNSXTQRJQTPKtr8TwlZ/QZAUQzFODP/SU64w60XiSCbkzMjaW6ZJnPTEeAb1ex1Vk1y4 qQPArDZ8GWEw+mnMpAgz4+KgorGwSP9hewl3NiPE/jPxI56nCt5/WahM6bM= X-Google-Smtp-Source: AGHT+IGPPkL8z90DDXC+EFHUL0Zlm3li88qgWzSDco7Yx/Y2FhgJX0TBKEVzLVKt6vdorlUIHPpA4lzahhEh X-Received: by 2002:a05:6870:e411:b0:2c1:51f7:e648 with SMTP id 586e51a60fabf-2dba4539570mr8453005fac.35.1747053137165; Mon, 12 May 2025 05:32:17 -0700 (PDT) Received: from postal.iol.unh.edu (postal.iol.unh.edu. [132.177.123.84]) by smtp-relay.gmail.com with ESMTPS id 586e51a60fabf-2dba0620fa8sm340277fac.8.2025.05.12.05.32.17 (version=TLS1_2 cipher=ECDHE-ECDSA-AES128-GCM-SHA256 bits=128/128); Mon, 12 May 2025 05:32:17 -0700 (PDT) X-Relaying-Domain: iol.unh.edu Date: Mon, 12 May 2025 05:32:17 -0700 (PDT) Message-ID: <6821ea51.050a0220.132fca.2d44SMTPIN_ADDED_MISSING@mx.google.com> Received: from [172.17.0.2] (unknown [172.18.0.76]) by postal.iol.unh.edu (Postfix) with ESMTP id A88B66052471; Mon, 12 May 2025 08:32:16 -0400 (EDT) Subject: |SUCCESS| pw153395-153407 [PATCH] [v2,13/13] net/intel: add common T From: dpdklab@iol.unh.edu To: Test Report Cc: dpdk-test-reports@iol.unh.edu In-Reply-To: <948febc3a463cf589440638552dc522c6df18318.1747047506.git.anatoly.burakov@intel.com> References: <948febc3a463cf589440638552dc522c6df18318.1747047506.git.anatoly.burakov@intel.com> Content-Type: text/plain X-BeenThere: test-report@dpdk.org X-Mailman-Version: 2.1.29 Precedence: list List-Id: automatic DPDK test reports List-Unsubscribe: , List-Archive: List-Post: List-Help: List-Subscribe: , Errors-To: test-report-bounces@dpdk.org Test-Label: iol-unit-amd64-testing Test-Status: SUCCESS http://dpdk.org/patch/153407 _Testing PASS_ Submitter: Anatoly Burakov Date: Monday, May 12 2025 10:58:38 DPDK git baseline: Repo:dpdk Branch: master CommitID:7cf0355db9fdab5648b05fd787356c391c510534 153395-153407 --> testing pass Upstream job id: Generic-VM-Unit-Test-DPDK#28472 Test environment and result as below: +---------------------+----------------+ | Environment | dpdk_unit_test | +=====================+================+ | CentOS Stream 9 | PASS | +---------------------+----------------+ | Debian 12 | PASS | +---------------------+----------------+ | CentOS Stream 10 | PASS | +---------------------+----------------+ | Fedora 40 | PASS | +---------------------+----------------+ | Fedora 41 | PASS | +---------------------+----------------+ | Fedora 40 (Clang) | PASS | +---------------------+----------------+ | Ubuntu 20.04 | PASS | +---------------------+----------------+ | Ubuntu 24.04 | PASS | +---------------------+----------------+ | RHEL9 | PASS | +---------------------+----------------+ | Fedora 41 (Clang) | PASS | +---------------------+----------------+ | Ubuntu 22.04 | PASS | +---------------------+----------------+ | RHEL8 | PASS | +---------------------+----------------+ | Windows Server 2022 | PASS | +---------------------+----------------+ CentOS Stream 9 Kernel: Depends on container host Compiler: gcc 11.5.0 20240719 (Red Hat 11.5.0-2) Debian 12 Kernel: Depends on container host Compiler: gcc (Debian 12.2.0-14) 12.2.0 CentOS Stream 10 Kernel: Depends on container host Compiler: gcc 14.2.1 20241104 (Red Hat 14.2.1-6) Fedora 40 Kernel: Depends on container host Compiler: gcc 14.2.1 20240912 (Red Hat 14.2.1-3) Fedora 41 Kernel: Depends on container host Compiler: gcc 14.2.1 20240912 (Red Hat 14.2.1-3) Fedora 40 (Clang) Kernel: Depends on container host Compiler: clang 18.1.8 (Fedora 18.1.8-1.fc40) Ubuntu 20.04 Kernel: Depends on container host Compiler: gcc (Ubuntu 9.4.0-1ubuntu1~20.04.2) 9.4.0 Ubuntu 24.04 Kernel: Depends on container host Compiler: gcc (Ubuntu 13.3.0-6ubuntu2~24.04) 13.3.0 RHEL9 Kernel: Depends on container host Compiler: gcc 11.5.0 20240719 (Red Hat 11.5.0-2) Fedora 41 (Clang) Kernel: Depends on container host Compiler: clang 19.1.5 (Fedora 19.1.5-1.fc41) Ubuntu 22.04 Kernel: Depends on container host Compiler: gcc (Ubuntu 11.4.0-1ubuntu1~22.04) 11.4.0 RHEL8 Kernel: Depends on container host Compiler: gcc 8.5.0 20210514 (Red Hat 8.5.0-22) Windows Server 2022 Kernel: 10.0.20348.2031 Compiler: clang 15.0.7, gcc 14.1.0 (MinGW), and MSVC VS 19.39.33521 To view detailed results, visit: https://lab.dpdk.org/results/dashboard/patchsets/33155/ UNH-IOL DPDK Community Lab To manage your email subscriptions, visit: https://lab.dpdk.org/results/dashboard/preferences/subscriptions/