From mboxrd@z Thu Jan 1 00:00:00 1970 Return-Path: Received: from mails.dpdk.org (mails.dpdk.org [217.70.189.124]) by inbox.dpdk.org (Postfix) with ESMTP id 1145846728 for ; Mon, 12 May 2025 14:45:23 +0200 (CEST) Received: from mails.dpdk.org (localhost [127.0.0.1]) by mails.dpdk.org (Postfix) with ESMTP id DB7D4402C9; Mon, 12 May 2025 14:45:22 +0200 (CEST) Received: from mail-io1-f98.google.com (mail-io1-f98.google.com [209.85.166.98]) by mails.dpdk.org (Postfix) with ESMTP id B5C8E4025D for ; Mon, 12 May 2025 14:45:21 +0200 (CEST) Received: by mail-io1-f98.google.com with SMTP id ca18e2360f4ac-86135d11760so376007639f.2 for ; Mon, 12 May 2025 05:45:21 -0700 (PDT) DKIM-Signature: v=1; a=rsa-sha256; c=relaxed/relaxed; d=iol.unh.edu; s=unh-iol; t=1747053921; x=1747658721; darn=dpdk.org; h=references:in-reply-to:cc:to:from:subject:message-id:date:from:to :cc:subject:date:message-id:reply-to; bh=6bRSDpzbMF5J+9D3xiX7jhlfKJ0bVH81+HzWc8Mi0Ok=; b=ck8IrYCA+tRuHnlLSc99yIG2ltp1JKggWVf+Omf0+VEZ43VF7kBjrx0Rv07SdWKv/7 Mwc1Zr9mCySTRTRE90oED8dWcKW4b4BlAFRR0dpQhq/CH0p2GReawVgisJnIp5ywihwd xf71ey59cgs4vUdIgr/4nuJ3X7AxyrfpD+I9Y= X-Google-DKIM-Signature: v=1; a=rsa-sha256; c=relaxed/relaxed; d=1e100.net; s=20230601; t=1747053921; x=1747658721; h=references:in-reply-to:cc:to:from:subject:message-id:date :x-gm-message-state:from:to:cc:subject:date:message-id:reply-to; bh=6bRSDpzbMF5J+9D3xiX7jhlfKJ0bVH81+HzWc8Mi0Ok=; b=P34CVUWWnfiTuTIXXIl3VVBv84JQmTagzYDELRe+fcM7YxGKYwPF03zzIKoFjqSdje zKopj2dnoFVR9AojOvstuoz/OFy2681riDOHrq7lkzC61vemno1KoWV/EipAH0UA98VQ gA4kb20wlK6AFvlJr7WUUWTwQTTVRTsfWF/8W0In2bZw0oVPnoAwPp7Zx04DPQJZdqUJ aQTYeIi8N4SofPppj2xYjkytzf3Yle6dKU6gRqb47M8UbqampvW9NuzFoepnTdVXQsZ8 nchdIlUzXAX3/JQXY2lfkszvkJ3G7jFHDawbeGJf9rovp7VAvLz+ZSRyaIS/dVdRs6Bz wMjQ== X-Gm-Message-State: AOJu0YzW0QFAyqLNLuITUdyJ1BWQgw4tLR+K5vWjSj5+VyMbaWmH79CY OdWCcXOhb+JsKSBAwxJArCUUWPXFMfeXnNPliuuksjswVEmkov+CzM6VIDcc6cI8flkh/GAL2mh u0++aADxmTdbM9eZlXOlgZof/pDXkZf/cRXXk1VxSJSYstGQq5pdTp6hv X-Gm-Gg: ASbGncvxedUHd4vk8pj7+9asE3rPE2DrsJEwV48YR10Fpwl3Jaj6Bgrjm/0Q6gkX3kZ DlvEJryZV8ix4Mh5IPEvzwbkZwaglWF7yC9kk0puhAo94JFIWtr/2QQ6N2R51jX91phstoStG5N UJ9j3wkb/XeKIfbm4h5LLCtTLlKlicXtYtYDBjP7gaXB7PnUTMj/Kb7Fz8lKyhT4j6XSPU9nsfk Gf/HzBA7uLtGUMDDU16IQiy0uuaQV8hdla+arwpNbsUWBog17/df2V9raer8TQqssvMtxFCifG1 pFEBbfvFOMfaHq8x6HB0OUYbNQWWa6QlzZ0n X-Google-Smtp-Source: AGHT+IGSGABeKAtflLbWuSX+vhBEzpPYFv9LrtGSKmShOwgwDLQ8Rqd8USZJT1o0OH/6maENAIT35ECuH8oW X-Received: by 2002:a05:6602:140e:b0:864:4ab4:adf1 with SMTP id ca18e2360f4ac-8676366c5camr1424241439f.13.1747053920928; Mon, 12 May 2025 05:45:20 -0700 (PDT) Received: from postal.iol.unh.edu (postal.iol.unh.edu. [2606:4100:3880:1234::84]) by smtp-relay.gmail.com with ESMTPS id ca18e2360f4ac-869de6dfd5bsm16478239f.12.2025.05.12.05.45.20 (version=TLS1_2 cipher=ECDHE-ECDSA-AES128-GCM-SHA256 bits=128/128); Mon, 12 May 2025 05:45:20 -0700 (PDT) X-Relaying-Domain: iol.unh.edu Date: Mon, 12 May 2025 05:45:20 -0700 (PDT) Message-ID: <6821ed60.050a0220.304075.86b5SMTPIN_ADDED_MISSING@mx.google.com> Received: from [172.17.0.2] (unknown [172.18.0.74]) by postal.iol.unh.edu (Postfix) with ESMTP id 6E2936052471; Mon, 12 May 2025 08:45:20 -0400 (EDT) Subject: |SUCCESS| pw153395-153407 [PATCH] [v2,13/13] net/intel: add common T From: dpdklab@iol.unh.edu To: Test Report Cc: dpdk-test-reports@iol.unh.edu In-Reply-To: <948febc3a463cf589440638552dc522c6df18318.1747047506.git.anatoly.burakov@intel.com> References: <948febc3a463cf589440638552dc522c6df18318.1747047506.git.anatoly.burakov@intel.com> Content-Type: text/plain X-BeenThere: test-report@dpdk.org X-Mailman-Version: 2.1.29 Precedence: list List-Id: automatic DPDK test reports List-Unsubscribe: , List-Archive: List-Post: List-Help: List-Subscribe: , Errors-To: test-report-bounces@dpdk.org Test-Label: iol-sample-apps-testing Test-Status: SUCCESS http://dpdk.org/patch/153407 _Testing PASS_ Submitter: Anatoly Burakov Date: Monday, May 12 2025 10:58:38 DPDK git baseline: Repo:dpdk Branch: master CommitID:7cf0355db9fdab5648b05fd787356c391c510534 153395-153407 --> testing pass Upstream job id: ACVP-FIPS-testing#9786 Test environment and result as below: +--------------------+----------------------+----------------------+ | Environment | compressdev_zlib_pmd | dpdk_fips_validation | +====================+======================+======================+ | Ubuntu 22.04 (ARM) | PASS | SKIPPED | +--------------------+----------------------+----------------------+ | Ubuntu 22.04 | PASS | SKIPPED | +--------------------+----------------------+----------------------+ | Ubuntu 20.04 | SKIPPED | PASS | +--------------------+----------------------+----------------------+ Ubuntu 22.04 (ARM) Kernel: 5.15.0-97-generic Compiler: gcc gcc (Ubuntu 11.4.0-1ubuntu1~22.04) 11.4.0 Ubuntu 22.04 Kernel: 5.15.0-100-generic Compiler: gcc gcc (Ubuntu 11.4.0-1ubuntu1~22.04) 11.4.0 Ubuntu 20.04 Kernel: Depends on container host Compiler: gcc (Ubuntu 9.4.0-1ubuntu1~20.04.2) 9.4.0 To view detailed results, visit: https://lab.dpdk.org/results/dashboard/patchsets/33155/ UNH-IOL DPDK Community Lab To manage your email subscriptions, visit: https://lab.dpdk.org/results/dashboard/preferences/subscriptions/