From mboxrd@z Thu Jan 1 00:00:00 1970 Return-Path: Received: from mails.dpdk.org (mails.dpdk.org [217.70.189.124]) by inbox.dpdk.org (Postfix) with ESMTP id 0895B46728 for ; Mon, 12 May 2025 14:46:21 +0200 (CEST) Received: from mails.dpdk.org (localhost [127.0.0.1]) by mails.dpdk.org (Postfix) with ESMTP id 040BB402C9; Mon, 12 May 2025 14:46:21 +0200 (CEST) Received: from mail-qk1-f227.google.com (mail-qk1-f227.google.com [209.85.222.227]) by mails.dpdk.org (Postfix) with ESMTP id A85C34025D for ; Mon, 12 May 2025 14:46:20 +0200 (CEST) Received: by mail-qk1-f227.google.com with SMTP id af79cd13be357-7c9376c4bddso525041985a.3 for ; Mon, 12 May 2025 05:46:20 -0700 (PDT) DKIM-Signature: v=1; a=rsa-sha256; c=relaxed/relaxed; d=iol.unh.edu; s=unh-iol; t=1747053980; x=1747658780; darn=dpdk.org; h=references:in-reply-to:cc:to:from:subject:message-id:date:from:to :cc:subject:date:message-id:reply-to; bh=ieARUUJ4s34WxmS8va7Tz1Yb0rzP/z+ndUAJBGIcfbQ=; b=UhNG2hxLIsHT0SCbqKMOsyHlOHWmQpNIVFHcuwH9eI/CX7Y1WT9DlGhg58Av2xZgSQ /zexx/qzmzvpSLMdlPgdSmyRntLzRnuNwPZx06+lvuvaFe5Bh6diBnxMlgBFGq25xgvM 2195T1lQCdZVAQgplzsFihwTI2hnoMRGQO4aw= X-Google-DKIM-Signature: v=1; a=rsa-sha256; c=relaxed/relaxed; d=1e100.net; s=20230601; t=1747053980; x=1747658780; h=references:in-reply-to:cc:to:from:subject:message-id:date :x-gm-message-state:from:to:cc:subject:date:message-id:reply-to; bh=ieARUUJ4s34WxmS8va7Tz1Yb0rzP/z+ndUAJBGIcfbQ=; b=h8fll3C/8VT+FgzL6U5URgtHzyo69ug5cxGqsqLrxoNSEcV6bVq+G5sB5bG1ieeOqa 3nRZ94P+I7anW4nMT65DLPM2drv80DSvZ44CDE+mP+xqanPh0k7G0yRopJj4qhVk8CdA Mc7794VJz2LebkBPCJFoek1zMYakxatB4Jjs1hU67Ck99gtfoPfBCh+oVFix5XaEQTGZ WXZInszJpk1DIU0POZAlReih9u+S0i7ee2dFXa7gZki5k4OzCTVX7TBzKzjrSLG97EYe Iwg2gXpodlVUo/lEydpl0ok/JU6LUYZ7msXS/PbtfloQt3HeFuq1tSmjWD29c/U1sYls V7IA== X-Gm-Message-State: AOJu0Yx7W+oYYRHgiE4hJDRsjN6/JTrJ+gdL4dbEVBbJERjmiXDnZggm xgLQPvGEICvR74YubA54iwccMhbmewh/qASbEEqMRBr3eX+msuaWrKOlgQosU3hWpAIWkq9B+kc WFGijDMjz4yCQ8pnS5gFQMB9rvyH5zbayAnCjA+S3 X-Gm-Gg: ASbGnctnoUMhIzL9Eq5IcMy32HbQYD9y+hIFiOkgcO5gN47Hj4xFP6ZNlSWeVY0boh+ 8xrmPoPkDiCIGQgxaM/jcoHTVRVYR38mxt68HYY6YHXhoSYy68F0UzAqyqbsIa7/aziawSINFy3 zNM3mPnZXdIFSYrSr1fU2wyqcnYxsQSGlhEdczNBZqSoGA4QhR0gmanwbEOLw3zNko8y0+reAoh TnQlhJURj4nvThp++XwulymOc6z906jg9VKFRIja6r8z4JS61C6mBARueY+Tf8Nbe5dB6ePGAwh uIUSvzfLMmZPeRvAe8aZUpw820ufGGIN/5XcsG4P8cZ/iBZ7t3MUO9Eotw4= X-Google-Smtp-Source: AGHT+IFKGLzw1m9DkVbGVCXKajjQ76N9le8FLN1Ep9OoEkRptZ1s7y3HHZWfrxRTlxf+0Vox8xcoVWJ5JUw8 X-Received: by 2002:a05:620a:4706:b0:7c7:5afb:5878 with SMTP id af79cd13be357-7cd011066c9mr2588156485a.25.1747053969893; Mon, 12 May 2025 05:46:09 -0700 (PDT) Received: from postal.iol.unh.edu (postal.iol.unh.edu. [132.177.123.84]) by smtp-relay.gmail.com with ESMTPS id af79cd13be357-7cd00f37db0sm34064785a.7.2025.05.12.05.46.09 (version=TLS1_2 cipher=ECDHE-ECDSA-AES128-GCM-SHA256 bits=128/128); Mon, 12 May 2025 05:46:09 -0700 (PDT) X-Relaying-Domain: iol.unh.edu Date: Mon, 12 May 2025 05:46:09 -0700 (PDT) Message-ID: <6821ed91.050a0220.290d57.1958SMTPIN_ADDED_MISSING@mx.google.com> Received: from [172.17.0.2] (unknown [172.18.0.74]) by postal.iol.unh.edu (Postfix) with ESMTP id 712626052471; Mon, 12 May 2025 08:46:09 -0400 (EDT) Subject: |SUCCESS| pw153395-153407 [PATCH] [v2,13/13] net/intel: add common T From: dpdklab@iol.unh.edu To: Test Report Cc: dpdk-test-reports@iol.unh.edu In-Reply-To: <948febc3a463cf589440638552dc522c6df18318.1747047506.git.anatoly.burakov@intel.com> References: <948febc3a463cf589440638552dc522c6df18318.1747047506.git.anatoly.burakov@intel.com> Content-Type: text/plain X-BeenThere: test-report@dpdk.org X-Mailman-Version: 2.1.29 Precedence: list List-Id: automatic DPDK test reports List-Unsubscribe: , List-Archive: List-Post: List-Help: List-Subscribe: , Errors-To: test-report-bounces@dpdk.org Test-Label: iol-compile-amd64-testing Test-Status: SUCCESS http://dpdk.org/patch/153407 _Testing PASS_ Submitter: Anatoly Burakov Date: Monday, May 12 2025 10:58:38 DPDK git baseline: Repo:dpdk Branch: master CommitID:7cf0355db9fdab5648b05fd787356c391c510534 153395-153407 --> testing pass Upstream job id: Generic-DPDK-Compile-Meson#387267 Test environment and result as below: +-----------------------------------+--------------------+-------------------+------------------+-------------------------+-------------------+----------------------+ | Environment | dpdk_meson_compile | dpdk_compile_spdk | dpdk_compile_ovs | dpdk_llvm_clang_compile | dpdk_msvc_compile | dpdk_mingw64_compile | +===================================+====================+===================+==================+=========================+===================+======================+ | CentOS Stream 9 | PASS | PASS | SKIPPED | SKIPPED | SKIPPED | SKIPPED | +-----------------------------------+--------------------+-------------------+------------------+-------------------------+-------------------+----------------------+ | CentOS Stream 10 | PASS | SKIPPED | SKIPPED | SKIPPED | SKIPPED | SKIPPED | +-----------------------------------+--------------------+-------------------+------------------+-------------------------+-------------------+----------------------+ | Debian 12 | PASS | PASS | SKIPPED | SKIPPED | SKIPPED | SKIPPED | +-----------------------------------+--------------------+-------------------+------------------+-------------------------+-------------------+----------------------+ | Fedora 40 (Clang) | PASS | PASS | SKIPPED | SKIPPED | SKIPPED | SKIPPED | +-----------------------------------+--------------------+-------------------+------------------+-------------------------+-------------------+----------------------+ | Fedora 40 | PASS | PASS | SKIPPED | SKIPPED | SKIPPED | SKIPPED | +-----------------------------------+--------------------+-------------------+------------------+-------------------------+-------------------+----------------------+ | openSUSE Leap 15 | PASS | SKIPPED | SKIPPED | SKIPPED | SKIPPED | SKIPPED | +-----------------------------------+--------------------+-------------------+------------------+-------------------------+-------------------+----------------------+ | Fedora 41 | PASS | PASS | PASS | SKIPPED | SKIPPED | SKIPPED | +-----------------------------------+--------------------+-------------------+------------------+-------------------------+-------------------+----------------------+ | Fedora 41 (Clang) | PASS | PASS | PASS | SKIPPED | SKIPPED | SKIPPED | +-----------------------------------+--------------------+-------------------+------------------+-------------------------+-------------------+----------------------+ | RHEL8 | PASS | SKIPPED | SKIPPED | SKIPPED | SKIPPED | SKIPPED | +-----------------------------------+--------------------+-------------------+------------------+-------------------------+-------------------+----------------------+ | RHEL9 | PASS | SKIPPED | SKIPPED | SKIPPED | SKIPPED | SKIPPED | +-----------------------------------+--------------------+-------------------+------------------+-------------------------+-------------------+----------------------+ | Ubuntu 20.04 | PASS | SKIPPED | SKIPPED | SKIPPED | SKIPPED | SKIPPED | +-----------------------------------+--------------------+-------------------+------------------+-------------------------+-------------------+----------------------+ | Ubuntu 22.04 | PASS | PASS | SKIPPED | SKIPPED | SKIPPED | SKIPPED | +-----------------------------------+--------------------+-------------------+------------------+-------------------------+-------------------+----------------------+ | Ubuntu 24.04 | PASS | PASS | PASS | SKIPPED | SKIPPED | SKIPPED | +-----------------------------------+--------------------+-------------------+------------------+-------------------------+-------------------+----------------------+ | Ubuntu 24.04 32 Bit Cross Compile | PASS | SKIPPED | SKIPPED | SKIPPED | SKIPPED | SKIPPED | +-----------------------------------+--------------------+-------------------+------------------+-------------------------+-------------------+----------------------+ | Alpine | PASS | SKIPPED | SKIPPED | SKIPPED | SKIPPED | SKIPPED | +-----------------------------------+--------------------+-------------------+------------------+-------------------------+-------------------+----------------------+ | FreeBSD 13.5 | PASS | SKIPPED | SKIPPED | SKIPPED | SKIPPED | SKIPPED | +-----------------------------------+--------------------+-------------------+------------------+-------------------------+-------------------+----------------------+ | FreeBSD 14.2 | PASS | SKIPPED | SKIPPED | SKIPPED | SKIPPED | SKIPPED | +-----------------------------------+--------------------+-------------------+------------------+-------------------------+-------------------+----------------------+ | Windows Server 2022 | SKIPPED | SKIPPED | SKIPPED | PASS | PASS | PASS | +-----------------------------------+--------------------+-------------------+------------------+-------------------------+-------------------+----------------------+ CentOS Stream 9 Kernel: Depends on container host Compiler: gcc 11.5.0 20240719 (Red Hat 11.5.0-2) CentOS Stream 10 Kernel: Depends on container host Compiler: gcc 14.2.1 20241104 (Red Hat 14.2.1-6) Debian 12 Kernel: Depends on container host Compiler: gcc (Debian 12.2.0-14) 12.2.0 Fedora 40 (Clang) Kernel: Depends on container host Compiler: clang 18.1.8 (Fedora 18.1.8-1.fc40) Fedora 40 Kernel: Depends on container host Compiler: gcc 14.2.1 20240912 (Red Hat 14.2.1-3) openSUSE Leap 15 Kernel: Depends on container host Compiler: gcc (SUSE Linux) 7.5.0 Fedora 41 Kernel: Depends on container host Compiler: gcc 14.2.1 20240912 (Red Hat 14.2.1-3) Fedora 41 (Clang) Kernel: Depends on container host Compiler: clang 19.1.5 (Fedora 19.1.5-1.fc41) RHEL8 Kernel: Depends on container host Compiler: gcc 8.5.0 20210514 (Red Hat 8.5.0-22) RHEL9 Kernel: Depends on container host Compiler: gcc 11.5.0 20240719 (Red Hat 11.5.0-2) Ubuntu 20.04 Kernel: Depends on container host Compiler: gcc (Ubuntu 9.4.0-1ubuntu1~20.04.2) 9.4.0 Ubuntu 22.04 Kernel: Depends on container host Compiler: gcc (Ubuntu 11.4.0-1ubuntu1~22.04) 11.4.0 Ubuntu 24.04 Kernel: Depends on container host Compiler: gcc (Ubuntu 13.3.0-6ubuntu2~24.04) 13.3.0 Ubuntu 24.04 32 Bit Cross Compile Kernel: Depends on container host Compiler: gcc (Ubuntu 13.3.0-6ubuntu2~24.04) 13.3.0 Alpine Kernel: Depends on container host Compiler: gcc (Alpine 14.2.0) 14.2.0 FreeBSD 13.5 Kernel: 13.5-RELEASE Compiler: clang 19.1.7 FreeBSD 14.2 Kernel: 14.2-RELEASE Compiler: clang 18.1.6 Windows Server 2022 Kernel: 10.0.20348.2031 Compiler: clang 15.0.7, gcc 14.1.0 (MinGW), and MSVC VS 19.39.33521 To view detailed results, visit: https://lab.dpdk.org/results/dashboard/patchsets/33155/ UNH-IOL DPDK Community Lab To manage your email subscriptions, visit: https://lab.dpdk.org/results/dashboard/preferences/subscriptions/