From mboxrd@z Thu Jan 1 00:00:00 1970 Return-Path: Received: from mails.dpdk.org (mails.dpdk.org [217.70.189.124]) by inbox.dpdk.org (Postfix) with ESMTP id 975784672B for ; Mon, 12 May 2025 17:24:10 +0200 (CEST) Received: from mails.dpdk.org (localhost [127.0.0.1]) by mails.dpdk.org (Postfix) with ESMTP id 9337C4026C; Mon, 12 May 2025 17:24:10 +0200 (CEST) Received: from mail-pl1-f228.google.com (mail-pl1-f228.google.com [209.85.214.228]) by mails.dpdk.org (Postfix) with ESMTP id E78444025F for ; Mon, 12 May 2025 17:24:08 +0200 (CEST) Received: by mail-pl1-f228.google.com with SMTP id d9443c01a7336-23035b3edf1so8980185ad.3 for ; Mon, 12 May 2025 08:24:08 -0700 (PDT) DKIM-Signature: v=1; a=rsa-sha256; c=relaxed/relaxed; d=iol.unh.edu; s=unh-iol; t=1747063448; x=1747668248; darn=dpdk.org; h=references:in-reply-to:cc:to:from:subject:message-id:date:from:to :cc:subject:date:message-id:reply-to; bh=/3/xb8FYkMT+jdmbbAackc0bavCBHQfb095LQkktWkE=; b=H2yZZDrdBRf5YRqMl4kcS0U/wWtdOG8MTmp6o+eEAl5j6JwevT0aijidriCjb/chZo 6ac5r9V9H1sbclnWqH96RcBjJRwtdvV8683I6WnS7cEzKSg8pSOX/NEJ46BgNKbSvjzK rLGmJt8F9bqCqwKvtha3CgB7/P5FCdYX2KRfc= X-Google-DKIM-Signature: v=1; a=rsa-sha256; c=relaxed/relaxed; d=1e100.net; s=20230601; t=1747063448; x=1747668248; h=references:in-reply-to:cc:to:from:subject:message-id:date :x-gm-message-state:from:to:cc:subject:date:message-id:reply-to; bh=/3/xb8FYkMT+jdmbbAackc0bavCBHQfb095LQkktWkE=; b=Fv5vmAJZxHDHEuH2UhhSo/fOIwRtob7T8DD/9ifrfSNJrMpNPgHn4ll9U4EB8LiS0G jFAt8tYwU9wR9hXyPHK60YqcQrjarg9kSvb8UUk357EgYuqqqi7d6kwyGhGi/2byc7yC RUYi1qskiMoDVUu6mX7adeDC6UxELP69kggLiTXuucJ3/vFteYcjy7fyFoMuOIG5DsJ+ DhtvkyXq6m5cUcVRvsvyY3h4GYKsrSH0/xetNGILEfgi6BkDa8qqnp7v0x6UTa9uWps2 nxssirebFTjDH20k5eHbMxsRKMJ5E4S6f8+EifrtOeqxc1bR/2hr2SsKxVxpqiLbktzK oz2w== X-Gm-Message-State: AOJu0YwlTi5a0Qm9+JxWXK/2wwxwbzj63dLYLVRDttpZv7/Ex1uAvTjV M5q+JfYfcQcf3FDZsqq+UYrIT+xREm34+quwkA0K88igpsBGLag1rER1MC57zNqU/6iAREQ5qj/ ZR/sazql34b40gxTDQpzOEI9cewHdP5tIev6AadgRE2rSTBQ5EbU9vkzL X-Gm-Gg: ASbGncsyVaPzSuK88WGWHzxjf2hVjRQLZn5ymBr2SCoIgF95Aa+GLxOH/2ayfzhtvFX /lRuJISIXX3fuzp5eDV+/UeNRTWFcaie9/P7e4KegYYNtlz5N8gJM6ZSZCcingrbcYd3thJZ2/w MRc4eTA4rfwrfZhlmZhfYPWsCx6XiDpDbB33HRay32OUiUWjXW5CdV1ExD6LDzaJvAstGDZhPLr 4QMp5kkzvlTbi49Gz87WphhgS5lmghZjfCAeTPkCW5wFN9A3fiU/fC07NdpGgdz+rSmUaX9VCtb /8dixwEzJc5gf0EqWTnOp9od9zXvzDBtmw91 X-Google-Smtp-Source: AGHT+IFUvjVoivPfk/4GOc8YEAlDEHENzcD8G+dkJGvxD8KhV7rvKdPmeSO7lHa1t5q1xmyJVKr9iB109WDI X-Received: by 2002:a17:902:f709:b0:224:1af1:87f4 with SMTP id d9443c01a7336-22fc8b73b24mr227281215ad.22.1747063447956; Mon, 12 May 2025 08:24:07 -0700 (PDT) Received: from postal.iol.unh.edu (postal.iol.unh.edu. [2606:4100:3880:1234::84]) by smtp-relay.gmail.com with ESMTPS id d9443c01a7336-22fc581de94sm4223245ad.9.2025.05.12.08.24.07 (version=TLS1_2 cipher=ECDHE-ECDSA-AES128-GCM-SHA256 bits=128/128); Mon, 12 May 2025 08:24:07 -0700 (PDT) X-Relaying-Domain: iol.unh.edu Date: Mon, 12 May 2025 08:24:07 -0700 (PDT) Message-ID: <68221297.170a0220.5d65a.6c5eSMTPIN_ADDED_MISSING@mx.google.com> Received: from [172.21.0.6] (unknown [172.18.0.240]) by postal.iol.unh.edu (Postfix) with ESMTP id 6C7BC6052471; Mon, 12 May 2025 11:24:07 -0400 (EDT) Subject: |SUCCESS| pw153421 [PATCH] [v2] cnxk: use stdatomic API From: dpdklab@iol.unh.edu To: Test Report Cc: dpdk-test-reports@iol.unh.edu In-Reply-To: <20250512135847.3804-1-pbhagavatula@marvell.com> References: <20250512135847.3804-1-pbhagavatula@marvell.com> Content-Type: text/plain X-BeenThere: test-report@dpdk.org X-Mailman-Version: 2.1.29 Precedence: list List-Id: automatic DPDK test reports List-Unsubscribe: , List-Archive: List-Post: List-Help: List-Subscribe: , Errors-To: test-report-bounces@dpdk.org Test-Label: iol-unit-amd64-testing Test-Status: SUCCESS http://dpdk.org/patch/153421 _Testing PASS_ Submitter: Pavan Nikhilesh Bhagavatula Date: Monday, May 12 2025 13:58:46 DPDK git baseline: Repo:dpdk Branch: master CommitID:75f179ebe347b6098cf3af26d3d3b7168fe3fe24 153421 --> testing pass Upstream job id: Generic-VM-Unit-Test-DPDK#28474 Test environment and result as below: +---------------------+----------------+ | Environment | dpdk_unit_test | +=====================+================+ | CentOS Stream 10 | PASS | +---------------------+----------------+ | CentOS Stream 9 | PASS | +---------------------+----------------+ | Fedora 40 (Clang) | PASS | +---------------------+----------------+ | Debian 12 | PASS | +---------------------+----------------+ | Fedora 41 | PASS | +---------------------+----------------+ | Fedora 40 | PASS | +---------------------+----------------+ | Fedora 41 (Clang) | PASS | +---------------------+----------------+ | RHEL8 | PASS | +---------------------+----------------+ | Ubuntu 20.04 | PASS | +---------------------+----------------+ | RHEL9 | PASS | +---------------------+----------------+ | Ubuntu 22.04 | PASS | +---------------------+----------------+ | Ubuntu 24.04 | PASS | +---------------------+----------------+ | Windows Server 2022 | PASS | +---------------------+----------------+ CentOS Stream 10 Kernel: Depends on container host Compiler: gcc 14.2.1 20241104 (Red Hat 14.2.1-6) CentOS Stream 9 Kernel: Depends on container host Compiler: gcc 11.5.0 20240719 (Red Hat 11.5.0-2) Fedora 40 (Clang) Kernel: Depends on container host Compiler: clang 18.1.8 (Fedora 18.1.8-1.fc40) Debian 12 Kernel: Depends on container host Compiler: gcc (Debian 12.2.0-14) 12.2.0 Fedora 41 Kernel: Depends on container host Compiler: gcc 14.2.1 20240912 (Red Hat 14.2.1-3) Fedora 40 Kernel: Depends on container host Compiler: gcc 14.2.1 20240912 (Red Hat 14.2.1-3) Fedora 41 (Clang) Kernel: Depends on container host Compiler: clang 19.1.5 (Fedora 19.1.5-1.fc41) RHEL8 Kernel: Depends on container host Compiler: gcc 8.5.0 20210514 (Red Hat 8.5.0-22) Ubuntu 20.04 Kernel: Depends on container host Compiler: gcc (Ubuntu 9.4.0-1ubuntu1~20.04.2) 9.4.0 RHEL9 Kernel: Depends on container host Compiler: gcc 11.5.0 20240719 (Red Hat 11.5.0-2) Ubuntu 22.04 Kernel: Depends on container host Compiler: gcc (Ubuntu 11.4.0-1ubuntu1~22.04) 11.4.0 Ubuntu 24.04 Kernel: Depends on container host Compiler: gcc (Ubuntu 13.3.0-6ubuntu2~24.04) 13.3.0 Windows Server 2022 Kernel: 10.0.20348.2031 Compiler: clang 15.0.7, gcc 14.1.0 (MinGW), and MSVC VS 19.39.33521 To view detailed results, visit: https://lab.dpdk.org/results/dashboard/patchsets/33157/ UNH-IOL DPDK Community Lab To manage your email subscriptions, visit: https://lab.dpdk.org/results/dashboard/preferences/subscriptions/