From mboxrd@z Thu Jan 1 00:00:00 1970 Return-Path: Received: from mails.dpdk.org (mails.dpdk.org [217.70.189.124]) by inbox.dpdk.org (Postfix) with ESMTP id C003B4672B for ; Mon, 12 May 2025 17:35:02 +0200 (CEST) Received: from mails.dpdk.org (localhost [127.0.0.1]) by mails.dpdk.org (Postfix) with ESMTP id BAA3B4026C; Mon, 12 May 2025 17:35:02 +0200 (CEST) Received: from mail-oa1-f99.google.com (mail-oa1-f99.google.com [209.85.160.99]) by mails.dpdk.org (Postfix) with ESMTP id C2A434025F for ; Mon, 12 May 2025 17:35:00 +0200 (CEST) Received: by mail-oa1-f99.google.com with SMTP id 586e51a60fabf-2d5e5e21b92so3400436fac.0 for ; Mon, 12 May 2025 08:35:00 -0700 (PDT) DKIM-Signature: v=1; a=rsa-sha256; c=relaxed/relaxed; d=iol.unh.edu; s=unh-iol; t=1747064100; x=1747668900; darn=dpdk.org; h=references:in-reply-to:cc:to:from:subject:message-id:date:from:to :cc:subject:date:message-id:reply-to; bh=5CFbBej3rElAvtoVcPWBQbkqCI6WwPiTa65C5zQzZdE=; b=jj1KtEUKgNbRcc3Ybpvhfvk5uBqCukflDzU8E5MMrxbn+u/XvJB3RX4u+/bT8uw1+C y6/OBdjK2ScE2TtsflHaQz68wbP3VXzYXX2CyOto42AiuWfeAS/ZCooAlso4MKrM23v1 xgVG7utjmbRhyLSIjOWnFj6affQtTDd+qQilA= X-Google-DKIM-Signature: v=1; a=rsa-sha256; c=relaxed/relaxed; d=1e100.net; s=20230601; t=1747064100; x=1747668900; h=references:in-reply-to:cc:to:from:subject:message-id:date :x-gm-message-state:from:to:cc:subject:date:message-id:reply-to; bh=5CFbBej3rElAvtoVcPWBQbkqCI6WwPiTa65C5zQzZdE=; b=U+kOetk2UQ9J1R4nM4oEiCiGsYVLVYgcVfkwCLio8HHSvSBUQ6Z1mXDqqUEAHDXFoe wknGMqsLwi660IwBlJL6QrLxkDj+dBI9Uj+XYD6GD3UYcwdpHYNBISbB3QTAQ84A/ODd OPVcRkNzpKyYaj3E1yChH9/XLdHBiNMpFgg5jC5nKAuZoBSq374jWu9J8Tsb3K3uvvqV Vo5BDWy23olbhU811TYTOe0lBf72xWcPNQPq/Q3cU2R17Lbq6LWDXVGF0KiXzFaT2Y9Z eaQ0AQULyTQKC0Y/4qwHdF8qCL1n7+AkBl/QpsNRaUIrixLPkbtBha0YfIDtpKlSVOCv 6EgQ== X-Gm-Message-State: AOJu0Ywr+le3JrStFm4xh+haGtDMB+gxtimGqiU6NRADFgf5AEyK0Q1H Ju7p2emxvCcE6jOWPipwTGlafDhvg+Lo7Rp/bX3M520oWKB45az2BYRyFo5bhZOAB7PGGQdRPu7 xDEfbNrWC1dLOBnHMUHKr5NdPWrQ4okW1K2ON/L5fMhj1WxU3+HKK47Ye X-Gm-Gg: ASbGncs7IbHbYxHYzm00pQ3+hU8IAclgj8dllmdUsXajjbVrVLBk1uUUgp8U8yq/D+M gwMCDF/WIP9U0ItoMgTYfPJdSzFIVRK0uKU4sALr79WU8R4x4ep7LOXzuaIs1gpFUVVISmQgMwz FSHeA6xs5hiL3WOp3kFzRig0vjUgxOj1f2HZH3gRoXbTXA8yyElYZLHpUxGCVu+Ax7aqT2tFnKE TOARTAEd5AyeLgOXIOtNCdcN1WvOyHSIVl57tyPZsVIo5SDKt9N0r6ZT8N4c+dJl/cFpzRPgE2o tIyryRDBw6Wh67GmzM8fm9zXpXIAfiya2TFI X-Google-Smtp-Source: AGHT+IH05jBdU/hXUWevFid4rzDL8GhTtlyzGRy8R1vA/ArZDKHp3/RErsKLPUdEW6N693T8qvJk3uz3vVOV X-Received: by 2002:a05:6870:7006:b0:2b8:fab0:33c with SMTP id 586e51a60fabf-2dba4355146mr7619668fac.23.1747064099894; Mon, 12 May 2025 08:34:59 -0700 (PDT) Received: from postal.iol.unh.edu (postal.iol.unh.edu. [2606:4100:3880:1234::84]) by smtp-relay.gmail.com with ESMTPS id 586e51a60fabf-2dba0797e45sm351359fac.22.2025.05.12.08.34.59 (version=TLS1_2 cipher=ECDHE-ECDSA-AES128-GCM-SHA256 bits=128/128); Mon, 12 May 2025 08:34:59 -0700 (PDT) X-Relaying-Domain: iol.unh.edu Date: Mon, 12 May 2025 08:34:59 -0700 (PDT) Message-ID: <68221523.050a0220.3581d1.2875SMTPIN_ADDED_MISSING@mx.google.com> Received: from [172.21.0.5] (unknown [172.18.0.240]) by postal.iol.unh.edu (Postfix) with ESMTP id 5E7386052471; Mon, 12 May 2025 11:34:59 -0400 (EDT) Subject: |SUCCESS| pw153421 [PATCH] [v2] cnxk: use stdatomic API From: dpdklab@iol.unh.edu To: Test Report Cc: dpdk-test-reports@iol.unh.edu In-Reply-To: <20250512135847.3804-1-pbhagavatula@marvell.com> References: <20250512135847.3804-1-pbhagavatula@marvell.com> Content-Type: text/plain X-BeenThere: test-report@dpdk.org X-Mailman-Version: 2.1.29 Precedence: list List-Id: automatic DPDK test reports List-Unsubscribe: , List-Archive: List-Post: List-Help: List-Subscribe: , Errors-To: test-report-bounces@dpdk.org Test-Label: iol-abi-testing Test-Status: SUCCESS http://dpdk.org/patch/153421 _Testing PASS_ Submitter: Pavan Nikhilesh Bhagavatula Date: Monday, May 12 2025 13:58:46 DPDK git baseline: Repo:dpdk Branch: master CommitID:75f179ebe347b6098cf3af26d3d3b7168fe3fe24 153421 --> testing pass Upstream job id: Generic-DPDK-Compile-ABI#126112 Test environment and result as below: +-------------------+----------+ | Environment | abi_test | +===================+==========+ | CentOS Stream 10 | PASS | +-------------------+----------+ | CentOS Stream 9 | PASS | +-------------------+----------+ | Debian 12 | PASS | +-------------------+----------+ | Fedora 40 (Clang) | PASS | +-------------------+----------+ | Ubuntu 24.04 | PASS | +-------------------+----------+ | Fedora 41 | PASS | +-------------------+----------+ | RHEL9 | PASS | +-------------------+----------+ | Fedora 40 | PASS | +-------------------+----------+ | RHEL8 | PASS | +-------------------+----------+ | Ubuntu 22.04 | PASS | +-------------------+----------+ | openSUSE Leap 15 | PASS | +-------------------+----------+ | Fedora 41 (Clang) | PASS | +-------------------+----------+ CentOS Stream 10 Kernel: Depends on container host Compiler: gcc 14.2.1 20241104 (Red Hat 14.2.1-6) CentOS Stream 9 Kernel: Depends on container host Compiler: gcc 11.5.0 20240719 (Red Hat 11.5.0-2) Debian 12 Kernel: Depends on container host Compiler: gcc (Debian 12.2.0-14) 12.2.0 Fedora 40 (Clang) Kernel: Depends on container host Compiler: clang 18.1.8 (Fedora 18.1.8-1.fc40) Ubuntu 24.04 Kernel: Depends on container host Compiler: gcc (Ubuntu 13.3.0-6ubuntu2~24.04) 13.3.0 Fedora 41 Kernel: Depends on container host Compiler: gcc 14.2.1 20240912 (Red Hat 14.2.1-3) RHEL9 Kernel: Depends on container host Compiler: gcc 11.5.0 20240719 (Red Hat 11.5.0-2) Fedora 40 Kernel: Depends on container host Compiler: gcc 14.2.1 20240912 (Red Hat 14.2.1-3) RHEL8 Kernel: Depends on container host Compiler: gcc 8.5.0 20210514 (Red Hat 8.5.0-22) Ubuntu 22.04 Kernel: Depends on container host Compiler: gcc (Ubuntu 11.4.0-1ubuntu1~22.04) 11.4.0 openSUSE Leap 15 Kernel: Depends on container host Compiler: gcc (SUSE Linux) 7.5.0 Fedora 41 (Clang) Kernel: Depends on container host Compiler: clang 19.1.5 (Fedora 19.1.5-1.fc41) To view detailed results, visit: https://lab.dpdk.org/results/dashboard/patchsets/33157/ UNH-IOL DPDK Community Lab To manage your email subscriptions, visit: https://lab.dpdk.org/results/dashboard/preferences/subscriptions/