From mboxrd@z Thu Jan 1 00:00:00 1970 Return-Path: Received: from mails.dpdk.org (mails.dpdk.org [217.70.189.124]) by inbox.dpdk.org (Postfix) with ESMTP id E1F3B4672B for ; Mon, 12 May 2025 17:35:46 +0200 (CEST) Received: from mails.dpdk.org (localhost [127.0.0.1]) by mails.dpdk.org (Postfix) with ESMTP id DA4994026C; Mon, 12 May 2025 17:35:46 +0200 (CEST) Received: from mail-qv1-f100.google.com (mail-qv1-f100.google.com [209.85.219.100]) by mails.dpdk.org (Postfix) with ESMTP id 6F2FE4025F for ; Mon, 12 May 2025 17:35:45 +0200 (CEST) Received: by mail-qv1-f100.google.com with SMTP id 6a1803df08f44-6f0c30a1cf8so79321456d6.2 for ; Mon, 12 May 2025 08:35:45 -0700 (PDT) DKIM-Signature: v=1; a=rsa-sha256; c=relaxed/relaxed; d=iol.unh.edu; s=unh-iol; t=1747064145; x=1747668945; darn=dpdk.org; h=references:in-reply-to:cc:to:from:subject:message-id:date:from:to :cc:subject:date:message-id:reply-to; bh=ozO5PTSXwA+vzEjAA4kZpz6NcJBoWLU9DzB4edxNV6U=; b=WP7CVE8yno6iVzu5NnmKCYOAXcAE1FWhhH2kqLGd7u69FzMBKAwrsgV+0RjcSgfwpV niKrNZa9IdMWaja/XeGKjrcXLEydhawH2TqsMZ5YvjLBF4KgeJcT/VQu5uuQUkgmYElC P4epR4AudwVIcNVTEZT4pUY7yKzT/tckhFBvI= X-Google-DKIM-Signature: v=1; a=rsa-sha256; c=relaxed/relaxed; d=1e100.net; s=20230601; t=1747064145; x=1747668945; h=references:in-reply-to:cc:to:from:subject:message-id:date :x-gm-message-state:from:to:cc:subject:date:message-id:reply-to; bh=ozO5PTSXwA+vzEjAA4kZpz6NcJBoWLU9DzB4edxNV6U=; b=wDW8WI8HL3dkkG/Xumev23uHKNz/ER8pw6uTi1nrQExcoG20n8YzQ1Y5vbprgETixM I2zNQe3i9iNsdEQkn9KbMlY9pFQfwGwyDtzwCEuroqo99jEYIB+oDox/3ydUzc7bHEeZ H3k3t6BR9pbcNrkxnpMrN1ktC5laJY0sS0Bv7jJiWEr5Mx2jRCHOJ/I8kVeQOvgkccDc bwIkiHpyQ6mbZ80H3m87WSbdCKaGedbXvjY/dJRHIhpVmxoT23PcNbyH136Xwia8M7WT 2/tQOK6FEFO/fjgrYHmT2ynlOwAlYj2umOdcbmkiVp25CIpoVstvxtT2y+KEYItImSXw 4l7A== X-Gm-Message-State: AOJu0YxqlG3+LCwVL5pOpq1haccKGi6HYpRwHS0cg02xLIw35isZBPDM CkwFbPqIODEqU4JQCIpnV1Voz6nGsxY+dbcpGBc+hfHRssDlHy1HnHJDoBqBNGARJejHVxEHZGH FaioCF7BRuVvpTNzAip1AFhVeGlyoBXIQB/HdYnph X-Gm-Gg: ASbGncu2OjVsOYSXBMfryh4Rl2VKn+hxQpnusa1uO+e9J44ie37IU3KFlXQZhEiq4ig 04YO7UHqXR87w7acg5OsdUgCBow0bQBAtfKTYkiSOZUnrJ6zOcc+Jhr2Yo237O63jhspFMe/bFh DOZhP6LkBNrV0f2zTlEN/OhzklrmI6kgapXYUNDZu9KDqqlT1+iV9G5Ny20Ws0eLzyqFcKSk1dx Jy9VqrG7DUWYahIbJb/VnFPqPCKnZfF4NCuP+iFHF6j0xdzxhotbfAnZlzxXFZvV94aSAy8cZQK Q9ogkZM1eaSO9J5ay1NF0WqR8QuCc1JNMKqwzF4/y1Lt3Jp5T55Y95bnmW0= X-Google-Smtp-Source: AGHT+IGWpE/UGk5906TUE8TYsB1/EIXJVh3jp4gT3FUL6hxR6VvtU9dBtF2PgZ8DGDKPJEP6WUSCRfLupEBF X-Received: by 2002:a05:6214:21cb:b0:6f5:113a:6903 with SMTP id 6a1803df08f44-6f6e47faca7mr199167406d6.25.1747064144796; Mon, 12 May 2025 08:35:44 -0700 (PDT) Received: from postal.iol.unh.edu (postal.iol.unh.edu. [132.177.123.84]) by smtp-relay.gmail.com with ESMTPS id 6a1803df08f44-6f6e3a55508sm4765246d6.60.2025.05.12.08.35.44 (version=TLS1_2 cipher=ECDHE-ECDSA-AES128-GCM-SHA256 bits=128/128); Mon, 12 May 2025 08:35:44 -0700 (PDT) X-Relaying-Domain: iol.unh.edu Date: Mon, 12 May 2025 08:35:44 -0700 (PDT) Message-ID: <68221550.050a0220.33eb1e.9061SMTPIN_ADDED_MISSING@mx.google.com> Received: from [172.21.0.5] (unknown [172.18.0.240]) by postal.iol.unh.edu (Postfix) with ESMTP id 433196052471; Mon, 12 May 2025 11:35:44 -0400 (EDT) Subject: |SUCCESS| pw153421 [PATCH] [v2] cnxk: use stdatomic API From: dpdklab@iol.unh.edu To: Test Report Cc: dpdk-test-reports@iol.unh.edu In-Reply-To: <20250512135847.3804-1-pbhagavatula@marvell.com> References: <20250512135847.3804-1-pbhagavatula@marvell.com> Content-Type: text/plain X-BeenThere: test-report@dpdk.org X-Mailman-Version: 2.1.29 Precedence: list List-Id: automatic DPDK test reports List-Unsubscribe: , List-Archive: List-Post: List-Help: List-Subscribe: , Errors-To: test-report-bounces@dpdk.org Test-Label: iol-abi-testing Test-Status: SUCCESS http://dpdk.org/patch/153421 _Testing PASS_ Submitter: Pavan Nikhilesh Bhagavatula Date: Monday, May 12 2025 13:58:46 DPDK git baseline: Repo:dpdk Branch: master CommitID:75f179ebe347b6098cf3af26d3d3b7168fe3fe24 153421 --> testing pass Upstream job id: Generic-DPDK-Compile-ABI#126115 Test environment and result as below: +-------------------+----------+ | Environment | abi_test | +===================+==========+ | CentOS Stream 10 | PASS | +-------------------+----------+ | CentOS Stream 9 | PASS | +-------------------+----------+ | Debian 12 | PASS | +-------------------+----------+ | Fedora 40 (Clang) | PASS | +-------------------+----------+ | Ubuntu 24.04 | PASS | +-------------------+----------+ | Fedora 41 | PASS | +-------------------+----------+ | RHEL9 | PASS | +-------------------+----------+ | Fedora 40 | PASS | +-------------------+----------+ | RHEL8 | PASS | +-------------------+----------+ | Ubuntu 22.04 | PASS | +-------------------+----------+ | openSUSE Leap 15 | PASS | +-------------------+----------+ | Fedora 41 (Clang) | PASS | +-------------------+----------+ CentOS Stream 10 Kernel: Depends on container host Compiler: gcc 14.2.1 20241104 (Red Hat 14.2.1-6) CentOS Stream 9 Kernel: Depends on container host Compiler: gcc 11.5.0 20240719 (Red Hat 11.5.0-2) Debian 12 Kernel: Depends on container host Compiler: gcc (Debian 12.2.0-14) 12.2.0 Fedora 40 (Clang) Kernel: Depends on container host Compiler: clang 18.1.8 (Fedora 18.1.8-1.fc40) Ubuntu 24.04 Kernel: Depends on container host Compiler: gcc (Ubuntu 13.3.0-6ubuntu2~24.04) 13.3.0 Fedora 41 Kernel: Depends on container host Compiler: gcc 14.2.1 20240912 (Red Hat 14.2.1-3) RHEL9 Kernel: Depends on container host Compiler: gcc 11.5.0 20240719 (Red Hat 11.5.0-2) Fedora 40 Kernel: Depends on container host Compiler: gcc 14.2.1 20240912 (Red Hat 14.2.1-3) RHEL8 Kernel: Depends on container host Compiler: gcc 8.5.0 20210514 (Red Hat 8.5.0-22) Ubuntu 22.04 Kernel: Depends on container host Compiler: gcc (Ubuntu 11.4.0-1ubuntu1~22.04) 11.4.0 openSUSE Leap 15 Kernel: Depends on container host Compiler: gcc (SUSE Linux) 7.5.0 Fedora 41 (Clang) Kernel: Depends on container host Compiler: clang 19.1.5 (Fedora 19.1.5-1.fc41) To view detailed results, visit: https://lab.dpdk.org/results/dashboard/patchsets/33157/ UNH-IOL DPDK Community Lab To manage your email subscriptions, visit: https://lab.dpdk.org/results/dashboard/preferences/subscriptions/