From mboxrd@z Thu Jan 1 00:00:00 1970 Return-Path: Received: from mails.dpdk.org (mails.dpdk.org [217.70.189.124]) by inbox.dpdk.org (Postfix) with ESMTP id 9508F46729 for ; Mon, 12 May 2025 18:15:04 +0200 (CEST) Received: from mails.dpdk.org (localhost [127.0.0.1]) by mails.dpdk.org (Postfix) with ESMTP id 9089F4026C; Mon, 12 May 2025 18:15:04 +0200 (CEST) Received: from mail-oi1-f228.google.com (mail-oi1-f228.google.com [209.85.167.228]) by mails.dpdk.org (Postfix) with ESMTP id 101D64025F for ; Mon, 12 May 2025 18:15:04 +0200 (CEST) Received: by mail-oi1-f228.google.com with SMTP id 5614622812f47-3fbaa18b810so1203942b6e.2 for ; Mon, 12 May 2025 09:15:04 -0700 (PDT) DKIM-Signature: v=1; a=rsa-sha256; c=relaxed/relaxed; d=iol.unh.edu; s=unh-iol; t=1747066503; x=1747671303; darn=dpdk.org; h=references:in-reply-to:cc:to:from:subject:message-id:date:from:to :cc:subject:date:message-id:reply-to; bh=XV0apQZA4RwjyJ/pSVTbA61eURJhxd08QPIQ5Iko7Hs=; b=g6LdhIOZOvziXPXbuTReD21cDPyYpSj4iZ00BYp0OHPjzaEKjJ/pH1jqhO+1cCLA0a koF9YtNnk/z9hBycJCaSvsMIs+BFuNTe92WqNuAV133WxpSQrjS8gW3vQnjTrwKC5uaF D+DrLMZZik9T7N67F0w7s9qIXqeLPBUvcPAgk= X-Google-DKIM-Signature: v=1; a=rsa-sha256; c=relaxed/relaxed; d=1e100.net; s=20230601; t=1747066503; x=1747671303; h=references:in-reply-to:cc:to:from:subject:message-id:date :x-gm-message-state:from:to:cc:subject:date:message-id:reply-to; bh=XV0apQZA4RwjyJ/pSVTbA61eURJhxd08QPIQ5Iko7Hs=; b=eG9hB82Lcgpxmd5ZXFL8snliF3YGEIx/bUff9Dj3PEZQlZGr4RGUvFr9y5gK13lRbt SaGcKPZ5lPkq8SNN98BMDCw9yd+U6KRMMk+18JtDvUIGH2AsXCzB25lRVoKSkV7QZhUW lVBOwszqkQPdz2s4UicRS5Eanks+7C6jNQ02uCFyg5ASRJxpN5sPucLFGSJCBdwoapbY +Tw8aHgZG+8NMEEmUJpZGjUh/MA9+MJLn+J74pXh1O5TXL6vOM0YOsv9ef0gj0D+l7Kz L5JYLyTAuDbhjmfrv+7X3rT3kuyvwBUYFafKEjuyAJ0hduEWBK55fn1iuXfjPmSYzATf 2f7A== X-Gm-Message-State: AOJu0YzfkIKJG5v6A7csV0RmX2CUQPCtDiT7SCeoNFcQ4orpTkx7obUn w5nB/iJfJRapfMeG9Nw+F2H+kyOzDIwzrA1AkwWtea/Iy9qAfNaHzN+tfnR/L7WG7tECtfDFxCH f+rGdflxYX5NNiZ90BU661u9PKO5Sq01euJGTV2nv X-Gm-Gg: ASbGncsIKujzxUHvs2IX2Pesn7uSE35DG5y/GDVAT+z1yxNs6PtCubpW+iShg+6jZuP 9pjEENPQgRXih312fl8VjelsonYLRJVsbH6mpk0fEj3JInhMC7JwFEypNK31hjhxlGai6wLLUwN 36mLHtMyA6rkLmKfrYrIF0/aAyjKW/A5VV/x2xEOmKo2rE/aizqXC2399UsxFzA65REeCXDKkfF rKSeJSE6Lpn8vOrtE8s8sc1UUU/p2MjqusvArH0TFZ1sYHfXcU1KLWD0erS6VCetsEnlkna1pkv isDYrkYqt0f35rC9LCAkCKG7REzijPLX4NXczgv6uVoiWHj4ptQDfAvwd2I= X-Google-Smtp-Source: AGHT+IFzVMaeAtGiLU2LIsU5DVXW6PGbXc+VQ1pNDD/9Y8+EcNSmO+ksLNsV/Olwq49QtshxSTT8hDO+J8rz X-Received: by 2002:a05:6808:6906:b0:404:c04:c03b with SMTP id 5614622812f47-4040c04c1e0mr5923718b6e.3.1747066503285; Mon, 12 May 2025 09:15:03 -0700 (PDT) Received: from postal.iol.unh.edu (postal.iol.unh.edu. [132.177.123.84]) by smtp-relay.gmail.com with ESMTPS id 006d021491bc7-6083fe56da4sm188722eaf.14.2025.05.12.09.15.03 (version=TLS1_2 cipher=ECDHE-ECDSA-AES128-GCM-SHA256 bits=128/128); Mon, 12 May 2025 09:15:03 -0700 (PDT) X-Relaying-Domain: iol.unh.edu Date: Mon, 12 May 2025 09:15:03 -0700 (PDT) Message-ID: <68221e87.4a0a0220.1d9414.a6c4SMTPIN_ADDED_MISSING@mx.google.com> Received: from [172.17.0.3] (unknown [172.18.0.74]) by postal.iol.unh.edu (Postfix) with ESMTP id C4D3E6052471; Mon, 12 May 2025 12:15:02 -0400 (EDT) Subject: |SUCCESS| pw153408-153420 [PATCH] [v3,13/13] net/intel: add common T From: dpdklab@iol.unh.edu To: Test Report Cc: dpdk-test-reports@iol.unh.edu In-Reply-To: <3c5ab3604e55ea75a942a0d6ddcb5c52aa5a1ce0.1747054471.git.anatoly.burakov@intel.com> References: <3c5ab3604e55ea75a942a0d6ddcb5c52aa5a1ce0.1747054471.git.anatoly.burakov@intel.com> Content-Type: text/plain X-BeenThere: test-report@dpdk.org X-Mailman-Version: 2.1.29 Precedence: list List-Id: automatic DPDK test reports List-Unsubscribe: , List-Archive: List-Post: List-Help: List-Subscribe: , Errors-To: test-report-bounces@dpdk.org Test-Label: iol-unit-amd64-testing Test-Status: SUCCESS http://dpdk.org/patch/153420 _Testing PASS_ Submitter: Anatoly Burakov Date: Monday, May 12 2025 12:54:39 DPDK git baseline: Repo:dpdk Branch: master CommitID:7cf0355db9fdab5648b05fd787356c391c510534 153408-153420 --> testing pass Upstream job id: Generic-Unit-Test-DPDK#337258 Test environment and result as below: +---------------------+----------------+ | Environment | dpdk_unit_test | +=====================+================+ | Debian 12 | PASS | +---------------------+----------------+ | Fedora 40 (Clang) | PASS | +---------------------+----------------+ | CentOS Stream 10 | PASS | +---------------------+----------------+ | CentOS Stream 9 | PASS | +---------------------+----------------+ | RHEL8 | PASS | +---------------------+----------------+ | Ubuntu 22.04 | PASS | +---------------------+----------------+ | RHEL9 | PASS | +---------------------+----------------+ | Fedora 41 | PASS | +---------------------+----------------+ | Fedora 41 (Clang) | PASS | +---------------------+----------------+ | Fedora 40 | PASS | +---------------------+----------------+ | Ubuntu 20.04 | PASS | +---------------------+----------------+ | Ubuntu 24.04 | PASS | +---------------------+----------------+ | Windows Server 2022 | PASS | +---------------------+----------------+ Debian 12 Kernel: Depends on container host Compiler: gcc (Debian 12.2.0-14) 12.2.0 Fedora 40 (Clang) Kernel: Depends on container host Compiler: clang 18.1.8 (Fedora 18.1.8-1.fc40) CentOS Stream 10 Kernel: Depends on container host Compiler: gcc 14.2.1 20241104 (Red Hat 14.2.1-6) CentOS Stream 9 Kernel: Depends on container host Compiler: gcc 11.5.0 20240719 (Red Hat 11.5.0-2) RHEL8 Kernel: Depends on container host Compiler: gcc 8.5.0 20210514 (Red Hat 8.5.0-22) Ubuntu 22.04 Kernel: Depends on container host Compiler: gcc (Ubuntu 11.4.0-1ubuntu1~22.04) 11.4.0 RHEL9 Kernel: Depends on container host Compiler: gcc 11.5.0 20240719 (Red Hat 11.5.0-2) Fedora 41 Kernel: Depends on container host Compiler: gcc 14.2.1 20240912 (Red Hat 14.2.1-3) Fedora 41 (Clang) Kernel: Depends on container host Compiler: clang 19.1.5 (Fedora 19.1.5-1.fc41) Fedora 40 Kernel: Depends on container host Compiler: gcc 14.2.1 20240912 (Red Hat 14.2.1-3) Ubuntu 20.04 Kernel: Depends on container host Compiler: gcc (Ubuntu 9.4.0-1ubuntu1~20.04.2) 9.4.0 Ubuntu 24.04 Kernel: Depends on container host Compiler: gcc (Ubuntu 13.3.0-6ubuntu2~24.04) 13.3.0 Windows Server 2022 Kernel: 10.0.20348.2031 Compiler: clang 15.0.7, gcc 14.1.0 (MinGW), and MSVC VS 19.39.33521 To view detailed results, visit: https://lab.dpdk.org/results/dashboard/patchsets/33156/ UNH-IOL DPDK Community Lab To manage your email subscriptions, visit: https://lab.dpdk.org/results/dashboard/preferences/subscriptions/