From mboxrd@z Thu Jan 1 00:00:00 1970 Return-Path: Received: from mails.dpdk.org (mails.dpdk.org [217.70.189.124]) by inbox.dpdk.org (Postfix) with ESMTP id 07A8446729 for ; Mon, 12 May 2025 18:18:30 +0200 (CEST) Received: from mails.dpdk.org (localhost [127.0.0.1]) by mails.dpdk.org (Postfix) with ESMTP id DF6D04026C; Mon, 12 May 2025 18:18:30 +0200 (CEST) Received: from mail-il1-f227.google.com (mail-il1-f227.google.com [209.85.166.227]) by mails.dpdk.org (Postfix) with ESMTP id 56DCC4025F for ; Mon, 12 May 2025 18:18:30 +0200 (CEST) Received: by mail-il1-f227.google.com with SMTP id e9e14a558f8ab-3da73998419so15910845ab.0 for ; Mon, 12 May 2025 09:18:30 -0700 (PDT) DKIM-Signature: v=1; a=rsa-sha256; c=relaxed/relaxed; d=iol.unh.edu; s=unh-iol; t=1747066709; x=1747671509; darn=dpdk.org; h=references:in-reply-to:cc:to:from:subject:message-id:date:from:to :cc:subject:date:message-id:reply-to; bh=aRoJdftTtoZ7CBPhhRk+TO7hxLZdTotC2FntgVbiCXE=; b=U35XJGDn5jX9i1d1ADF6xRxzzPkymuDAvKXYbROHE/gJWPgyj4vewNcEMC9z0+Ur3J H+IaCeJ9hQwIF0O1zNx9wmQ1XPHTrxRMK9ov8iQ0O9ozHKsJanvppDZ44/8ttZpj4eJr o078t1LahVzonClOVYbSLMhVVmCcwOJ0hWam4= X-Google-DKIM-Signature: v=1; a=rsa-sha256; c=relaxed/relaxed; d=1e100.net; s=20230601; t=1747066709; x=1747671509; h=references:in-reply-to:cc:to:from:subject:message-id:date :x-gm-message-state:from:to:cc:subject:date:message-id:reply-to; bh=aRoJdftTtoZ7CBPhhRk+TO7hxLZdTotC2FntgVbiCXE=; b=aeg62wqognCcJlWahi4N/9KjasSTZHCrOl8W9e/R+hIaFbXG41igrSE/0ZVURIAQuR 3w8OQdO+pLPokuGfUna6ZZmVpit8++30ZsYPAmu1Nt8wT/l1+tAOJgImasWU5GN2Id6p blS3aXrMx4JGYS4pTUyJtZ/0RUQY5qVm1BPAulbW7x5bHGG5gmfUtuKGyoe5k9UN/t7C 6VfswM8yZz8RHE7mXhB9Qbca7CUoCQ+N27x+O4F0xU0dsU9w8pVI1yNGy3DksaU9Zqmv OX2NXiOqx4Mh1jjO0OIlKK7aG8nHziQ8d88ZiQAk5TxVDSAzJtTJGYg7c7OdIQfh7r8J UiCg== X-Gm-Message-State: AOJu0Yyv3eU44QGnwcv9zwAhH9Qn+Ak1rPT96JVGFn3v80ie6/qtBE3V BlpD/dAMn+R7bFjDsGVG0N99VOYG7thSAS0phmD2NSeUXnxPDZkecpvRmnoHDBmeVjwHwW5L2fw YAgw0H5R6eDXvvd0Zv+0h8SXrxfMZeq13OEeoHom9 X-Gm-Gg: ASbGncvhr5tnR1wzS7TzDUihtO7GqE64lUy2sZ8nJ6CapknPBY0fle5LKrQpEjyWs30 Geo6mto7DfN9XuI3UKUudwsFK/L2G6yoeCLfqbtSKUFyZfCC0ZEJjaRrmnX8Mmgf7xP2IDea+Vw VEYj2yDM1BnZKB8AMFwYJVr77MMcyrr8+s/r2UOXEUxznIB6hwMmA1AFXNSjQO9ScJFFTTfizNR caZpjBWUydA9DoOrsusaDbSixMSe2aSw91ElOoRGudZMbevNJDiqBje1SAQtQClMlwYVAorHMa8 eMB6lgdFp76gX1YsF66PZVbx+vTmHGlDNoxNKkc50NRfDOWyC7m7ind+5lA= X-Google-Smtp-Source: AGHT+IHS0gRsNdL+4sedLTf7789eSLr7NThcPPRkGjpywutfh/RyXDyeglIPU23OqOFY/Rl2WctWFr3awTQR X-Received: by 2002:a05:6e02:2489:b0:3d4:3ab3:5574 with SMTP id e9e14a558f8ab-3da7e1e2494mr171682895ab.3.1747066709536; Mon, 12 May 2025 09:18:29 -0700 (PDT) Received: from postal.iol.unh.edu (postal.iol.unh.edu. [132.177.123.84]) by smtp-relay.gmail.com with ESMTPS id e9e14a558f8ab-3da7e1637ddsm5189795ab.68.2025.05.12.09.18.29 (version=TLS1_2 cipher=ECDHE-ECDSA-AES128-GCM-SHA256 bits=128/128); Mon, 12 May 2025 09:18:29 -0700 (PDT) X-Relaying-Domain: iol.unh.edu Date: Mon, 12 May 2025 09:18:29 -0700 (PDT) Message-ID: <68221f55.050a0220.120d82.c4c4SMTPIN_ADDED_MISSING@mx.google.com> Received: from [172.17.0.3] (unknown [172.18.0.74]) by postal.iol.unh.edu (Postfix) with ESMTP id 2F4146052471; Mon, 12 May 2025 12:18:29 -0400 (EDT) Subject: |SUCCESS| pw153408-153420 [PATCH] [v3,13/13] net/intel: add common T From: dpdklab@iol.unh.edu To: Test Report Cc: dpdk-test-reports@iol.unh.edu In-Reply-To: <3c5ab3604e55ea75a942a0d6ddcb5c52aa5a1ce0.1747054471.git.anatoly.burakov@intel.com> References: <3c5ab3604e55ea75a942a0d6ddcb5c52aa5a1ce0.1747054471.git.anatoly.burakov@intel.com> Content-Type: text/plain X-BeenThere: test-report@dpdk.org X-Mailman-Version: 2.1.29 Precedence: list List-Id: automatic DPDK test reports List-Unsubscribe: , List-Archive: List-Post: List-Help: List-Subscribe: , Errors-To: test-report-bounces@dpdk.org Test-Label: iol-abi-testing Test-Status: SUCCESS http://dpdk.org/patch/153420 _Testing PASS_ Submitter: Anatoly Burakov Date: Monday, May 12 2025 12:54:39 DPDK git baseline: Repo:dpdk Branch: master CommitID:7cf0355db9fdab5648b05fd787356c391c510534 153408-153420 --> testing pass Upstream job id: Generic-DPDK-Compile-ABI#126129 Test environment and result as below: +-------------------+----------+ | Environment | abi_test | +===================+==========+ | CentOS Stream 9 | PASS | +-------------------+----------+ | Debian 12 | PASS | +-------------------+----------+ | CentOS Stream 10 | PASS | +-------------------+----------+ | Fedora 40 (Clang) | PASS | +-------------------+----------+ | Fedora 40 | PASS | +-------------------+----------+ | openSUSE Leap 15 | PASS | +-------------------+----------+ | Fedora 41 | PASS | +-------------------+----------+ | Fedora 41 (Clang) | PASS | +-------------------+----------+ | RHEL9 | PASS | +-------------------+----------+ | Ubuntu 24.04 | PASS | +-------------------+----------+ | Ubuntu 22.04 | PASS | +-------------------+----------+ | RHEL8 | PASS | +-------------------+----------+ CentOS Stream 9 Kernel: Depends on container host Compiler: gcc 11.5.0 20240719 (Red Hat 11.5.0-2) Debian 12 Kernel: Depends on container host Compiler: gcc (Debian 12.2.0-14) 12.2.0 CentOS Stream 10 Kernel: Depends on container host Compiler: gcc 14.2.1 20241104 (Red Hat 14.2.1-6) Fedora 40 (Clang) Kernel: Depends on container host Compiler: clang 18.1.8 (Fedora 18.1.8-1.fc40) Fedora 40 Kernel: Depends on container host Compiler: gcc 14.2.1 20240912 (Red Hat 14.2.1-3) openSUSE Leap 15 Kernel: Depends on container host Compiler: gcc (SUSE Linux) 7.5.0 Fedora 41 Kernel: Depends on container host Compiler: gcc 14.2.1 20240912 (Red Hat 14.2.1-3) Fedora 41 (Clang) Kernel: Depends on container host Compiler: clang 19.1.5 (Fedora 19.1.5-1.fc41) RHEL9 Kernel: Depends on container host Compiler: gcc 11.5.0 20240719 (Red Hat 11.5.0-2) Ubuntu 24.04 Kernel: Depends on container host Compiler: gcc (Ubuntu 13.3.0-6ubuntu2~24.04) 13.3.0 Ubuntu 22.04 Kernel: Depends on container host Compiler: gcc (Ubuntu 11.4.0-1ubuntu1~22.04) 11.4.0 RHEL8 Kernel: Depends on container host Compiler: gcc 8.5.0 20210514 (Red Hat 8.5.0-22) To view detailed results, visit: https://lab.dpdk.org/results/dashboard/patchsets/33156/ UNH-IOL DPDK Community Lab To manage your email subscriptions, visit: https://lab.dpdk.org/results/dashboard/preferences/subscriptions/