From mboxrd@z Thu Jan 1 00:00:00 1970 Return-Path: Received: from mails.dpdk.org (mails.dpdk.org [217.70.189.124]) by inbox.dpdk.org (Postfix) with ESMTP id C2FD346729 for ; Mon, 12 May 2025 18:34:13 +0200 (CEST) Received: from mails.dpdk.org (localhost [127.0.0.1]) by mails.dpdk.org (Postfix) with ESMTP id 97EE04026C; Mon, 12 May 2025 18:34:13 +0200 (CEST) Received: from mail-yw1-f227.google.com (mail-yw1-f227.google.com [209.85.128.227]) by mails.dpdk.org (Postfix) with ESMTP id DB0794025F for ; Mon, 12 May 2025 18:34:12 +0200 (CEST) Received: by mail-yw1-f227.google.com with SMTP id 00721157ae682-70b75ba2fb5so3995297b3.3 for ; Mon, 12 May 2025 09:34:12 -0700 (PDT) DKIM-Signature: v=1; a=rsa-sha256; c=relaxed/relaxed; d=iol.unh.edu; s=unh-iol; t=1747067652; x=1747672452; darn=dpdk.org; h=references:in-reply-to:cc:to:from:subject:message-id:date:from:to :cc:subject:date:message-id:reply-to; bh=5myrwUB24I5dAfi9p5MgQ6a1bJL3nd4RapUrA5ibofM=; b=LKUJsTtDVOJUr6C9bmS64oaYqUJ+hCRtZBinHRR3JgHJQvNpYobGJh7oVEL3rqKQ6T cSoRFB1QEDfCO43h93LncwwZUjSMqGEdBUmoKgOj4DR2ngyziXJWEbKyuYg79/9HEA9g 9G9PIeeWdE2PvQvm0DsgBmP74UzWdMgGaN/uk= X-Google-DKIM-Signature: v=1; a=rsa-sha256; c=relaxed/relaxed; d=1e100.net; s=20230601; t=1747067652; x=1747672452; h=references:in-reply-to:cc:to:from:subject:message-id:date :x-gm-message-state:from:to:cc:subject:date:message-id:reply-to; bh=5myrwUB24I5dAfi9p5MgQ6a1bJL3nd4RapUrA5ibofM=; b=I2PqvO6ABy4dfKu4GgkH0pywmYrGb2Jw/UPUJropPdNp4QmptC8peoNkuvTwNiMcI5 kHUsCIXbLwk9z6XAc2cKfoTGBbp3yDcUO0EIBiNjxZqne3V7EK9+9JeOmKz9pV4biU/I FPe9ZZMd21ectkKBtD9Mgmfcaax8YlLZfHR+FAqw5hDE061s+McpEB5XZ07X0S6nWGKV Le41ADmz7cMccq2TF2cmMF8v4r+QPOAQ6Oe1gCTAC2Hd+7k342EfvGxcVTXr9eBcsGkk te/niGhwuE89mQgMY14dLHOQF5sDgzMhrm45OV75yuKg5MR0DcBvc5JevB8TQb9+Lj6B kGlA== X-Gm-Message-State: AOJu0YzbsYeHz1f/nHmGg1V96Z3p4CQnR1tH1S6AzL/wp+zyjsTjYRkK 0urF7TvxmjxT6rCPtH+BUY64nzgWL4+tWD0SsJhHqLwfq2ncuaSw2w5SPLyc11GDV6miC05hxFa 0nFFr7xgrWGqntqm+SOpSIAhV3SAyH4yirmw9STa6l5PhBcJezeMDaxhT X-Gm-Gg: ASbGncvZupihIYr9/cXAQ9dyb1WCSzx450KTmSKTzI3A26CNZE5q8pcgifhpIPa0kbi EXXNBg5XcuX8avb8Ya+zl+sNecTOMxiOZBmmP6iAOA6FsnSZMxeUSeN5ACEIvKu3Y+vKVrTbw2H 9mXK2oNC5LXobYtXdSmMLwQUaEqzMbrkLtorJKS+sfXuxgK1dnR+4kXLbh3UzSqVUWyZqaQUTGx DfK459pJSBbeWKxVre26muqeDzNcYQIvX20b+BfSw12Yn4zFY5OFeDFYYczYjXrm/9AeZ+NzZW+ P/WdfPa5o9MiA00jMOsE8LBkWu/40/O637TG X-Google-Smtp-Source: AGHT+IEszVs7llltfmGBRJajj92ZVRm0nDSsQDrKxqq+iI6Atax72X3lx34+xgQyYvh/9mBWjWAjpJLGyBAM X-Received: by 2002:a05:690c:6181:b0:6fb:1e5a:fcdd with SMTP id 00721157ae682-70a3fa3de1amr187416477b3.17.1747067651948; Mon, 12 May 2025 09:34:11 -0700 (PDT) Received: from postal.iol.unh.edu (postal.iol.unh.edu. [2606:4100:3880:1234::84]) by smtp-relay.gmail.com with ESMTPS id 00721157ae682-70a3d84b928sm2623237b3.53.2025.05.12.09.34.11 (version=TLS1_2 cipher=ECDHE-ECDSA-AES128-GCM-SHA256 bits=128/128); Mon, 12 May 2025 09:34:11 -0700 (PDT) X-Relaying-Domain: iol.unh.edu Date: Mon, 12 May 2025 09:34:11 -0700 (PDT) Message-ID: <68222303.050a0220.170e67.e091SMTPIN_ADDED_MISSING@mx.google.com> Received: from [172.17.0.2] (unknown [172.18.0.76]) by postal.iol.unh.edu (Postfix) with ESMTP id 90C4F6052471; Mon, 12 May 2025 12:34:11 -0400 (EDT) Subject: |SUCCESS| pw153421 [PATCH] [v2] cnxk: use stdatomic API From: dpdklab@iol.unh.edu To: Test Report Cc: dpdk-test-reports@iol.unh.edu In-Reply-To: <20250512135847.3804-1-pbhagavatula@marvell.com> References: <20250512135847.3804-1-pbhagavatula@marvell.com> Content-Type: text/plain X-BeenThere: test-report@dpdk.org X-Mailman-Version: 2.1.29 Precedence: list List-Id: automatic DPDK test reports List-Unsubscribe: , List-Archive: List-Post: List-Help: List-Subscribe: , Errors-To: test-report-bounces@dpdk.org Test-Label: iol-sample-apps-testing Test-Status: SUCCESS http://dpdk.org/patch/153421 _Testing PASS_ Submitter: Pavan Nikhilesh Bhagavatula Date: Monday, May 12 2025 13:58:46 DPDK git baseline: Repo:dpdk Branch: master CommitID:75f179ebe347b6098cf3af26d3d3b7168fe3fe24 153421 --> testing pass Upstream job id: ACVP-FIPS-testing#9787 Test environment and result as below: +--------------------+----------------------+----------------------+ | Environment | dpdk_fips_validation | compressdev_zlib_pmd | +====================+======================+======================+ | Ubuntu 20.04 | PASS | SKIPPED | +--------------------+----------------------+----------------------+ | Ubuntu 22.04 (ARM) | SKIPPED | PASS | +--------------------+----------------------+----------------------+ | Ubuntu 22.04 | SKIPPED | PASS | +--------------------+----------------------+----------------------+ Ubuntu 20.04 Kernel: Depends on container host Compiler: gcc (Ubuntu 9.4.0-1ubuntu1~20.04.2) 9.4.0 Ubuntu 22.04 (ARM) Kernel: 5.15.0-97-generic Compiler: gcc gcc (Ubuntu 11.4.0-1ubuntu1~22.04) 11.4.0 Ubuntu 22.04 Kernel: 5.15.0-100-generic Compiler: gcc gcc (Ubuntu 11.4.0-1ubuntu1~22.04) 11.4.0 To view detailed results, visit: https://lab.dpdk.org/results/dashboard/patchsets/33157/ UNH-IOL DPDK Community Lab To manage your email subscriptions, visit: https://lab.dpdk.org/results/dashboard/preferences/subscriptions/