From mboxrd@z Thu Jan 1 00:00:00 1970 Return-Path: Received: from mails.dpdk.org (mails.dpdk.org [217.70.189.124]) by inbox.dpdk.org (Postfix) with ESMTP id 280F446729 for ; Mon, 12 May 2025 19:08:13 +0200 (CEST) Received: from mails.dpdk.org (localhost [127.0.0.1]) by mails.dpdk.org (Postfix) with ESMTP id 0B1E44026C; Mon, 12 May 2025 19:08:13 +0200 (CEST) Received: from mail-yw1-f225.google.com (mail-yw1-f225.google.com [209.85.128.225]) by mails.dpdk.org (Postfix) with ESMTP id 176F94025F for ; Mon, 12 May 2025 19:08:11 +0200 (CEST) Received: by mail-yw1-f225.google.com with SMTP id 00721157ae682-70a2b85aeb7so37943127b3.1 for ; Mon, 12 May 2025 10:08:11 -0700 (PDT) DKIM-Signature: v=1; a=rsa-sha256; c=relaxed/relaxed; d=iol.unh.edu; s=unh-iol; t=1747069690; x=1747674490; darn=dpdk.org; h=references:in-reply-to:cc:to:from:subject:message-id:date:from:to :cc:subject:date:message-id:reply-to; bh=JwuOaBbPdpY+KHRsLII9messktoSvEwIRLF0kzP/vRg=; b=CBO0s1V4mofWqUg4WyE6CrdPaUT6fP6XwXKbIm26PX/wGMwrTBwKe1MeL4rYzJ/Gx4 OCW92R/pC9Ah8YyIiwmdGMuhF/IocLsAER8W+c2y1GKTovaCxzghQ/1GcZOqK/OygPnP U1j5UOXRa4V0DIyeYZkHTelGKb3OeCNIs8u0A= X-Google-DKIM-Signature: v=1; a=rsa-sha256; c=relaxed/relaxed; d=1e100.net; s=20230601; t=1747069690; x=1747674490; h=references:in-reply-to:cc:to:from:subject:message-id:date :x-gm-message-state:from:to:cc:subject:date:message-id:reply-to; bh=JwuOaBbPdpY+KHRsLII9messktoSvEwIRLF0kzP/vRg=; b=rvV1vgxZYz5zM7x2BSp53p4s48X9+I4FN7C/SjgQPPhSram0sgms+H/xQ7QWYSops0 GOu2dACkwZ1mY30ByDuyfBbQLEH/ZKKKFvGJ7XCQFjuKg3YQfUyqTcrr3xxjporniKs9 kfr6R0ZzjvsbCJtIG6TcfV/aVgk3z8ShV6exB/65NoiffWBnTZcETWixyXs2EvwMNqLm k9GoK5Z2mRuXWHnUy5bVFYKMetJGrQeeSWeabXMGETmb2RH6Wc80ZDxwKD7beaaXHPxj 91LC6oCEsnBoGoDzRysczl4lLY7tjZAkBHYiA32Cf6t+nU+84TQ10nRzf9ZVPknMkBS0 /B8A== X-Gm-Message-State: AOJu0YzLGJw38eHk4nOZBMht6NK/FHgiYgguDI47dyxCfdiw5R9nduOk zmEOhwZ/s4eaEyjsYXWujiCC47SeArmz0B+IgSyYAw5xCFCm3njdwbbMVO/W4f15WDlBSnsrWad 9OEF7xN1P197eto3t/uSptDup4GnVa4heXyrNJL5Ck/GzgJbRbRq+jVrj X-Gm-Gg: ASbGncssMXflXBzQ/T3iRNOQD/lg5T/IRVHDXDAlQXNJNYKwbQghV3ww9aIXjKWplyP IJaQkWUwdStlnpLKt2zcTrZXk4hSSWXj/Yd1+SkRbbufUmfwEEAivMXexpEQxWhyuEks7R31FnF S6DMtXJUnRluCzjb+Xu8C4IQ0fGrqYn6FEXGuUCCP2BJ/SIeyRAFcsLjtn0Yp4UTYhxoBkeRB/K BvsGQfEWQAPnStydY7UHcgqKJeEfLH+PZ0gNFXa1xS0GRdza011XJkVy4F2SuhbzfOLQ1uY/mdw P4xciycrvvg1kEPrLAmgJ+MKzGiafVj4p+53 X-Google-Smtp-Source: AGHT+IE0DHFnsvD9UCMW0n7j1h8oK6Z6SRBE+QfgBWhcOdqba2abkDUBy/EeXObWADJYd5qr/C6aWnFcnsWi X-Received: by 2002:a05:690c:7308:b0:706:cc5e:97b8 with SMTP id 00721157ae682-70a3f9f0d8fmr209928377b3.6.1747069690314; Mon, 12 May 2025 10:08:10 -0700 (PDT) Received: from postal.iol.unh.edu (postal.iol.unh.edu. [2606:4100:3880:1234::84]) by smtp-relay.gmail.com with ESMTPS id 00721157ae682-70b73fdd2c1sm295717b3.67.2025.05.12.10.08.10 (version=TLS1_2 cipher=ECDHE-ECDSA-AES128-GCM-SHA256 bits=128/128); Mon, 12 May 2025 10:08:10 -0700 (PDT) X-Relaying-Domain: iol.unh.edu Date: Mon, 12 May 2025 10:08:10 -0700 (PDT) Message-ID: <68222afa.050a0220.2a5b22.1a9eSMTPIN_ADDED_MISSING@mx.google.com> Received: from [172.21.0.7] (unknown [172.18.0.240]) by postal.iol.unh.edu (Postfix) with ESMTP id E1A1F6052471; Mon, 12 May 2025 13:08:09 -0400 (EDT) Subject: |SUCCESS| pw153421 [PATCH] [v2] cnxk: use stdatomic API From: dpdklab@iol.unh.edu To: Test Report Cc: dpdk-test-reports@iol.unh.edu In-Reply-To: <20250512135847.3804-1-pbhagavatula@marvell.com> References: <20250512135847.3804-1-pbhagavatula@marvell.com> Content-Type: text/plain X-BeenThere: test-report@dpdk.org X-Mailman-Version: 2.1.29 Precedence: list List-Id: automatic DPDK test reports List-Unsubscribe: , List-Archive: List-Post: List-Help: List-Subscribe: , Errors-To: test-report-bounces@dpdk.org Test-Label: iol-unit-arm64-testing Test-Status: SUCCESS http://dpdk.org/patch/153421 _Testing PASS_ Submitter: Pavan Nikhilesh Bhagavatula Date: Monday, May 12 2025 13:58:46 DPDK git baseline: Repo:dpdk Branch: master CommitID:75f179ebe347b6098cf3af26d3d3b7168fe3fe24 153421 --> testing pass Upstream job id: Generic-Unit-Test-DPDK#337228 Test environment and result as below: +-----------------------------+--------------+------------------------------+---------------------------+----------------+ | Environment | lpm_autotest | cryptodev_sw_snow3g_autotest | cryptodev_sw_zuc_autotest | dpdk_unit_test | +=============================+==============+==============================+===========================+================+ | Ubuntu 20.04 ARM SVE | PASS | SKIPPED | SKIPPED | SKIPPED | +-----------------------------+--------------+------------------------------+---------------------------+----------------+ | Debian 12 (arm) | SKIPPED | PASS | PASS | PASS | +-----------------------------+--------------+------------------------------+---------------------------+----------------+ | CentOS Stream 9 (ARM) | SKIPPED | SKIPPED | SKIPPED | PASS | +-----------------------------+--------------+------------------------------+---------------------------+----------------+ | CentOS Stream 10 (ARM) | SKIPPED | SKIPPED | SKIPPED | PASS | +-----------------------------+--------------+------------------------------+---------------------------+----------------+ | Fedora 40 (ARM) | SKIPPED | SKIPPED | SKIPPED | PASS | +-----------------------------+--------------+------------------------------+---------------------------+----------------+ | Ubuntu 20.04 (ARM) | SKIPPED | SKIPPED | SKIPPED | PASS | +-----------------------------+--------------+------------------------------+---------------------------+----------------+ | RHEL9 (ARM) | SKIPPED | SKIPPED | SKIPPED | PASS | +-----------------------------+--------------+------------------------------+---------------------------+----------------+ | Fedora 40 (ARM Clang) | SKIPPED | SKIPPED | SKIPPED | PASS | +-----------------------------+--------------+------------------------------+---------------------------+----------------+ | Fedora 41 (ARM) | SKIPPED | SKIPPED | SKIPPED | PASS | +-----------------------------+--------------+------------------------------+---------------------------+----------------+ | Ubuntu 22.04 (ARM) | SKIPPED | SKIPPED | SKIPPED | PASS | +-----------------------------+--------------+------------------------------+---------------------------+----------------+ | Fedora 41 (ARM Clang) | SKIPPED | SKIPPED | SKIPPED | PASS | +-----------------------------+--------------+------------------------------+---------------------------+----------------+ | Ubuntu 24.04 (ARM) | SKIPPED | SKIPPED | SKIPPED | PASS | +-----------------------------+--------------+------------------------------+---------------------------+----------------+ | 32-bit Ubuntu 22.04.4 (ARM) | SKIPPED | SKIPPED | SKIPPED | PASS | +-----------------------------+--------------+------------------------------+---------------------------+----------------+ Ubuntu 20.04 ARM SVE Kernel: Depends on container host Compiler: gcc (Ubuntu 10.5.0-1ubuntu1~20.04) 10.5.0 Debian 12 (arm) Kernel: Depends on container host Compiler: gcc (Debian 12.2.0-14) 12.2.0 CentOS Stream 9 (ARM) Kernel: Depends on container host Compiler: gcc 11.5.0 20240719 (Red Hat 11.5.0-2) CentOS Stream 10 (ARM) Kernel: Depends on container host Compiler: gcc 14.2.1 20241104 (Red Hat 14.2.1-6) Fedora 40 (ARM) Kernel: Depends on container host Compiler: gcc 14.2.1 20240912 (Red Hat 14.2.1-3) Ubuntu 20.04 (ARM) Kernel: Depends on container host Compiler: gcc (Ubuntu 9.4.0-1ubuntu1~20.04.2) 9.4.0 RHEL9 (ARM) Kernel: Depends on container host Compiler: gcc 11.5.0 20240719 (Red Hat 11.5.0-2) Fedora 40 (ARM Clang) Kernel: Depends on container host Compiler: clang 18.1.8 (Fedora 18.1.8-1.fc40) Fedora 41 (ARM) Kernel: Depends on container host Compiler: gcc 14.2.1 20240912 (Red Hat 14.2.1-3) Ubuntu 22.04 (ARM) Kernel: Depends on container host Compiler: gcc (Ubuntu 11.4.0-1ubuntu1~22.04) 11.4.0 Fedora 41 (ARM Clang) Kernel: Depends on container host Compiler: clang 19.1.5 (Fedora 19.1.5-1.fc41) Ubuntu 24.04 (ARM) Kernel: Depends on container host Compiler: gcc (Ubuntu 13.3.0-6ubuntu2~24.04) 13.3.0 32-bit Ubuntu 22.04.4 (ARM) Kernel: 5.15.83+ aarch64 Compiler: gcc (Ubuntu 11.4.0-1ubuntu1~22.04) 11.4.0 To view detailed results, visit: https://lab.dpdk.org/results/dashboard/patchsets/33157/ UNH-IOL DPDK Community Lab To manage your email subscriptions, visit: https://lab.dpdk.org/results/dashboard/preferences/subscriptions/