From mboxrd@z Thu Jan 1 00:00:00 1970 Return-Path: Received: from mails.dpdk.org (mails.dpdk.org [217.70.189.124]) by inbox.dpdk.org (Postfix) with ESMTP id 4FA5246729 for ; Mon, 12 May 2025 19:09:56 +0200 (CEST) Received: from mails.dpdk.org (localhost [127.0.0.1]) by mails.dpdk.org (Postfix) with ESMTP id 3599F4026C; Mon, 12 May 2025 19:09:56 +0200 (CEST) Received: from mail-pl1-f228.google.com (mail-pl1-f228.google.com [209.85.214.228]) by mails.dpdk.org (Postfix) with ESMTP id 9C1BF4025F for ; Mon, 12 May 2025 19:09:54 +0200 (CEST) Received: by mail-pl1-f228.google.com with SMTP id d9443c01a7336-22e45088d6eso61027345ad.0 for ; Mon, 12 May 2025 10:09:54 -0700 (PDT) DKIM-Signature: v=1; a=rsa-sha256; c=relaxed/relaxed; d=iol.unh.edu; s=unh-iol; t=1747069793; x=1747674593; darn=dpdk.org; h=references:in-reply-to:cc:to:from:subject:message-id:date:from:to :cc:subject:date:message-id:reply-to; bh=jgnLK7E3zhZ6WH7xrtfu7MY8lkKZICF563HNZ7Ft/jg=; b=GNMIsZAoiJxfdtn8nPuLeIAFrZe4M526A7EG1rr/UK3IPdDsfhqWM+WMhxWjEk5OHh QevZrAb+Iv7GcV6aTJXENKYiJY8Xqa4hzeJqFw+Qkqg7GipuqM0bV8vbp4WhDGBgPNeJ h/wTv/jltExWBJHJ/QyjgTgcjx4Akr83nJSeM= X-Google-DKIM-Signature: v=1; a=rsa-sha256; c=relaxed/relaxed; d=1e100.net; s=20230601; t=1747069793; x=1747674593; h=references:in-reply-to:cc:to:from:subject:message-id:date :x-gm-message-state:from:to:cc:subject:date:message-id:reply-to; bh=jgnLK7E3zhZ6WH7xrtfu7MY8lkKZICF563HNZ7Ft/jg=; b=Gj3/l6wga126R1/GSkNHsf3ViuD2QzreN6nPWP6crzZWYYrfreeSjkT1AziF88d1QS IJblC6CA/c6/jIpZQkROsNM4g6UooJ5VXDmzmxj4hP7YghO5iQ7fQAPeuxQx3m8gRz6W z9pAizGhFb1J/6jDWxBr4JzVKucae3lexoC3OrMedgslGWWAMf9+G0tjavF0YLvYKuNL cu91elqOPdJOdoJEL9ath6gnUkiQqmwtty4poxCMSwlV9caoDu/NGlk9Yxaiojovl/mU hnFjxDB//0tIGs15ubMREZw6/FNwlTU5pSD72l78VNcvq0YKlPm2CSolfuxBbDYBqBCd AQtQ== X-Gm-Message-State: AOJu0Yz3gECfVmcseW+WciaKPn5LI+sAKiozCU9PrWaGYojLRQN75LKF Z1zMh6B5hsUuWjEVsCeM19xTr6z4MZGYf6v0CSnK/hpz+1G7zB9gTDyrTAkkKu+J45hpPuKZjwG byBWm2L2CayO1sUSJ1e0oOeq2k73u53eTweMmMSYa X-Gm-Gg: ASbGncuPLqxX2fF9b7buMn+Rk9lplzGgfPfVJSHqHQ0OulymccrPXh/XuPC4pkszC+4 TUzGwQw6SCQVqfTlEJrncE5h8A7z9cnFzHQgDMLY9CjQTpLlU05bHia1RsEpPfmixtT3UT8NQVH ga8hr4lqALUWbOfeiIkXKILmOGtBT2PaIkaX+JviSTepBS+lNUfnYMIcgQFZhnBLMQxpetIH9/1 WbK0ZQbcBPoYMEkh4XJqhXM4GuW+DTFUIFySA6/2dpY8FGG9AhP/426rlDsK4nuFUkDtVf16WCV Yb6GJb4j9YoRsiCgPlF7yhuT8XbHOvBnnR5HkIs/8Uy2JZ03ChtqIopNXb0= X-Google-Smtp-Source: AGHT+IEZSkTTPk/FL9SCgzjB7WML3PGACjpdVZZ0z2VIcbdOrCFt00e8oblGdBlcsj3Nst35GCaaSLbJoFPG X-Received: by 2002:a17:903:2a8e:b0:224:256e:5e3f with SMTP id d9443c01a7336-22fc8b59827mr228521455ad.25.1747069793531; Mon, 12 May 2025 10:09:53 -0700 (PDT) Received: from postal.iol.unh.edu (postal.iol.unh.edu. [132.177.123.84]) by smtp-relay.gmail.com with ESMTPS id d9443c01a7336-22fc6f0f862sm4855015ad.90.2025.05.12.10.09.53 (version=TLS1_2 cipher=ECDHE-ECDSA-AES128-GCM-SHA256 bits=128/128); Mon, 12 May 2025 10:09:53 -0700 (PDT) X-Relaying-Domain: iol.unh.edu Date: Mon, 12 May 2025 10:09:53 -0700 (PDT) Message-ID: <68222b61.170a0220.f553c.b9b2SMTPIN_ADDED_MISSING@mx.google.com> Received: from [172.21.0.6] (unknown [172.18.0.240]) by postal.iol.unh.edu (Postfix) with ESMTP id A7BC56052471; Mon, 12 May 2025 13:09:52 -0400 (EDT) Subject: |SUCCESS| pw153408-153420 [PATCH] [v3,13/13] net/intel: add common T From: dpdklab@iol.unh.edu To: Test Report Cc: dpdk-test-reports@iol.unh.edu In-Reply-To: <3c5ab3604e55ea75a942a0d6ddcb5c52aa5a1ce0.1747054471.git.anatoly.burakov@intel.com> References: <3c5ab3604e55ea75a942a0d6ddcb5c52aa5a1ce0.1747054471.git.anatoly.burakov@intel.com> Content-Type: text/plain X-BeenThere: test-report@dpdk.org X-Mailman-Version: 2.1.29 Precedence: list List-Id: automatic DPDK test reports List-Unsubscribe: , List-Archive: List-Post: List-Help: List-Subscribe: , Errors-To: test-report-bounces@dpdk.org Test-Label: iol-sample-apps-testing Test-Status: SUCCESS http://dpdk.org/patch/153420 _Testing PASS_ Submitter: Anatoly Burakov Date: Monday, May 12 2025 12:54:39 DPDK git baseline: Repo:dpdk Branch: master CommitID:7cf0355db9fdab5648b05fd787356c391c510534 153408-153420 --> testing pass Upstream job id: ACVP-FIPS-testing#9788 Test environment and result as below: +--------------------+----------------------+----------------------+ | Environment | compressdev_zlib_pmd | dpdk_fips_validation | +====================+======================+======================+ | Ubuntu 22.04 (ARM) | PASS | SKIPPED | +--------------------+----------------------+----------------------+ | Ubuntu 22.04 | PASS | SKIPPED | +--------------------+----------------------+----------------------+ | Ubuntu 20.04 | SKIPPED | PASS | +--------------------+----------------------+----------------------+ Ubuntu 22.04 (ARM) Kernel: 5.15.0-97-generic Compiler: gcc gcc (Ubuntu 11.4.0-1ubuntu1~22.04) 11.4.0 Ubuntu 22.04 Kernel: 5.15.0-100-generic Compiler: gcc gcc (Ubuntu 11.4.0-1ubuntu1~22.04) 11.4.0 Ubuntu 20.04 Kernel: Depends on container host Compiler: gcc (Ubuntu 9.4.0-1ubuntu1~20.04.2) 9.4.0 To view detailed results, visit: https://lab.dpdk.org/results/dashboard/patchsets/33156/ UNH-IOL DPDK Community Lab To manage your email subscriptions, visit: https://lab.dpdk.org/results/dashboard/preferences/subscriptions/