From mboxrd@z Thu Jan 1 00:00:00 1970 Return-Path: Received: from mails.dpdk.org (mails.dpdk.org [217.70.189.124]) by inbox.dpdk.org (Postfix) with ESMTP id 4DB8746729 for ; Mon, 12 May 2025 19:50:44 +0200 (CEST) Received: from mails.dpdk.org (localhost [127.0.0.1]) by mails.dpdk.org (Postfix) with ESMTP id 2167C4026C; Mon, 12 May 2025 19:50:44 +0200 (CEST) Received: from mail-pj1-f98.google.com (mail-pj1-f98.google.com [209.85.216.98]) by mails.dpdk.org (Postfix) with ESMTP id D4EF44025F for ; Mon, 12 May 2025 19:50:42 +0200 (CEST) Received: by mail-pj1-f98.google.com with SMTP id 98e67ed59e1d1-30c47918d84so3205302a91.3 for ; Mon, 12 May 2025 10:50:42 -0700 (PDT) DKIM-Signature: v=1; a=rsa-sha256; c=relaxed/relaxed; d=iol.unh.edu; s=unh-iol; t=1747072242; x=1747677042; darn=dpdk.org; h=references:in-reply-to:cc:to:from:subject:message-id:date:from:to :cc:subject:date:message-id:reply-to; bh=z8du9wx3l7Ew07wa70GVuBxP3NZGjXfhCdNN9uFYuDI=; b=XGGdu4hRDebGANuZC7pfxRZWyOcFU6sDasni/vlN4xJaXbnKpUSWqtm2hXh3rOzYtA sN57fktLs83Pja/dxKDCH4pkCBGmPx3r40p+cokxsqkJhKK9G5qJE0cMbxz+93CdWVjV 7Ox9YfpGukYZ/4Fm/Al/dP4p3z+JHhKuNmHhU= X-Google-DKIM-Signature: v=1; a=rsa-sha256; c=relaxed/relaxed; d=1e100.net; s=20230601; t=1747072242; x=1747677042; h=references:in-reply-to:cc:to:from:subject:message-id:date :x-gm-message-state:from:to:cc:subject:date:message-id:reply-to; bh=z8du9wx3l7Ew07wa70GVuBxP3NZGjXfhCdNN9uFYuDI=; b=G/6ZI8gX9Ia/sJiVBMpg1VWTGZxnXgJJCgJBIWSthrxetbup3al8jF8Nnh7T8+dAVb G2Y4L+UIht9GIxc/+f4Xvq/y+lPTFGhjOUNr35bITAetr8M8iDBf3Ko76egE7N7LIt58 5pH+ceSaFAgLltCaUpV3v0BH8N1d51vBXmqk5gDhQZOlVgFPPAw3ngFYV+2lhLFnZAlj zN7NXKfBlGnqYCl4QunnfX0HL5YW/z6dn1w5e3Gcg6GWUYuB/aA8A75eY2z51txHChKt i6azl32aDeW7L0xL2z4gyigopyZeZgZifU3WLY57sVXJNkL/mQ1GDSnv9MDm5y4L03Fx uM2w== X-Gm-Message-State: AOJu0YwXOCDtkqidZiDzUJbz//MK7Y+dZuioiuZb00sM7pdz8k3spjSU RKhHHMzIuUV4OxfkWNdoqdAeAHeEpFiQv+WMOJLP3mXkXkWdRkNA8sYIFmKsxX0Xh2bx1u/lrvv b3c4PRKTI/XhYp/XMpsXy5IyL4VWE07h1i3Uf4WGo4V+GEme1VOyynW7z X-Gm-Gg: ASbGncuAreoY9ue/0TR3TeOWGS51a8xNwZVmYlkihDiX2EF42DxB61lB/8xkQe9dsGM 7yP6sAGHxFQNTlSwu1NeYm7dhA2nIi6wEynScUTeffo++vTuLbpE5N/8n1Kg/9QiBZDs6Ad24zf FcXOMjtm9K2WLDEPlAE0AP0/9DR1BLFkw/h7xNj4mxdgBVsV+uClkyPLrZjovi+SWnfvjwl8l0C SJpKiNFUd3cFVAbrh1Q9GO9kI2nCOH4JULmiPF0X/cIzEUyfPXJvwUX6H+dClOY7YFs/HilRgle PlPORnaNIz8NF3vbu/ERsy4cA4X4GlDFbca0 X-Google-Smtp-Source: AGHT+IGGJwZrOJBAYsmqEG6kdj+qytGNgXXfs0la0VBvyDZ0D2HMMoU/gc2G1M5ICaBjjywvBjBoL5h3lb2C X-Received: by 2002:a17:90b:38c7:b0:2ff:5e4e:864 with SMTP id 98e67ed59e1d1-30c3d643f1cmr23268022a91.25.1747072241838; Mon, 12 May 2025 10:50:41 -0700 (PDT) Received: from postal.iol.unh.edu (postal.iol.unh.edu. [2606:4100:3880:1234::84]) by smtp-relay.gmail.com with ESMTPS id 98e67ed59e1d1-30c39dad588sm542553a91.4.2025.05.12.10.50.41 (version=TLS1_2 cipher=ECDHE-ECDSA-AES128-GCM-SHA256 bits=128/128); Mon, 12 May 2025 10:50:41 -0700 (PDT) X-Relaying-Domain: iol.unh.edu Date: Mon, 12 May 2025 10:50:41 -0700 (PDT) Message-ID: <682234f1.170a0220.1a5f84.c72fSMTPIN_ADDED_MISSING@mx.google.com> Received: from [172.17.0.3] (unknown [172.18.0.74]) by postal.iol.unh.edu (Postfix) with ESMTP id EF5B66052471; Mon, 12 May 2025 13:50:40 -0400 (EDT) Subject: |SUCCESS| pw153421 [PATCH] [v2] cnxk: use stdatomic API From: dpdklab@iol.unh.edu To: Test Report Cc: dpdk-test-reports@iol.unh.edu In-Reply-To: <20250512135847.3804-1-pbhagavatula@marvell.com> References: <20250512135847.3804-1-pbhagavatula@marvell.com> Content-Type: text/plain X-BeenThere: test-report@dpdk.org X-Mailman-Version: 2.1.29 Precedence: list List-Id: automatic DPDK test reports List-Unsubscribe: , List-Archive: List-Post: List-Help: List-Subscribe: , Errors-To: test-report-bounces@dpdk.org Test-Label: iol-compile-arm64-testing Test-Status: SUCCESS http://dpdk.org/patch/153421 _Testing PASS_ Submitter: Pavan Nikhilesh Bhagavatula Date: Monday, May 12 2025 13:58:46 DPDK git baseline: Repo:dpdk Branch: master CommitID:75f179ebe347b6098cf3af26d3d3b7168fe3fe24 153421 --> testing pass Upstream job id: Generic-DPDK-Compile-Meson#387306 Test environment and result as below: +----------------------------------------+--------------------+ | Environment | dpdk_meson_compile | +========================================+====================+ | RHEL9 (ARM) | PASS | +----------------------------------------+--------------------+ | Ubuntu 20.04 ARM GCC Cross Compile | PASS | +----------------------------------------+--------------------+ | Ubuntu 20.04 ARM SVE | PASS | +----------------------------------------+--------------------+ | Debian 12 with MUSDK | PASS | +----------------------------------------+--------------------+ | Fedora 40 (ARM) | PASS | +----------------------------------------+--------------------+ | Fedora 41 (ARM Clang) | PASS | +----------------------------------------+--------------------+ | Fedora 41 (ARM) | PASS | +----------------------------------------+--------------------+ | Fedora 40 (ARM Clang) | PASS | +----------------------------------------+--------------------+ | Ubuntu 22.04 (ARM) | PASS | +----------------------------------------+--------------------+ | Ubuntu 20.04 (ARM) | PASS | +----------------------------------------+--------------------+ | Ubuntu 24.04 (ARM) | PASS | +----------------------------------------+--------------------+ | Debian 12 (arm) | PASS | +----------------------------------------+--------------------+ | CentOS Stream 10 (ARM) | PASS | +----------------------------------------+--------------------+ | CentOS Stream 9 (ARM) | PASS | +----------------------------------------+--------------------+ | Ubuntu 20.04 ARM Clang Cross Compile | PASS | +----------------------------------------+--------------------+ | Ubuntu 20.04 aarch32 GCC Cross Compile | PASS | +----------------------------------------+--------------------+ RHEL9 (ARM) Kernel: Depends on container host Compiler: gcc 11.5.0 20240719 (Red Hat 11.5.0-2) Ubuntu 20.04 ARM GCC Cross Compile Kernel: Depends on container host Compiler: aarch64-linux-gnu-gcc (Ubuntu 9.4.0-1ubuntu1~20.04.2) 9.4.0 Ubuntu 20.04 ARM SVE Kernel: Depends on container host Compiler: gcc (Ubuntu 10.5.0-1ubuntu1~20.04) 10.5.0 Debian 12 with MUSDK Kernel: Depends on container host Compiler: gcc (Debian 12.2.0-14) 12.2.0 Fedora 40 (ARM) Kernel: Depends on container host Compiler: gcc 14.2.1 20240912 (Red Hat 14.2.1-3) Fedora 41 (ARM Clang) Kernel: Depends on container host Compiler: clang 19.1.5 (Fedora 19.1.5-1.fc41) Fedora 41 (ARM) Kernel: Depends on container host Compiler: gcc 14.2.1 20240912 (Red Hat 14.2.1-3) Fedora 40 (ARM Clang) Kernel: Depends on container host Compiler: clang 18.1.8 (Fedora 18.1.8-1.fc40) Ubuntu 22.04 (ARM) Kernel: Depends on container host Compiler: gcc (Ubuntu 11.4.0-1ubuntu1~22.04) 11.4.0 Ubuntu 20.04 (ARM) Kernel: Depends on container host Compiler: gcc (Ubuntu 9.4.0-1ubuntu1~20.04.2) 9.4.0 Ubuntu 24.04 (ARM) Kernel: Depends on container host Compiler: gcc (Ubuntu 13.3.0-6ubuntu2~24.04) 13.3.0 Debian 12 (arm) Kernel: Depends on container host Compiler: gcc (Debian 12.2.0-14) 12.2.0 CentOS Stream 10 (ARM) Kernel: Depends on container host Compiler: gcc 14.2.1 20241104 (Red Hat 14.2.1-6) CentOS Stream 9 (ARM) Kernel: Depends on container host Compiler: gcc 11.5.0 20240719 (Red Hat 11.5.0-2) Ubuntu 20.04 ARM Clang Cross Compile Kernel: Depends on container host Compiler: clang 10.0.0-4ubuntu1 Ubuntu 20.04 aarch32 GCC Cross Compile Kernel: Depends on container host Compiler: gcc 9.4.0 To view detailed results, visit: https://lab.dpdk.org/results/dashboard/patchsets/33157/ UNH-IOL DPDK Community Lab To manage your email subscriptions, visit: https://lab.dpdk.org/results/dashboard/preferences/subscriptions/