From mboxrd@z Thu Jan 1 00:00:00 1970 Return-Path: Received: from mails.dpdk.org (mails.dpdk.org [217.70.189.124]) by inbox.dpdk.org (Postfix) with ESMTP id 3FE3846729 for ; Mon, 12 May 2025 19:51:16 +0200 (CEST) Received: from mails.dpdk.org (localhost [127.0.0.1]) by mails.dpdk.org (Postfix) with ESMTP id 3C32A4026C; Mon, 12 May 2025 19:51:16 +0200 (CEST) Received: from mail-oo1-f98.google.com (mail-oo1-f98.google.com [209.85.161.98]) by mails.dpdk.org (Postfix) with ESMTP id 93C894025F for ; Mon, 12 May 2025 19:51:14 +0200 (CEST) Received: by mail-oo1-f98.google.com with SMTP id 006d021491bc7-603f54a6cb5so2589026eaf.0 for ; Mon, 12 May 2025 10:51:14 -0700 (PDT) DKIM-Signature: v=1; a=rsa-sha256; c=relaxed/relaxed; d=iol.unh.edu; s=unh-iol; t=1747072274; x=1747677074; darn=dpdk.org; h=references:in-reply-to:cc:to:from:subject:message-id:date:from:to :cc:subject:date:message-id:reply-to; bh=+ckTO7QdXmlmbxzz57GX4VBi6N0lIJNJF40x7yHIey0=; b=MvUnGKRG6ObHK6MULO5b+WGjOHm0EFAl+XPJqNsPge8qvjDFaykeZkUwvUlmcms8mz fM1KijRF/oTPENqxuZtKjCrjbWpjSjTm+VRNfuhHwyGeyQ9TxuVRdOxpPgVYIVFOLjZw u1tLfzT159UFR7sl1GMKOPRRAUV6bY5ZpnHA0= X-Google-DKIM-Signature: v=1; a=rsa-sha256; c=relaxed/relaxed; d=1e100.net; s=20230601; t=1747072274; x=1747677074; h=references:in-reply-to:cc:to:from:subject:message-id:date :x-gm-message-state:from:to:cc:subject:date:message-id:reply-to; bh=+ckTO7QdXmlmbxzz57GX4VBi6N0lIJNJF40x7yHIey0=; b=XJp4GkVipwCdUP1ZmJSUilQH5Lcece95vwCp3wSjBSHmtD8hZrjW25M45M3zc9gWV3 eumlwQN9JLC7635a+BqNLgjL2ULcPjTU2sEntIg0iIR71anGrRg2cSrhHT55IjrCnxuR mWVttbifw/GUaaen9oeP+y6xK0jJMe8nDAWntrmByuK7G4QhqSZkSNspYY7MXAPuTt1Y yAA4YwsoVkQElI8Dpypi3gkIlzxxtOJEugv28c3ySeNxprQC2W6tjOstogIhNh6O3t15 jPn/WmMgu5kUwBUwsVQXDPALc9XYLxLhrWERoKXH4qni2iuef6K3S/SXzUcT+97k9c4L 64IQ== X-Gm-Message-State: AOJu0YxOlxQ529KvyaDQ0JQZ4kFzi/hfnZi2wq4FlXVnzuGzLE9pDmTe XyqhK1bMCl8BApekLRLcM++de4dP++BtjbDqdAnNyw1VmuAGe3QZPxCmYXsf9VtRx7xyo94Nsvk 1IQuYVEnsWpIIh9p5D5Kb0voGgBIvRWwOUcMUxnoUj9A/LgBJwACMUbKh X-Gm-Gg: ASbGnct5NT1QIoPU5PN8l25UAfNaK9xTkd86vwyFYelHRzYI7I8slVzrjHZ0UeCrXzA kE+PrtQ+xcfCre+dXXS09khom37EymZAbH6r2NDqoLSFa5EgpPObYzhqrFYxJLNEp3zkOQ9KWrR 9dBPV0DeaQrmwmj4SQv60xFuCXmUnG0r02YKA2CnlXGRsLQ/kQ0TKXRAkonMJHc09CN6o2AfO8B x4tH/b9886b7UTw199uazHr+RGipfvKW7DTCZSJjK+H5bnydl0/f1b7ramzgTKnAtHK6gbHWO+K 5abI6Ahwok49DFf843pXpW/XIFF+WVH26fq4 X-Google-Smtp-Source: AGHT+IEro77rJJIImTM5t7iw/+FkAp/VqGaaF/uCftY3moxq64lrFc9azGJLRl1wI1mjrrD1daIYB4NKVSbV X-Received: by 2002:a05:6820:3082:b0:603:f191:a93c with SMTP id 006d021491bc7-6084c101fa0mr8680960eaf.6.1747072273763; Mon, 12 May 2025 10:51:13 -0700 (PDT) Received: from postal.iol.unh.edu (postal.iol.unh.edu. [2606:4100:3880:1234::84]) by smtp-relay.gmail.com with ESMTPS id 006d021491bc7-6083fe3ec41sm176376eaf.6.2025.05.12.10.51.13 (version=TLS1_2 cipher=ECDHE-ECDSA-AES128-GCM-SHA256 bits=128/128); Mon, 12 May 2025 10:51:13 -0700 (PDT) X-Relaying-Domain: iol.unh.edu Date: Mon, 12 May 2025 10:51:13 -0700 (PDT) Message-ID: <68223511.050a0220.165b88.945dSMTPIN_ADDED_MISSING@mx.google.com> Received: from [172.17.0.3] (unknown [172.18.0.74]) by postal.iol.unh.edu (Postfix) with ESMTP id 3F67E6052471; Mon, 12 May 2025 13:51:13 -0400 (EDT) Subject: |SUCCESS| pw153421 [PATCH] [v2] cnxk: use stdatomic API From: dpdklab@iol.unh.edu To: Test Report Cc: dpdk-test-reports@iol.unh.edu In-Reply-To: <20250512135847.3804-1-pbhagavatula@marvell.com> References: <20250512135847.3804-1-pbhagavatula@marvell.com> Content-Type: text/plain X-BeenThere: test-report@dpdk.org X-Mailman-Version: 2.1.29 Precedence: list List-Id: automatic DPDK test reports List-Unsubscribe: , List-Archive: List-Post: List-Help: List-Subscribe: , Errors-To: test-report-bounces@dpdk.org Test-Label: iol-compile-arm64-testing Test-Status: SUCCESS http://dpdk.org/patch/153421 _Testing PASS_ Submitter: Pavan Nikhilesh Bhagavatula Date: Monday, May 12 2025 13:58:46 DPDK git baseline: Repo:dpdk Branch: master CommitID:75f179ebe347b6098cf3af26d3d3b7168fe3fe24 153421 --> testing pass Upstream job id: Generic-DPDK-Compile-Meson#387308 Test environment and result as below: +----------------------------------------+--------------------+ | Environment | dpdk_meson_compile | +========================================+====================+ | RHEL9 (ARM) | PASS | +----------------------------------------+--------------------+ | Ubuntu 20.04 ARM GCC Cross Compile | PASS | +----------------------------------------+--------------------+ | Ubuntu 20.04 ARM SVE | PASS | +----------------------------------------+--------------------+ | Debian 12 with MUSDK | PASS | +----------------------------------------+--------------------+ | Fedora 40 (ARM) | PASS | +----------------------------------------+--------------------+ | Fedora 41 (ARM Clang) | PASS | +----------------------------------------+--------------------+ | Fedora 41 (ARM) | PASS | +----------------------------------------+--------------------+ | Fedora 40 (ARM Clang) | PASS | +----------------------------------------+--------------------+ | Ubuntu 22.04 (ARM) | PASS | +----------------------------------------+--------------------+ | Ubuntu 20.04 (ARM) | PASS | +----------------------------------------+--------------------+ | Ubuntu 24.04 (ARM) | PASS | +----------------------------------------+--------------------+ | Debian 12 (arm) | PASS | +----------------------------------------+--------------------+ | CentOS Stream 10 (ARM) | PASS | +----------------------------------------+--------------------+ | CentOS Stream 9 (ARM) | PASS | +----------------------------------------+--------------------+ | Ubuntu 20.04 ARM Clang Cross Compile | PASS | +----------------------------------------+--------------------+ | Ubuntu 20.04 aarch32 GCC Cross Compile | PASS | +----------------------------------------+--------------------+ RHEL9 (ARM) Kernel: Depends on container host Compiler: gcc 11.5.0 20240719 (Red Hat 11.5.0-2) Ubuntu 20.04 ARM GCC Cross Compile Kernel: Depends on container host Compiler: aarch64-linux-gnu-gcc (Ubuntu 9.4.0-1ubuntu1~20.04.2) 9.4.0 Ubuntu 20.04 ARM SVE Kernel: Depends on container host Compiler: gcc (Ubuntu 10.5.0-1ubuntu1~20.04) 10.5.0 Debian 12 with MUSDK Kernel: Depends on container host Compiler: gcc (Debian 12.2.0-14) 12.2.0 Fedora 40 (ARM) Kernel: Depends on container host Compiler: gcc 14.2.1 20240912 (Red Hat 14.2.1-3) Fedora 41 (ARM Clang) Kernel: Depends on container host Compiler: clang 19.1.5 (Fedora 19.1.5-1.fc41) Fedora 41 (ARM) Kernel: Depends on container host Compiler: gcc 14.2.1 20240912 (Red Hat 14.2.1-3) Fedora 40 (ARM Clang) Kernel: Depends on container host Compiler: clang 18.1.8 (Fedora 18.1.8-1.fc40) Ubuntu 22.04 (ARM) Kernel: Depends on container host Compiler: gcc (Ubuntu 11.4.0-1ubuntu1~22.04) 11.4.0 Ubuntu 20.04 (ARM) Kernel: Depends on container host Compiler: gcc (Ubuntu 9.4.0-1ubuntu1~20.04.2) 9.4.0 Ubuntu 24.04 (ARM) Kernel: Depends on container host Compiler: gcc (Ubuntu 13.3.0-6ubuntu2~24.04) 13.3.0 Debian 12 (arm) Kernel: Depends on container host Compiler: gcc (Debian 12.2.0-14) 12.2.0 CentOS Stream 10 (ARM) Kernel: Depends on container host Compiler: gcc 14.2.1 20241104 (Red Hat 14.2.1-6) CentOS Stream 9 (ARM) Kernel: Depends on container host Compiler: gcc 11.5.0 20240719 (Red Hat 11.5.0-2) Ubuntu 20.04 ARM Clang Cross Compile Kernel: Depends on container host Compiler: clang 10.0.0-4ubuntu1 Ubuntu 20.04 aarch32 GCC Cross Compile Kernel: Depends on container host Compiler: gcc 9.4.0 To view detailed results, visit: https://lab.dpdk.org/results/dashboard/patchsets/33157/ UNH-IOL DPDK Community Lab To manage your email subscriptions, visit: https://lab.dpdk.org/results/dashboard/preferences/subscriptions/