From mboxrd@z Thu Jan 1 00:00:00 1970 Return-Path: Received: from mails.dpdk.org (mails.dpdk.org [217.70.189.124]) by inbox.dpdk.org (Postfix) with ESMTP id ABF0946729 for ; Mon, 12 May 2025 19:53:43 +0200 (CEST) Received: from mails.dpdk.org (localhost [127.0.0.1]) by mails.dpdk.org (Postfix) with ESMTP id 985F24026C; Mon, 12 May 2025 19:53:43 +0200 (CEST) Received: from mail-ot1-f99.google.com (mail-ot1-f99.google.com [209.85.210.99]) by mails.dpdk.org (Postfix) with ESMTP id 3A3B24025F for ; Mon, 12 May 2025 19:53:42 +0200 (CEST) Received: by mail-ot1-f99.google.com with SMTP id 46e09a7af769-72ec58e45baso3285525a34.2 for ; Mon, 12 May 2025 10:53:42 -0700 (PDT) DKIM-Signature: v=1; a=rsa-sha256; c=relaxed/relaxed; d=iol.unh.edu; s=unh-iol; t=1747072421; x=1747677221; darn=dpdk.org; h=references:in-reply-to:cc:to:from:subject:message-id:date:from:to :cc:subject:date:message-id:reply-to; bh=UK/rE/TibaKOTNF+URhOilawlIftf8BelfqLEAMakfU=; b=EnsZYZplMl5l5PYrAsr5LBdxSwd9mpXuCRW89ONN+j+bDQRBlqIz3fVqm0wx68evKW 4/ffyQbL9JTlcNRxdCzbY/UdVVfjgSZ+wVTrxHFAQx0akI5KqLVQ78szAdlgBjA/Pq9c CpQsQkzKuFRJUeflHYO2ushR+cghejVYTczRc= X-Google-DKIM-Signature: v=1; a=rsa-sha256; c=relaxed/relaxed; d=1e100.net; s=20230601; t=1747072421; x=1747677221; h=references:in-reply-to:cc:to:from:subject:message-id:date :x-gm-message-state:from:to:cc:subject:date:message-id:reply-to; bh=UK/rE/TibaKOTNF+URhOilawlIftf8BelfqLEAMakfU=; b=F8gp3xm4yrq+LfZ+/iHBqNiBu39+LeFydn7JYW3GcV0hp5ddfzqkKx8rGDcGRE0ddl NfFbkbsdOv0DI7Dx+tWL4OnWuImQwgXWZUJEcWkTuV9pOBjqLeZacM83dctjHQWc+4jk Jv8rhqY5x/KqCEME4itGSWlZkMM/CFKX//uNnr1QiKJof4Cco/zr0LTFRRUT4/ZTFKzr 1YOGHNWi3DMgdblauDmlasHKR15VrQ7yFpSw3HcN/FsV5umFmQeEF8BVHSSJoohW4lOm TyYBRqLRe9xkrXeYfsETaN4MXIivIhJhCgPQ/mDoDwnwkpDUrtJiSt4lVsZUuPwdwcQN txXQ== X-Gm-Message-State: AOJu0Yyh6RLQSi/bVAsqWCguoMxLRxkJfwwEyRjw0AdsN6HlwTNOnwwC LKEfaFcnQHgSMC/79bb3dfbWxwj3x03q+9I4WFivam8VxQ7De2ksQo2r2YCzGnKZfXT0Fuow8Vk df3kq4O5Ck8W7yRdP4zg2QwOe6zv8TrygpSeTKrlm X-Gm-Gg: ASbGncu1nK4Xc22IpCjNzouK4CA/MQX1NPzSGuss7d7xXgsgIg0IH4ZF2vACfCZxbj3 0u4TsRWJk/loUWMbvxCv5LPcneMDyScaiNM/m5I+DcyEcMi7gMG27Uv7WNMUb/1gfn5Mnix3Lac LCywS9Sal4/dhZNNz5tvgHDBuDDSo1XhMDO3zu1AopMwSW8BQHwgKLIpzVleBZD+mFSoffH6rYT oM0EglZfCFDqrbiKXtSCtLvcT5c7WbAvVlup8OSajSZZ82NyeIZlGSOdEQQ/2fl5WrnT99Vtg2h n3G7G/+bT7fjR1891NIoruheGM/9k1dr8nzCwUWBAM7xeTUl/Z5jKci22Nk= X-Google-Smtp-Source: AGHT+IFuE1ekrLHxFQ+8R8ggeGWAmJbKvCZDGjn00oJNCTh8M2NjIqlQBN5KH6ma4x80PTY3HUDi19op0x+D X-Received: by 2002:a05:6830:71a2:b0:727:3664:ca30 with SMTP id 46e09a7af769-73226a17eb5mr9156199a34.16.1747072421400; Mon, 12 May 2025 10:53:41 -0700 (PDT) Received: from postal.iol.unh.edu (postal.iol.unh.edu. [132.177.123.84]) by smtp-relay.gmail.com with ESMTPS id 46e09a7af769-732265b5efesm207117a34.10.2025.05.12.10.53.41 (version=TLS1_2 cipher=ECDHE-ECDSA-AES128-GCM-SHA256 bits=128/128); Mon, 12 May 2025 10:53:41 -0700 (PDT) X-Relaying-Domain: iol.unh.edu Date: Mon, 12 May 2025 10:53:41 -0700 (PDT) Message-ID: <682235a5.050a0220.bdaaa.a9c2SMTPIN_ADDED_MISSING@mx.google.com> Received: from [172.17.0.3] (unknown [172.18.0.74]) by postal.iol.unh.edu (Postfix) with ESMTP id D64106052471; Mon, 12 May 2025 13:53:40 -0400 (EDT) Subject: |SUCCESS| pw153408-153420 [PATCH] [v3,13/13] net/intel: add common T From: dpdklab@iol.unh.edu To: Test Report Cc: dpdk-test-reports@iol.unh.edu In-Reply-To: <3c5ab3604e55ea75a942a0d6ddcb5c52aa5a1ce0.1747054471.git.anatoly.burakov@intel.com> References: <3c5ab3604e55ea75a942a0d6ddcb5c52aa5a1ce0.1747054471.git.anatoly.burakov@intel.com> Content-Type: text/plain X-BeenThere: test-report@dpdk.org X-Mailman-Version: 2.1.29 Precedence: list List-Id: automatic DPDK test reports List-Unsubscribe: , List-Archive: List-Post: List-Help: List-Subscribe: , Errors-To: test-report-bounces@dpdk.org Test-Label: iol-compile-arm64-testing Test-Status: SUCCESS http://dpdk.org/patch/153420 _Testing PASS_ Submitter: Anatoly Burakov Date: Monday, May 12 2025 12:54:39 DPDK git baseline: Repo:dpdk Branch: master CommitID:7cf0355db9fdab5648b05fd787356c391c510534 153408-153420 --> testing pass Upstream job id: Generic-DPDK-Compile-Meson#387339 Test environment and result as below: +----------------------------------------+--------------------+ | Environment | dpdk_meson_compile | +========================================+====================+ | RHEL9 (ARM) | PASS | +----------------------------------------+--------------------+ | Ubuntu 20.04 ARM GCC Cross Compile | PASS | +----------------------------------------+--------------------+ | Ubuntu 20.04 ARM SVE | PASS | +----------------------------------------+--------------------+ | Debian 12 with MUSDK | PASS | +----------------------------------------+--------------------+ | Fedora 40 (ARM) | PASS | +----------------------------------------+--------------------+ | Fedora 41 (ARM) | PASS | +----------------------------------------+--------------------+ | Ubuntu 20.04 (ARM) | PASS | +----------------------------------------+--------------------+ | Fedora 41 (ARM Clang) | PASS | +----------------------------------------+--------------------+ | Fedora 40 (ARM Clang) | PASS | +----------------------------------------+--------------------+ | CentOS Stream 9 (ARM) | PASS | +----------------------------------------+--------------------+ | Ubuntu 20.04 ARM Clang Cross Compile | PASS | +----------------------------------------+--------------------+ | Ubuntu 24.04 (ARM) | PASS | +----------------------------------------+--------------------+ | CentOS Stream 10 (ARM) | PASS | +----------------------------------------+--------------------+ | Debian 12 (arm) | PASS | +----------------------------------------+--------------------+ | Ubuntu 22.04 (ARM) | PASS | +----------------------------------------+--------------------+ | Ubuntu 20.04 aarch32 GCC Cross Compile | PASS | +----------------------------------------+--------------------+ RHEL9 (ARM) Kernel: Depends on container host Compiler: gcc 11.5.0 20240719 (Red Hat 11.5.0-2) Ubuntu 20.04 ARM GCC Cross Compile Kernel: Depends on container host Compiler: aarch64-linux-gnu-gcc (Ubuntu 9.4.0-1ubuntu1~20.04.2) 9.4.0 Ubuntu 20.04 ARM SVE Kernel: Depends on container host Compiler: gcc (Ubuntu 10.5.0-1ubuntu1~20.04) 10.5.0 Debian 12 with MUSDK Kernel: Depends on container host Compiler: gcc (Debian 12.2.0-14) 12.2.0 Fedora 40 (ARM) Kernel: Depends on container host Compiler: gcc 14.2.1 20240912 (Red Hat 14.2.1-3) Fedora 41 (ARM) Kernel: Depends on container host Compiler: gcc 14.2.1 20240912 (Red Hat 14.2.1-3) Ubuntu 20.04 (ARM) Kernel: Depends on container host Compiler: gcc (Ubuntu 9.4.0-1ubuntu1~20.04.2) 9.4.0 Fedora 41 (ARM Clang) Kernel: Depends on container host Compiler: clang 19.1.5 (Fedora 19.1.5-1.fc41) Fedora 40 (ARM Clang) Kernel: Depends on container host Compiler: clang 18.1.8 (Fedora 18.1.8-1.fc40) CentOS Stream 9 (ARM) Kernel: Depends on container host Compiler: gcc 11.5.0 20240719 (Red Hat 11.5.0-2) Ubuntu 20.04 ARM Clang Cross Compile Kernel: Depends on container host Compiler: clang 10.0.0-4ubuntu1 Ubuntu 24.04 (ARM) Kernel: Depends on container host Compiler: gcc (Ubuntu 13.3.0-6ubuntu2~24.04) 13.3.0 CentOS Stream 10 (ARM) Kernel: Depends on container host Compiler: gcc 14.2.1 20241104 (Red Hat 14.2.1-6) Debian 12 (arm) Kernel: Depends on container host Compiler: gcc (Debian 12.2.0-14) 12.2.0 Ubuntu 22.04 (ARM) Kernel: Depends on container host Compiler: gcc (Ubuntu 11.4.0-1ubuntu1~22.04) 11.4.0 Ubuntu 20.04 aarch32 GCC Cross Compile Kernel: Depends on container host Compiler: gcc 9.4.0 To view detailed results, visit: https://lab.dpdk.org/results/dashboard/patchsets/33156/ UNH-IOL DPDK Community Lab To manage your email subscriptions, visit: https://lab.dpdk.org/results/dashboard/preferences/subscriptions/