From mboxrd@z Thu Jan 1 00:00:00 1970 Return-Path: Received: from mails.dpdk.org (mails.dpdk.org [217.70.189.124]) by inbox.dpdk.org (Postfix) with ESMTP id 566DA4672B for ; Mon, 12 May 2025 20:00:14 +0200 (CEST) Received: from mails.dpdk.org (localhost [127.0.0.1]) by mails.dpdk.org (Postfix) with ESMTP id 354934026C; Mon, 12 May 2025 20:00:14 +0200 (CEST) Received: from mail-yb1-f226.google.com (mail-yb1-f226.google.com [209.85.219.226]) by mails.dpdk.org (Postfix) with ESMTP id 9D2FA4025F for ; Mon, 12 May 2025 20:00:12 +0200 (CEST) Received: by mail-yb1-f226.google.com with SMTP id 3f1490d57ef6-e78f528aa8eso3916971276.3 for ; Mon, 12 May 2025 11:00:12 -0700 (PDT) DKIM-Signature: v=1; a=rsa-sha256; c=relaxed/relaxed; d=iol.unh.edu; s=unh-iol; t=1747072812; x=1747677612; darn=dpdk.org; h=references:in-reply-to:cc:to:from:subject:message-id:date:from:to :cc:subject:date:message-id:reply-to; bh=+jaQD0ylJEP9uEjoKBc2ZfW8qf4dScqrHRXjkvrUT74=; b=CkqOtYHiWS75FDOG3y/pPkJJpV5Krm5udKlpWTs/lqw4niWbWSuQ+s6Jk0ST7qpFNL 0pM2b/xJQAuDlTSe+HbivcOm7chlT5rqU2SfmtcClFl6kAwETMyfG375G7UrCbqqG1LV n4BhNjDM5oVB2ucqJ9EUk1xfhikC8KeahHEIg= X-Google-DKIM-Signature: v=1; a=rsa-sha256; c=relaxed/relaxed; d=1e100.net; s=20230601; t=1747072812; x=1747677612; h=references:in-reply-to:cc:to:from:subject:message-id:date :x-gm-message-state:from:to:cc:subject:date:message-id:reply-to; bh=+jaQD0ylJEP9uEjoKBc2ZfW8qf4dScqrHRXjkvrUT74=; b=JuqqnSoQ9UBkGYwPhLwsE4mMhlln8mKKQ7AJ0+8ocyWYyFS8qsETeYU1Un7TrlUW7Q 0kGphDvdiTZtxp11C6XokAFgMRB1EmPUPcUq+tfYtfkTRWHRLHXaJKDwXWIx+GZTSyHy 1f7+P8qsKD1+A8oZJad5C+v3x3V1VRJFmEx2fbTjQOYIH/PaD4oqW003TR9ihLw7YaFn CcNwOL/BOSCPIM2rk3rzMwHEhwQVqCoaET2Ciixhbk4dr1JKHvMRDDbZcxGH/HlinCE9 F6G8mtoizZh0axUOq3ieH0wFVMd4vurgupMNLXemJdl5Yk4BHVNTiagnGpYn//L775fd dcaQ== X-Gm-Message-State: AOJu0YwAoy/8//tH2Cguil92Fg3mkrzOYTYsdAxcaEQXhjq+aKU7lDo3 Iwk0H0S+rp+5pujpdv3TS4z3tIhlK3yL4ymTF1r0giN8u7/lgCZM7975AniW+AikjnIJA+VvlDv Vcr08IAJae/MwAw5ovOjcRLWiMt6LtGbhdq9x4ujiSfGyMZ03+FL/7QAO X-Gm-Gg: ASbGncs4sS92HVLyi4mexf7tyMkHAJnuUZedqcD0CaKCO1PXaaB32RS5A+6WmOMjECO h/3sN3fQov8DuD8mjF1fZJJszjfw2fZoHTOxhX+d2nlZxxiGaMqfTB/LpE3fxgASt03V7NQoshe 6qnOSWaIQgYXRVejHF9HZPpJjA3aTeb5J4XcNl9hs3XZNorlbjVcV68wNAUgcuMmqguidDVVKh8 Aunhs/7lurq5QGLHAnHiqfcAIOCcA+NDA1H/ts2g4WyHGTKdJ1BrMrJtbISiZ8XDNGzBtgmgxVf CAahtsJMf7aBmS3qcrTKDhpYHnpAmlkQ4E4a X-Google-Smtp-Source: AGHT+IE055cSCuAIHABi+RlW+fKng6uT/5TEB1Dl8ktD8DQiHiNkBu5+4HG3xu1qwMruRDnvD0uRb84dnfgJ X-Received: by 2002:a05:6902:1148:b0:e6d:f160:bbdf with SMTP id 3f1490d57ef6-e78fdd40143mr18238773276.36.1747072811746; Mon, 12 May 2025 11:00:11 -0700 (PDT) Received: from postal.iol.unh.edu (postal.iol.unh.edu. [2606:4100:3880:1234::84]) by smtp-relay.gmail.com with ESMTPS id 3f1490d57ef6-e78fd454719sm488739276.4.2025.05.12.11.00.11 (version=TLS1_2 cipher=ECDHE-ECDSA-AES128-GCM-SHA256 bits=128/128); Mon, 12 May 2025 11:00:11 -0700 (PDT) X-Relaying-Domain: iol.unh.edu Date: Mon, 12 May 2025 11:00:11 -0700 (PDT) Message-ID: <6822372b.250a0220.15410c.a6efSMTPIN_ADDED_MISSING@mx.google.com> Received: from [172.17.0.3] (unknown [172.18.0.74]) by postal.iol.unh.edu (Postfix) with ESMTP id 3B8AF6052471; Mon, 12 May 2025 14:00:11 -0400 (EDT) Subject: |SUCCESS| pw153408-153420 [PATCH] [v3,13/13] net/intel: add common T From: dpdklab@iol.unh.edu To: Test Report Cc: dpdk-test-reports@iol.unh.edu In-Reply-To: <3c5ab3604e55ea75a942a0d6ddcb5c52aa5a1ce0.1747054471.git.anatoly.burakov@intel.com> References: <3c5ab3604e55ea75a942a0d6ddcb5c52aa5a1ce0.1747054471.git.anatoly.burakov@intel.com> Content-Type: text/plain X-BeenThere: test-report@dpdk.org X-Mailman-Version: 2.1.29 Precedence: list List-Id: automatic DPDK test reports List-Unsubscribe: , List-Archive: List-Post: List-Help: List-Subscribe: , Errors-To: test-report-bounces@dpdk.org Test-Label: iol-unit-arm64-testing Test-Status: SUCCESS http://dpdk.org/patch/153420 _Testing PASS_ Submitter: Anatoly Burakov Date: Monday, May 12 2025 12:54:39 DPDK git baseline: Repo:dpdk Branch: master CommitID:7cf0355db9fdab5648b05fd787356c391c510534 153408-153420 --> testing pass Upstream job id: Generic-Unit-Test-DPDK#337252 Test environment and result as below: +-----------------------------+--------------+---------------------------+------------------------------+----------------+ | Environment | lpm_autotest | cryptodev_sw_zuc_autotest | cryptodev_sw_snow3g_autotest | dpdk_unit_test | +=============================+==============+===========================+==============================+================+ | Ubuntu 20.04 ARM SVE | PASS | SKIPPED | SKIPPED | SKIPPED | +-----------------------------+--------------+---------------------------+------------------------------+----------------+ | Debian 12 (arm) | SKIPPED | PASS | PASS | PASS | +-----------------------------+--------------+---------------------------+------------------------------+----------------+ | CentOS Stream 9 (ARM) | SKIPPED | SKIPPED | SKIPPED | PASS | +-----------------------------+--------------+---------------------------+------------------------------+----------------+ | CentOS Stream 10 (ARM) | SKIPPED | SKIPPED | SKIPPED | PASS | +-----------------------------+--------------+---------------------------+------------------------------+----------------+ | Fedora 40 (ARM) | SKIPPED | SKIPPED | SKIPPED | PASS | +-----------------------------+--------------+---------------------------+------------------------------+----------------+ | Fedora 41 (ARM Clang) | SKIPPED | SKIPPED | SKIPPED | PASS | +-----------------------------+--------------+---------------------------+------------------------------+----------------+ | Fedora 40 (ARM Clang) | SKIPPED | SKIPPED | SKIPPED | PASS | +-----------------------------+--------------+---------------------------+------------------------------+----------------+ | RHEL9 (ARM) | SKIPPED | SKIPPED | SKIPPED | PASS | +-----------------------------+--------------+---------------------------+------------------------------+----------------+ | Fedora 41 (ARM) | SKIPPED | SKIPPED | SKIPPED | PASS | +-----------------------------+--------------+---------------------------+------------------------------+----------------+ | Ubuntu 20.04 (ARM) | SKIPPED | SKIPPED | SKIPPED | PASS | +-----------------------------+--------------+---------------------------+------------------------------+----------------+ | Ubuntu 22.04 (ARM) | SKIPPED | SKIPPED | SKIPPED | PASS | +-----------------------------+--------------+---------------------------+------------------------------+----------------+ | Ubuntu 24.04 (ARM) | SKIPPED | SKIPPED | SKIPPED | PASS | +-----------------------------+--------------+---------------------------+------------------------------+----------------+ | 32-bit Ubuntu 22.04.4 (ARM) | SKIPPED | SKIPPED | SKIPPED | PASS | +-----------------------------+--------------+---------------------------+------------------------------+----------------+ Ubuntu 20.04 ARM SVE Kernel: Depends on container host Compiler: gcc (Ubuntu 10.5.0-1ubuntu1~20.04) 10.5.0 Debian 12 (arm) Kernel: Depends on container host Compiler: gcc (Debian 12.2.0-14) 12.2.0 CentOS Stream 9 (ARM) Kernel: Depends on container host Compiler: gcc 11.5.0 20240719 (Red Hat 11.5.0-2) CentOS Stream 10 (ARM) Kernel: Depends on container host Compiler: gcc 14.2.1 20241104 (Red Hat 14.2.1-6) Fedora 40 (ARM) Kernel: Depends on container host Compiler: gcc 14.2.1 20240912 (Red Hat 14.2.1-3) Fedora 41 (ARM Clang) Kernel: Depends on container host Compiler: clang 19.1.5 (Fedora 19.1.5-1.fc41) Fedora 40 (ARM Clang) Kernel: Depends on container host Compiler: clang 18.1.8 (Fedora 18.1.8-1.fc40) RHEL9 (ARM) Kernel: Depends on container host Compiler: gcc 11.5.0 20240719 (Red Hat 11.5.0-2) Fedora 41 (ARM) Kernel: Depends on container host Compiler: gcc 14.2.1 20240912 (Red Hat 14.2.1-3) Ubuntu 20.04 (ARM) Kernel: Depends on container host Compiler: gcc (Ubuntu 9.4.0-1ubuntu1~20.04.2) 9.4.0 Ubuntu 22.04 (ARM) Kernel: Depends on container host Compiler: gcc (Ubuntu 11.4.0-1ubuntu1~22.04) 11.4.0 Ubuntu 24.04 (ARM) Kernel: Depends on container host Compiler: gcc (Ubuntu 13.3.0-6ubuntu2~24.04) 13.3.0 32-bit Ubuntu 22.04.4 (ARM) Kernel: 5.15.83+ aarch64 Compiler: gcc (Ubuntu 11.4.0-1ubuntu1~22.04) 11.4.0 To view detailed results, visit: https://lab.dpdk.org/results/dashboard/patchsets/33156/ UNH-IOL DPDK Community Lab To manage your email subscriptions, visit: https://lab.dpdk.org/results/dashboard/preferences/subscriptions/