From mboxrd@z Thu Jan 1 00:00:00 1970 Return-Path: Received: from mails.dpdk.org (mails.dpdk.org [217.70.189.124]) by inbox.dpdk.org (Postfix) with ESMTP id BDDA04672B for ; Mon, 12 May 2025 20:03:51 +0200 (CEST) Received: from mails.dpdk.org (localhost [127.0.0.1]) by mails.dpdk.org (Postfix) with ESMTP id 8FD104026C; Mon, 12 May 2025 20:03:51 +0200 (CEST) Received: from mail-io1-f97.google.com (mail-io1-f97.google.com [209.85.166.97]) by mails.dpdk.org (Postfix) with ESMTP id C8F854025F for ; Mon, 12 May 2025 20:03:49 +0200 (CEST) Received: by mail-io1-f97.google.com with SMTP id ca18e2360f4ac-861b1f04b99so127440939f.0 for ; Mon, 12 May 2025 11:03:49 -0700 (PDT) DKIM-Signature: v=1; a=rsa-sha256; c=relaxed/relaxed; d=iol.unh.edu; s=unh-iol; t=1747073029; x=1747677829; darn=dpdk.org; h=references:in-reply-to:cc:to:from:subject:message-id:date:from:to :cc:subject:date:message-id:reply-to; bh=MhHawDdFgwCcOOx3C3iPZ6NZ391C4RyZB8TcUeyvLKQ=; b=V7sZmkb7I1Vil89h/RnwRvV0PFaP58N9BhK07Tp5zOpVyfa1NgIOPUdgsZ5ZdN0i0P uoh0KQ8oEDtVlI+ZjXexOuat7OqjRpSHB8mTXpiWPc6epIJK4j/FcajE1SrVzoXnU/Py VgWitQjKmLDSwi9PFc6Z+H90ITdKgcr/4W+j8= X-Google-DKIM-Signature: v=1; a=rsa-sha256; c=relaxed/relaxed; d=1e100.net; s=20230601; t=1747073029; x=1747677829; h=references:in-reply-to:cc:to:from:subject:message-id:date :x-gm-message-state:from:to:cc:subject:date:message-id:reply-to; bh=MhHawDdFgwCcOOx3C3iPZ6NZ391C4RyZB8TcUeyvLKQ=; b=c1oP6Vvru4Kc8fPSh/igHqER1jOxCghLFJygRNjRNDFMxD9u3gKcmKUrtIRQaeM8n2 LSkH5dJqUMp0PQRfThAtCbTqGWSmULg1KrlQqcOHcPTAvov9UzbHm+xmzHirCkn5e/0b ws4gcr6UUq3MDbRx67rVtncbsLkAadudc56rzFsAnqrankG4BxNohgpKt+D1qWVzHGJS /FpA9fGRHPUaI+3TKygEFha6b+fTZZfMrGPpTCdGLoHT4/Qqt76RKWXaRsgmj3I5/1pl W713TLrP5ewETnmyUmczZvUtYo9BGgXIjknmTpwoghBcf5Le3G99NY33w4f+7TR9oBzo +eWg== X-Gm-Message-State: AOJu0Yzvr6Lk3XoIlpZ4UPoDsi7NOYe/NrAbLrTJDFWZbQC8/cTrkUGv MTlwGSSYCk4JTRb4UoHvvAc8cRTbG5vLyoeO+Qxo/GZRw2QbiLvMgFhRbwePDObtvqVHMTSWAJH jgADH1jw/AGFa/vv7TiRtccuJ6VXkWTi+KxKYb787ZF/8EhpmylwrKE9y X-Gm-Gg: ASbGncszoxO5NUttXzxRQlAoA/V8vvBvmqg5+bl+D9rUyMhDre8SAf2JTqefXwh8KXH E+M1SUiMJWcZF8TdmqPJMfqk41QKCsHS3wWKHp1r+T3mN+ZLdGEO4YvYIgvcOq8RQUFyu7mZoNd z4C3/tvSDT297JYygwf2OwMoqFGzqCaJpymVgG5mexsc+dOUvLsi0GurO3S2hShNY+Uk44p9oqe QyV4lnk76tlKRg0ypUUi7k8xj2Qm0shBV1Uy9QfkFtr7IECk10YueEoO47IflaY87xdYOhs5Lel NICm7Rxy8WHF7d4MtxrCALveJYzVMO9+lLsK X-Google-Smtp-Source: AGHT+IEbWo3CnIptpSYU/0pT8zFteMWa17eqfhutuZftXD5M4C9DgxVyargkMUI9OVSSeearO+AeFdMf+AT7 X-Received: by 2002:a92:c26d:0:b0:3d8:8900:9a30 with SMTP id e9e14a558f8ab-3da7e2174camr156035745ab.20.1747073028590; Mon, 12 May 2025 11:03:48 -0700 (PDT) Received: from postal.iol.unh.edu (postal.iol.unh.edu. [2606:4100:3880:1234::84]) by smtp-relay.gmail.com with ESMTPS id e9e14a558f8ab-3da7e102fe2sm5181095ab.17.2025.05.12.11.03.48 (version=TLS1_2 cipher=ECDHE-ECDSA-AES128-GCM-SHA256 bits=128/128); Mon, 12 May 2025 11:03:48 -0700 (PDT) X-Relaying-Domain: iol.unh.edu Date: Mon, 12 May 2025 11:03:48 -0700 (PDT) Message-ID: <68223804.050a0220.1cc4b2.b181SMTPIN_ADDED_MISSING@mx.google.com> Received: from [172.17.0.3] (unknown [172.18.0.74]) by postal.iol.unh.edu (Postfix) with ESMTP id 25B7F6052471; Mon, 12 May 2025 14:03:48 -0400 (EDT) Subject: |SUCCESS| pw153425 [PATCH] net/tap: fix add qdisc failed when create From: dpdklab@iol.unh.edu To: Test Report Cc: dpdk-test-reports@iol.unh.edu In-Reply-To: References: Content-Type: text/plain X-BeenThere: test-report@dpdk.org X-Mailman-Version: 2.1.29 Precedence: list List-Id: automatic DPDK test reports List-Unsubscribe: , List-Archive: List-Post: List-Help: List-Subscribe: , Errors-To: test-report-bounces@dpdk.org Test-Label: iol-unit-amd64-testing Test-Status: SUCCESS http://dpdk.org/patch/153425 _Testing PASS_ Submitter: luyan <973788536@qq.com> Date: Monday, May 12 2025 08:22:04 DPDK git baseline: Repo:dpdk Branch: master CommitID:ff05ee3e3f8fb4ce958a2ce6461e8141aea959c6 153425 --> testing pass Upstream job id: Generic-Unit-Test-DPDK#337284 Test environment and result as below: +---------------------+----------------+ | Environment | dpdk_unit_test | +=====================+================+ | CentOS Stream 10 | PASS | +---------------------+----------------+ | Debian 12 | PASS | +---------------------+----------------+ | Fedora 40 | PASS | +---------------------+----------------+ | Fedora 40 (Clang) | PASS | +---------------------+----------------+ | CentOS Stream 9 | PASS | +---------------------+----------------+ | Fedora 41 | PASS | +---------------------+----------------+ | Ubuntu 20.04 | PASS | +---------------------+----------------+ | Fedora 41 (Clang) | PASS | +---------------------+----------------+ | Ubuntu 22.04 | PASS | +---------------------+----------------+ | Ubuntu 24.04 | PASS | +---------------------+----------------+ | RHEL8 | PASS | +---------------------+----------------+ | RHEL9 | PASS | +---------------------+----------------+ | Windows Server 2022 | PASS | +---------------------+----------------+ CentOS Stream 10 Kernel: Depends on container host Compiler: gcc 14.2.1 20241104 (Red Hat 14.2.1-6) Debian 12 Kernel: Depends on container host Compiler: gcc (Debian 12.2.0-14) 12.2.0 Fedora 40 Kernel: Depends on container host Compiler: gcc 14.2.1 20240912 (Red Hat 14.2.1-3) Fedora 40 (Clang) Kernel: Depends on container host Compiler: clang 18.1.8 (Fedora 18.1.8-1.fc40) CentOS Stream 9 Kernel: Depends on container host Compiler: gcc 11.5.0 20240719 (Red Hat 11.5.0-2) Fedora 41 Kernel: Depends on container host Compiler: gcc 14.2.1 20240912 (Red Hat 14.2.1-3) Ubuntu 20.04 Kernel: Depends on container host Compiler: gcc (Ubuntu 9.4.0-1ubuntu1~20.04.2) 9.4.0 Fedora 41 (Clang) Kernel: Depends on container host Compiler: clang 19.1.5 (Fedora 19.1.5-1.fc41) Ubuntu 22.04 Kernel: Depends on container host Compiler: gcc (Ubuntu 11.4.0-1ubuntu1~22.04) 11.4.0 Ubuntu 24.04 Kernel: Depends on container host Compiler: gcc (Ubuntu 13.3.0-6ubuntu2~24.04) 13.3.0 RHEL8 Kernel: Depends on container host Compiler: gcc 8.5.0 20210514 (Red Hat 8.5.0-22) RHEL9 Kernel: Depends on container host Compiler: gcc 11.5.0 20240719 (Red Hat 11.5.0-2) Windows Server 2022 Kernel: 10.0.20348.2031 Compiler: clang 15.0.7, gcc 14.1.0 (MinGW), and MSVC VS 19.39.33521 To view detailed results, visit: https://lab.dpdk.org/results/dashboard/patchsets/33160/ UNH-IOL DPDK Community Lab To manage your email subscriptions, visit: https://lab.dpdk.org/results/dashboard/preferences/subscriptions/