From mboxrd@z Thu Jan 1 00:00:00 1970 Return-Path: Received: from mails.dpdk.org (mails.dpdk.org [217.70.189.124]) by inbox.dpdk.org (Postfix) with ESMTP id 1E25A4672B for ; Mon, 12 May 2025 20:08:03 +0200 (CEST) Received: from mails.dpdk.org (localhost [127.0.0.1]) by mails.dpdk.org (Postfix) with ESMTP id 008674026C; Mon, 12 May 2025 20:08:03 +0200 (CEST) Received: from mail-qt1-f226.google.com (mail-qt1-f226.google.com [209.85.160.226]) by mails.dpdk.org (Postfix) with ESMTP id 04E664025F for ; Mon, 12 May 2025 20:08:00 +0200 (CEST) Received: by mail-qt1-f226.google.com with SMTP id d75a77b69052e-47691d82bfbso85218681cf.0 for ; Mon, 12 May 2025 11:08:00 -0700 (PDT) DKIM-Signature: v=1; a=rsa-sha256; c=relaxed/relaxed; d=iol.unh.edu; s=unh-iol; t=1747073280; x=1747678080; darn=dpdk.org; h=references:in-reply-to:cc:to:from:subject:message-id:date:from:to :cc:subject:date:message-id:reply-to; bh=LKx933V6wht1MyMXwgbCR6uIspdSZOA7eSF+TLro8HM=; b=jD2c3FmgqnPHey2ue5kj7O/84QTh7pW36p2ai7/lp15h4k/AZXJkb4HS4FxcC7H+wx v3y+Y8fSQK0Wq0u5i2IWaOk18mhnOPs9+2mWzNMY8wgZfQuzGt/o56ViGxAqK//1YUWU d4kfwOJQ5siGI+LTiw8DLpisWNOzGMdbLRfTM= X-Google-DKIM-Signature: v=1; a=rsa-sha256; c=relaxed/relaxed; d=1e100.net; s=20230601; t=1747073280; x=1747678080; h=references:in-reply-to:cc:to:from:subject:message-id:date :x-gm-message-state:from:to:cc:subject:date:message-id:reply-to; bh=LKx933V6wht1MyMXwgbCR6uIspdSZOA7eSF+TLro8HM=; b=rhDoDhhr+tyNRrHLRZYn9QFTrUWb1FmfkIMKr8DaEnpSmQHpS9uVY8+MrGT04lSkK2 7F5x7anExbf0LOPW86Jqnt1apumTahXNxFusxFfscCi0gxgtELHNiirY4OpWwNwiSdK0 2cqleA4fGlweryFOsWFaGCxk0fefr5Gtb9gHtpHC3vZChTN+7m16/xhm8DaeS+sSZ/y8 K8N2yPr8S1+GcQa4Ag+BhKAyS8LWreyS1/5eyeDNSMU42iVOOTnXukhGc1CcI2O7xXRB he4BU1eiSFENBN8ug2FWOD/62Dx88o+86xUhZaITbjV4Vjwk0UcvS/o3eVBFAQOnHaqd m+xA== X-Gm-Message-State: AOJu0YwaqmF+npwHK6ZsMdJJCZh7uCendZhgACEkMtI1wIBTPd/kRHP/ O8CQG5eaq1tCW3g3LAewyZETFDWkRavQOzfyOzpghqg+7MSVD6OAz7MToaccRfymu6h7AG5uzqc t1b4t3T9W1IDG2kbD+ZHxG6uLZE8N4LIO2XXD/gMY X-Gm-Gg: ASbGncuD1EWPjX5SHKGwk1bPQDdv9Jt4TwGgo27yb+TEmT/TxvqJwX+mzUdtXA1DgoR QzMowEvS7BLCucosxn8IyMjR8iSD87ytEx3AS62VMSeDwr4Z7BtxzcOEhCDmobKrEdNo0OcxVgf pLV5ZvHxV6UIdfUTVR7PAcbsRdoCZhOxaVxZ5Dgj2PxMpKK+bKCnAVVZsLkL5GFjqNYIR5mlE3T lJOkvgLrBGddmNTU9hvzsMLVds0oiUTon3sng2k35cC2RXzP2dm6sSnnw42333gs7heMazJy/lD 4U2Uq8yLLgtS68pw8xy6dDNHtD74blK8R7z9SyFPE/7+hwNWSViDG0JMkb8= X-Google-Smtp-Source: AGHT+IE/0LsRWGpR2uNf69uxpvdikXKQrkY0DCCZGBjFz1hNsCKLHcdvwa265TCVCea905txhh5qnMJq3zHl X-Received: by 2002:a05:622a:620a:b0:48b:5789:34ac with SMTP id d75a77b69052e-4945270d761mr252869081cf.3.1747073280241; Mon, 12 May 2025 11:08:00 -0700 (PDT) Received: from postal.iol.unh.edu (postal.iol.unh.edu. [132.177.123.84]) by smtp-relay.gmail.com with ESMTPS id a1e0cc1a2514c-879f62da053sm179178241.17.2025.05.12.11.08.00 (version=TLS1_2 cipher=ECDHE-ECDSA-AES128-GCM-SHA256 bits=128/128); Mon, 12 May 2025 11:08:00 -0700 (PDT) X-Relaying-Domain: iol.unh.edu Date: Mon, 12 May 2025 11:08:00 -0700 (PDT) Message-ID: <68223900.050a0220.4f994.930cSMTPIN_ADDED_MISSING@mx.google.com> Received: from [172.17.0.2] (unknown [172.18.0.76]) by postal.iol.unh.edu (Postfix) with ESMTP id B178D6052471; Mon, 12 May 2025 14:07:59 -0400 (EDT) Subject: |SUCCESS| pw153425 [PATCH] net/tap: fix add qdisc failed when create From: dpdklab@iol.unh.edu To: Test Report Cc: dpdk-test-reports@iol.unh.edu In-Reply-To: References: Content-Type: text/plain X-BeenThere: test-report@dpdk.org X-Mailman-Version: 2.1.29 Precedence: list List-Id: automatic DPDK test reports List-Unsubscribe: , List-Archive: List-Post: List-Help: List-Subscribe: , Errors-To: test-report-bounces@dpdk.org Test-Label: iol-compile-amd64-testing Test-Status: SUCCESS http://dpdk.org/patch/153425 _Testing PASS_ Submitter: luyan <973788536@qq.com> Date: Monday, May 12 2025 08:22:04 DPDK git baseline: Repo:dpdk Branch: master CommitID:ff05ee3e3f8fb4ce958a2ce6461e8141aea959c6 153425 --> testing pass Upstream job id: Generic-DPDK-Compile-Meson#387360 Test environment and result as below: +-----------------------------------+--------------------+-------------------+------------------+-------------------------+-------------------+----------------------+ | Environment | dpdk_meson_compile | dpdk_compile_spdk | dpdk_compile_ovs | dpdk_llvm_clang_compile | dpdk_msvc_compile | dpdk_mingw64_compile | +===================================+====================+===================+==================+=========================+===================+======================+ | CentOS Stream 9 | PASS | PASS | SKIPPED | SKIPPED | SKIPPED | SKIPPED | +-----------------------------------+--------------------+-------------------+------------------+-------------------------+-------------------+----------------------+ | Debian 12 | PASS | PASS | SKIPPED | SKIPPED | SKIPPED | SKIPPED | +-----------------------------------+--------------------+-------------------+------------------+-------------------------+-------------------+----------------------+ | CentOS Stream 10 | PASS | SKIPPED | SKIPPED | SKIPPED | SKIPPED | SKIPPED | +-----------------------------------+--------------------+-------------------+------------------+-------------------------+-------------------+----------------------+ | Fedora 40 (Clang) | PASS | PASS | SKIPPED | SKIPPED | SKIPPED | SKIPPED | +-----------------------------------+--------------------+-------------------+------------------+-------------------------+-------------------+----------------------+ | Fedora 40 | PASS | PASS | SKIPPED | SKIPPED | SKIPPED | SKIPPED | +-----------------------------------+--------------------+-------------------+------------------+-------------------------+-------------------+----------------------+ | Fedora 41 (Clang) | PASS | PASS | PASS | SKIPPED | SKIPPED | SKIPPED | +-----------------------------------+--------------------+-------------------+------------------+-------------------------+-------------------+----------------------+ | Fedora 41 | PASS | PASS | PASS | SKIPPED | SKIPPED | SKIPPED | +-----------------------------------+--------------------+-------------------+------------------+-------------------------+-------------------+----------------------+ | openSUSE Leap 15 | PASS | SKIPPED | SKIPPED | SKIPPED | SKIPPED | SKIPPED | +-----------------------------------+--------------------+-------------------+------------------+-------------------------+-------------------+----------------------+ | RHEL8 | PASS | SKIPPED | SKIPPED | SKIPPED | SKIPPED | SKIPPED | +-----------------------------------+--------------------+-------------------+------------------+-------------------------+-------------------+----------------------+ | RHEL9 | PASS | SKIPPED | SKIPPED | SKIPPED | SKIPPED | SKIPPED | +-----------------------------------+--------------------+-------------------+------------------+-------------------------+-------------------+----------------------+ | Ubuntu 20.04 | PASS | SKIPPED | SKIPPED | SKIPPED | SKIPPED | SKIPPED | +-----------------------------------+--------------------+-------------------+------------------+-------------------------+-------------------+----------------------+ | Ubuntu 22.04 | PASS | PASS | SKIPPED | SKIPPED | SKIPPED | SKIPPED | +-----------------------------------+--------------------+-------------------+------------------+-------------------------+-------------------+----------------------+ | Ubuntu 24.04 | PASS | PASS | PASS | SKIPPED | SKIPPED | SKIPPED | +-----------------------------------+--------------------+-------------------+------------------+-------------------------+-------------------+----------------------+ | Alpine | PASS | SKIPPED | SKIPPED | SKIPPED | SKIPPED | SKIPPED | +-----------------------------------+--------------------+-------------------+------------------+-------------------------+-------------------+----------------------+ | Ubuntu 24.04 32 Bit Cross Compile | PASS | SKIPPED | SKIPPED | SKIPPED | SKIPPED | SKIPPED | +-----------------------------------+--------------------+-------------------+------------------+-------------------------+-------------------+----------------------+ | FreeBSD 13.5 | PASS | SKIPPED | SKIPPED | SKIPPED | SKIPPED | SKIPPED | +-----------------------------------+--------------------+-------------------+------------------+-------------------------+-------------------+----------------------+ | FreeBSD 14.2 | PASS | SKIPPED | SKIPPED | SKIPPED | SKIPPED | SKIPPED | +-----------------------------------+--------------------+-------------------+------------------+-------------------------+-------------------+----------------------+ | Windows Server 2022 | SKIPPED | SKIPPED | SKIPPED | PASS | PASS | PASS | +-----------------------------------+--------------------+-------------------+------------------+-------------------------+-------------------+----------------------+ CentOS Stream 9 Kernel: Depends on container host Compiler: gcc 11.5.0 20240719 (Red Hat 11.5.0-2) Debian 12 Kernel: Depends on container host Compiler: gcc (Debian 12.2.0-14) 12.2.0 CentOS Stream 10 Kernel: Depends on container host Compiler: gcc 14.2.1 20241104 (Red Hat 14.2.1-6) Fedora 40 (Clang) Kernel: Depends on container host Compiler: clang 18.1.8 (Fedora 18.1.8-1.fc40) Fedora 40 Kernel: Depends on container host Compiler: gcc 14.2.1 20240912 (Red Hat 14.2.1-3) Fedora 41 (Clang) Kernel: Depends on container host Compiler: clang 19.1.5 (Fedora 19.1.5-1.fc41) Fedora 41 Kernel: Depends on container host Compiler: gcc 14.2.1 20240912 (Red Hat 14.2.1-3) openSUSE Leap 15 Kernel: Depends on container host Compiler: gcc (SUSE Linux) 7.5.0 RHEL8 Kernel: Depends on container host Compiler: gcc 8.5.0 20210514 (Red Hat 8.5.0-22) RHEL9 Kernel: Depends on container host Compiler: gcc 11.5.0 20240719 (Red Hat 11.5.0-2) Ubuntu 20.04 Kernel: Depends on container host Compiler: gcc (Ubuntu 9.4.0-1ubuntu1~20.04.2) 9.4.0 Ubuntu 22.04 Kernel: Depends on container host Compiler: gcc (Ubuntu 11.4.0-1ubuntu1~22.04) 11.4.0 Ubuntu 24.04 Kernel: Depends on container host Compiler: gcc (Ubuntu 13.3.0-6ubuntu2~24.04) 13.3.0 Alpine Kernel: Depends on container host Compiler: gcc (Alpine 14.2.0) 14.2.0 Ubuntu 24.04 32 Bit Cross Compile Kernel: Depends on container host Compiler: gcc (Ubuntu 13.3.0-6ubuntu2~24.04) 13.3.0 FreeBSD 13.5 Kernel: 13.5-RELEASE Compiler: clang 19.1.7 FreeBSD 14.2 Kernel: 14.2-RELEASE Compiler: clang 18.1.6 Windows Server 2022 Kernel: 10.0.20348.2031 Compiler: clang 15.0.7, gcc 14.1.0 (MinGW), and MSVC VS 19.39.33521 To view detailed results, visit: https://lab.dpdk.org/results/dashboard/patchsets/33160/ UNH-IOL DPDK Community Lab To manage your email subscriptions, visit: https://lab.dpdk.org/results/dashboard/preferences/subscriptions/