From mboxrd@z Thu Jan 1 00:00:00 1970 Return-Path: Received: from mails.dpdk.org (mails.dpdk.org [217.70.189.124]) by inbox.dpdk.org (Postfix) with ESMTP id F254E4672B for ; Mon, 12 May 2025 20:16:25 +0200 (CEST) Received: from mails.dpdk.org (localhost [127.0.0.1]) by mails.dpdk.org (Postfix) with ESMTP id C5E434026C; Mon, 12 May 2025 20:16:25 +0200 (CEST) Received: from mail-qt1-f225.google.com (mail-qt1-f225.google.com [209.85.160.225]) by mails.dpdk.org (Postfix) with ESMTP id 882784025F for ; Mon, 12 May 2025 20:16:24 +0200 (CEST) Received: by mail-qt1-f225.google.com with SMTP id d75a77b69052e-4774d68c670so80225631cf.0 for ; Mon, 12 May 2025 11:16:24 -0700 (PDT) DKIM-Signature: v=1; a=rsa-sha256; c=relaxed/relaxed; d=iol.unh.edu; s=unh-iol; t=1747073784; x=1747678584; darn=dpdk.org; h=references:in-reply-to:cc:to:from:subject:message-id:date:from:to :cc:subject:date:message-id:reply-to; bh=VslxJDBKBKcwOy56VhJfDdt1h5C5LTMMb9NIBUgoKHs=; b=ienPouu6QXdl/R3lAhDkArPfi3G3QxLG8U5GlNOpbXMr6IT+Y0XygHpMxpyioCszZ5 HEE4rk71QimnM8lzgyszRruNQRryZ248M6aC5MDDtVVSP6jXEKTMvZmyKSv+7PiDlabg EDxMneqmFk/4i5tzWvaQQo6PKl+S041iWCI6A= X-Google-DKIM-Signature: v=1; a=rsa-sha256; c=relaxed/relaxed; d=1e100.net; s=20230601; t=1747073784; x=1747678584; h=references:in-reply-to:cc:to:from:subject:message-id:date :x-gm-message-state:from:to:cc:subject:date:message-id:reply-to; bh=VslxJDBKBKcwOy56VhJfDdt1h5C5LTMMb9NIBUgoKHs=; b=iqcfuEZwPLf6RXUM3BFum+2x4KWAuC0uaSdIoGrk9qRD/kZ6cvwyvMOw055VXbmmzI ELhQuMRBIGjfsnr0IGHIPbpa+dUQ1WhYaG9xG7oateG+WRp86lqjcKt6bHzAI1xE6fTk 9Za7Ccs3Lxnp106zf6dKoHvgdaAJjOTKBXuBEst1fkGk/aZqgWGtX6+ImmzabicyWILJ qs0iR53SfsSvIoi6ep1emrOOYc9LAyHcGlsZHH4GfHkpn1PF5udPni451ylxbSaNgFXM k0WyWYtxVP6RsmodKM0iGs1cbkNpzq2LMB/TyKPKjxAPM8niyTKT+OPbXNycOGHzaclB 6pSA== X-Gm-Message-State: AOJu0Yw4YjjhmZxekc315CNV7VeNERWci2nT/jZEhSQRKPrwothkUOdY K6kWPYN+j6a7Teh0Sz5CUGALZMs7OivNDixXFWq3qktI7ttheyKl29KpzI+DlRx9kdq3ZmVGBHg wmKJHPjlp41xPt1NqFip0an5RGljnbFhZu4wzRl8r X-Gm-Gg: ASbGncsdDp0w2TBUEJEWraKLOAcMYSBOnJbi041Ht23IBCr9jeXT6SQcAw+Bz18e2bB +T7OwUYsybtdwLV6KRux+Tb8o0TgdGkwl4iwFFoxumtG0RYLHrf2IcGDXgU2RCZW1gJDoEWszXq GErLVs8LtETUYEcROq8gGhVNxv5zDRUcL4kcgU0ZkJCReHUGPz8n7jDJyWUvlcx8hm5bEciUMUz FmCm2RYOLn8wM8L4dYpDrR6PqQ14EY55oxHC4HAp2pjSel8DY+dafQABWUm3zQpjubBsIBesetK VuYGkqxk1OEwzl8hXbXxpfOpJYh8fjbR5wOHpzdKE/d7QyinWFt1P4PsimA= X-Google-Smtp-Source: AGHT+IF4K6OUN9HyxaHsNCGsTBRtoZSt3ulhq1FU6/yI+4L949NkPlH8khbXkdK/o9p9cgGnw9x1XY8dSsvO X-Received: by 2002:ac8:5a95:0:b0:48a:2a08:cbee with SMTP id d75a77b69052e-494527def20mr225888061cf.47.1747073783767; Mon, 12 May 2025 11:16:23 -0700 (PDT) Received: from postal.iol.unh.edu (postal.iol.unh.edu. [132.177.123.84]) by smtp-relay.gmail.com with ESMTPS id d75a77b69052e-49452484c92sm1856201cf.14.2025.05.12.11.16.23 (version=TLS1_2 cipher=ECDHE-ECDSA-AES128-GCM-SHA256 bits=128/128); Mon, 12 May 2025 11:16:23 -0700 (PDT) X-Relaying-Domain: iol.unh.edu Date: Mon, 12 May 2025 11:16:23 -0700 (PDT) Message-ID: <68223af7.050a0220.29f7d1.9ad8SMTPIN_ADDED_MISSING@mx.google.com> Received: from [172.17.0.2] (unknown [172.18.0.76]) by postal.iol.unh.edu (Postfix) with ESMTP id 7A7196052471; Mon, 12 May 2025 14:16:23 -0400 (EDT) Subject: |SUCCESS| pw153425 [PATCH] net/tap: fix add qdisc failed when create From: dpdklab@iol.unh.edu To: Test Report Cc: dpdk-test-reports@iol.unh.edu In-Reply-To: References: Content-Type: text/plain X-BeenThere: test-report@dpdk.org X-Mailman-Version: 2.1.29 Precedence: list List-Id: automatic DPDK test reports List-Unsubscribe: , List-Archive: List-Post: List-Help: List-Subscribe: , Errors-To: test-report-bounces@dpdk.org Test-Label: iol-sample-apps-testing Test-Status: SUCCESS http://dpdk.org/patch/153425 _Testing PASS_ Submitter: luyan <973788536@qq.com> Date: Monday, May 12 2025 08:22:04 DPDK git baseline: Repo:dpdk Branch: master CommitID:ff05ee3e3f8fb4ce958a2ce6461e8141aea959c6 153425 --> testing pass Upstream job id: ACVP-FIPS-testing#9789 Test environment and result as below: +--------------------+----------------------+----------------------+ | Environment | compressdev_zlib_pmd | dpdk_fips_validation | +====================+======================+======================+ | Ubuntu 22.04 (ARM) | PASS | SKIPPED | +--------------------+----------------------+----------------------+ | Ubuntu 22.04 | PASS | SKIPPED | +--------------------+----------------------+----------------------+ | Ubuntu 20.04 | SKIPPED | PASS | +--------------------+----------------------+----------------------+ Ubuntu 22.04 (ARM) Kernel: 5.15.0-97-generic Compiler: gcc gcc (Ubuntu 11.4.0-1ubuntu1~22.04) 11.4.0 Ubuntu 22.04 Kernel: 5.15.0-100-generic Compiler: gcc gcc (Ubuntu 11.4.0-1ubuntu1~22.04) 11.4.0 Ubuntu 20.04 Kernel: Depends on container host Compiler: gcc (Ubuntu 9.4.0-1ubuntu1~20.04.2) 9.4.0 To view detailed results, visit: https://lab.dpdk.org/results/dashboard/patchsets/33160/ UNH-IOL DPDK Community Lab To manage your email subscriptions, visit: https://lab.dpdk.org/results/dashboard/preferences/subscriptions/